BEGIN:VCALENDAR
VERSION:2.0
PRODID:-//134.96.226.213//NONSGML kigkonsult.se iCalcreator 2.41.71//
CALSCALE:GREGORIAN
METHOD:PUBLISH
UID:38383136-3539-4239-b836-303562373335
X-WR-CALNAME:Introduction to Theoretical Computer Science Calendar
X-WR-CALDESC:Events of the lecture Introduction to Theoretical Computer Sci
 ence
X-WR-TIMEZONE:Europe/Berlin
BEGIN:VEVENT
UID:65353230-3861-4636-b461-653063316533
DTSTAMP:20260420T184124Z
DESCRIPTION:Everyone gets assigned a time slot. You can find it on your per
 sonal status page.
DTSTART:20250306T093000Z
DTEND:20250306T130000Z
LOCATION:E1.7 room 0.01
SUMMARY:Ti2425: Endterm Exam Inspection
END:VEVENT
END:VCALENDAR
