BEGIN:VCALENDAR
VERSION:2.0
PRODID:-//134.96.226.213//NONSGML kigkonsult.se iCalcreator 2.41.71//
CALSCALE:GREGORIAN
METHOD:PUBLISH
UID:64636134-3334-4437-b863-306265626436
X-WR-CALNAME:Introduction to Theoretical Computer Science Calendar
X-WR-CALDESC:Events of the lecture Introduction to Theoretical Computer Sci
 ence
X-WR-TIMEZONE:Europe/Berlin
BEGIN:VEVENT
UID:33303936-3739-4937-b838-323335323462
DTSTAMP:20260420T165414Z
DESCRIPTION:Everyone gets assigned a time slot. You can find it on your per
 sonal status page.
DTSTART:20250306T093000Z
DTEND:20250306T130000Z
LOCATION:E1.7 room 0.01
SUMMARY:Endterm Exam Inspection
END:VEVENT
END:VCALENDAR
