BEGIN:VCALENDAR
VERSION:2.0
PRODID:-//134.96.226.213//NONSGML kigkonsult.se iCalcreator 2.41.71//
CALSCALE:GREGORIAN
METHOD:PUBLISH
UID:35333032-3533-4931-b437-373435346533
X-WR-CALNAME:Introduction to Theoretical Computer Science Calendar
X-WR-CALDESC:Events of the lecture Introduction to Theoretical Computer Sci
 ence
X-WR-TIMEZONE:Europe/Berlin
BEGIN:VEVENT
UID:38396264-6436-4932-b164-636266396439
DTSTAMP:20260420T165527Z
DESCRIPTION:
DTSTART:20250220T130000Z
DTEND:20250220T160000Z
SUMMARY:Ti2425: Endterm
END:VEVENT
BEGIN:VEVENT
UID:65666165-3666-4830-a163-366234333335
DTSTAMP:20260420T165527Z
DESCRIPTION:
DTSTART:20250326T080000Z
DTEND:20250326T110000Z
SUMMARY:Ti2425: Reexam
END:VEVENT
END:VCALENDAR
