BEGIN:VCALENDAR
VERSION:2.0
PRODID:-//134.96.226.213//NONSGML kigkonsult.se iCalcreator 2.41.71//
CALSCALE:GREGORIAN
METHOD:PUBLISH
UID:34613662-3064-4638-b133-306239393931
X-WR-CALNAME:Introduction to Theoretical Computer Science Calendar
X-WR-CALDESC:Events of the lecture Introduction to Theoretical Computer Sci
 ence
X-WR-TIMEZONE:Europe/Berlin
BEGIN:VEVENT
UID:62303866-6161-4234-b064-333034316363
DTSTAMP:20260420T165528Z
DESCRIPTION:
DTSTART:20241023T080000Z
DTEND:20241023T100000Z
LOCATION:E1.3 SR 015
SUMMARY:Ti2425: Office Hour
END:VEVENT
BEGIN:VEVENT
UID:36326633-3264-4330-b963-333433306130
DTSTAMP:20260420T165528Z
DESCRIPTION:
DTSTART:20241024T120000Z
DTEND:20241024T140000Z
LOCATION:E1.3 SR 015
SUMMARY:Ti2425: Office Hour
END:VEVENT
BEGIN:VEVENT
UID:37336663-6431-4664-a634-336135306438
DTSTAMP:20260420T165528Z
DESCRIPTION:
DTSTART:20241030T090000Z
DTEND:20241030T110000Z
LOCATION:E1.3 SR 015
SUMMARY:Ti2425: Office Hour
END:VEVENT
BEGIN:VEVENT
UID:38393231-6134-4730-b765-306331366161
DTSTAMP:20260420T165528Z
DESCRIPTION:
DTSTART:20241031T130000Z
DTEND:20241031T150000Z
LOCATION:E1.3 SR 015
SUMMARY:Ti2425: Office Hour
END:VEVENT
BEGIN:VEVENT
UID:66616337-3137-4230-a436-313636373734
DTSTAMP:20260420T165528Z
DESCRIPTION:
DTSTART:20241106T090000Z
DTEND:20241106T110000Z
LOCATION:E1.3 SR 015
SUMMARY:Ti2425: Office Hour
END:VEVENT
BEGIN:VEVENT
UID:32626566-6232-4732-a263-636262333331
DTSTAMP:20260420T165528Z
DESCRIPTION:
DTSTART:20241107T130000Z
DTEND:20241107T150000Z
LOCATION:E1.3 SR 015
SUMMARY:Ti2425: Office Hour
END:VEVENT
BEGIN:VEVENT
UID:31626436-6566-4263-b063-623734626636
DTSTAMP:20260420T165528Z
DESCRIPTION:
DTSTART:20241113T090000Z
DTEND:20241113T110000Z
LOCATION:E1.3 SR 015
SUMMARY:Ti2425: Office Hour
END:VEVENT
BEGIN:VEVENT
UID:62396238-6437-4461-a265-336661306639
DTSTAMP:20260420T165528Z
DESCRIPTION:
DTSTART:20241114T130000Z
DTEND:20241114T150000Z
LOCATION:E1.3 SR 015
SUMMARY:Ti2425: Office Hour
END:VEVENT
BEGIN:VEVENT
UID:33623732-3633-4034-b364-626430346330
DTSTAMP:20260420T165528Z
DESCRIPTION:
DTSTART:20241120T090000Z
DTEND:20241120T110000Z
LOCATION:E1.3 SR 015
SUMMARY:Ti2425: Office Hour
END:VEVENT
BEGIN:VEVENT
UID:64393166-3664-4761-a165-663332363136
DTSTAMP:20260420T165528Z
DESCRIPTION:
DTSTART:20241121T130000Z
DTEND:20241121T150000Z
LOCATION:E1.3 SR 015
SUMMARY:Ti2425: Office Hour
END:VEVENT
BEGIN:VEVENT
UID:33623262-3564-4662-a561-373233383434
DTSTAMP:20260420T165528Z
DESCRIPTION:
DTSTART:20241127T090000Z
DTEND:20241127T110000Z
LOCATION:E1.3 SR 015
SUMMARY:Ti2425: Office Hour
END:VEVENT
BEGIN:VEVENT
UID:61353062-6136-4363-a232-353732653636
DTSTAMP:20260420T165528Z
DESCRIPTION:
DTSTART:20241128T130000Z
DTEND:20241128T150000Z
LOCATION:E1.3 SR 015
SUMMARY:Ti2425: Office Hour
END:VEVENT
BEGIN:VEVENT
UID:32316365-3232-4931-a331-376330623935
DTSTAMP:20260420T165528Z
DESCRIPTION:
DTSTART:20241204T090000Z
DTEND:20241204T110000Z
LOCATION:E1.3 SR 015
SUMMARY:Ti2425: Office Hour
END:VEVENT
BEGIN:VEVENT
UID:34623966-3839-4630-b632-366538363361
DTSTAMP:20260420T165528Z
DESCRIPTION:
DTSTART:20241205T130000Z
DTEND:20241205T150000Z
LOCATION:E1.3 SR 015
SUMMARY:Ti2425: Office Hour
END:VEVENT
BEGIN:VEVENT
UID:30373234-6331-4530-a338-613636313835
DTSTAMP:20260420T165528Z
DESCRIPTION:
DTSTART:20241211T090000Z
DTEND:20241211T110000Z
LOCATION:E1.3 SR 015
SUMMARY:Ti2425: Office Hour
END:VEVENT
BEGIN:VEVENT
UID:38393530-3462-4031-b537-643061663338
DTSTAMP:20260420T165528Z
DESCRIPTION:
DTSTART:20241212T130000Z
DTEND:20241212T150000Z
LOCATION:E1.3 SR 015
SUMMARY:Ti2425: Office Hour
END:VEVENT
BEGIN:VEVENT
UID:64333863-3461-4136-b762-393264633261
DTSTAMP:20260420T165528Z
DESCRIPTION:
DTSTART:20241218T090000Z
DTEND:20241218T110000Z
LOCATION:E1.3 SR 015
SUMMARY:Ti2425: Office Hour
END:VEVENT
BEGIN:VEVENT
UID:37633163-6130-4536-a165-363536616564
DTSTAMP:20260420T165528Z
DESCRIPTION:
DTSTART:20241219T130000Z
DTEND:20241219T150000Z
LOCATION:E1.3 SR 015
SUMMARY:Ti2425: Office Hour
END:VEVENT
BEGIN:VEVENT
UID:39306635-6331-4239-a663-316265653032
DTSTAMP:20260420T165528Z
DESCRIPTION:
DTSTART:20250108T090000Z
DTEND:20250108T110000Z
LOCATION:E1.3 SR 015
SUMMARY:Ti2425: Office Hour
END:VEVENT
BEGIN:VEVENT
UID:64653165-3364-4966-b763-323436653831
DTSTAMP:20260420T165528Z
DESCRIPTION:
DTSTART:20250109T130000Z
DTEND:20250109T150000Z
LOCATION:E1.3 SR 015
SUMMARY:Ti2425: Office Hour
END:VEVENT
BEGIN:VEVENT
UID:39316531-3165-4362-a335-386537653163
DTSTAMP:20260420T165528Z
DESCRIPTION:
DTSTART:20250115T090000Z
DTEND:20250115T110000Z
LOCATION:E1.3 SR 015
SUMMARY:Ti2425: Office Hour
END:VEVENT
BEGIN:VEVENT
UID:35313963-3165-4162-a261-356139343735
DTSTAMP:20260420T165528Z
DESCRIPTION:
DTSTART:20250116T130000Z
DTEND:20250116T150000Z
LOCATION:E1.3 SR 015
SUMMARY:Ti2425: Office Hour
END:VEVENT
BEGIN:VEVENT
UID:31353864-6536-4665-a132-306631303536
DTSTAMP:20260420T165528Z
DESCRIPTION:
DTSTART:20250122T090000Z
DTEND:20250122T110000Z
LOCATION:E1.3 SR 015
SUMMARY:Ti2425: Office Hour
END:VEVENT
BEGIN:VEVENT
UID:63313730-3632-4030-a263-396462646663
DTSTAMP:20260420T165528Z
DESCRIPTION:
DTSTART:20250123T130000Z
DTEND:20250123T150000Z
LOCATION:E1.3 SR 015
SUMMARY:Ti2425: Office Hour
END:VEVENT
BEGIN:VEVENT
UID:38376539-3930-4430-a262-616461313636
DTSTAMP:20260420T165528Z
DESCRIPTION:
DTSTART:20250129T090000Z
DTEND:20250129T110000Z
LOCATION:E1.3 SR 015
SUMMARY:Ti2425: Office Hour
END:VEVENT
BEGIN:VEVENT
UID:62346536-3865-4337-b832-653939343336
DTSTAMP:20260420T165528Z
DESCRIPTION:
DTSTART:20250130T130000Z
DTEND:20250130T150000Z
LOCATION:E1.3 SR 015
SUMMARY:Ti2425: Office Hour
END:VEVENT
BEGIN:VEVENT
UID:31626463-6236-4362-a166-646539343635
DTSTAMP:20260420T165528Z
DESCRIPTION:
DTSTART:20250205T090000Z
DTEND:20250205T110000Z
LOCATION:E1.3 SR 015
SUMMARY:Ti2425: Office Hour
END:VEVENT
BEGIN:VEVENT
UID:32363239-3333-4632-b836-646261316362
DTSTAMP:20260420T165528Z
DESCRIPTION:
DTSTART:20250206T130000Z
DTEND:20250206T150000Z
LOCATION:E1.3 SR 015
SUMMARY:Ti2425: Office Hour
END:VEVENT
BEGIN:VEVENT
UID:36646161-3766-4332-b937-373364663839
DTSTAMP:20260420T165528Z
DESCRIPTION:For your last minute questions
DTSTART:20250214T110000Z
DTEND:20250214T150000Z
LOCATION:E1.3 SR 014
SUMMARY:Ti2425: Last Minute ™️ Office Hour
END:VEVENT
BEGIN:VEVENT
UID:62343266-6230-4261-a138-343934643630
DTSTAMP:20260420T165528Z
DESCRIPTION:For your last last minute questions
DTSTART:20250219T110000Z
DTEND:20250219T150000Z
LOCATION:E1.3 SR 014
SUMMARY:Ti2425: Last Last Minute ™️ Office Hour
END:VEVENT
END:VCALENDAR
