BEGIN:VCALENDAR
VERSION:2.0
PRODID:-//134.96.226.213//NONSGML kigkonsult.se iCalcreator 2.41.71//
CALSCALE:GREGORIAN
METHOD:PUBLISH
UID:36656637-6337-4839-b663-666665633931
X-WR-CALNAME:Introduction to Theoretical Computer Science Calendar
X-WR-CALDESC:Events of the lecture Introduction to Theoretical Computer Sci
 ence
X-WR-TIMEZONE:Europe/Berlin
BEGIN:VEVENT
UID:36373466-6262-4635-b563-666631373139
DTSTAMP:20260420T165358Z
DESCRIPTION:
DTSTART:20241023T080000Z
DTEND:20241023T100000Z
LOCATION:E1.3 SR 015
SUMMARY:Office Hour
END:VEVENT
BEGIN:VEVENT
UID:61373462-3938-4135-b933-633533326536
DTSTAMP:20260420T165358Z
DESCRIPTION:
DTSTART:20241024T120000Z
DTEND:20241024T140000Z
LOCATION:E1.3 SR 015
SUMMARY:Office Hour
END:VEVENT
BEGIN:VEVENT
UID:66373463-6135-4461-a637-636235643031
DTSTAMP:20260420T165358Z
DESCRIPTION:
DTSTART:20241030T090000Z
DTEND:20241030T110000Z
LOCATION:E1.3 SR 015
SUMMARY:Office Hour
END:VEVENT
BEGIN:VEVENT
UID:35646562-3465-4035-b636-636166636330
DTSTAMP:20260420T165358Z
DESCRIPTION:
DTSTART:20241031T130000Z
DTEND:20241031T150000Z
LOCATION:E1.3 SR 015
SUMMARY:Office Hour
END:VEVENT
BEGIN:VEVENT
UID:30336532-6134-4432-b162-386631646335
DTSTAMP:20260420T165358Z
DESCRIPTION:
DTSTART:20241106T090000Z
DTEND:20241106T110000Z
LOCATION:E1.3 SR 015
SUMMARY:Office Hour
END:VEVENT
BEGIN:VEVENT
UID:35386464-6334-4332-a233-663630323265
DTSTAMP:20260420T165358Z
DESCRIPTION:
DTSTART:20241107T130000Z
DTEND:20241107T150000Z
LOCATION:E1.3 SR 015
SUMMARY:Office Hour
END:VEVENT
BEGIN:VEVENT
UID:66303938-6239-4366-a430-393938326630
DTSTAMP:20260420T165358Z
DESCRIPTION:
DTSTART:20241113T090000Z
DTEND:20241113T110000Z
LOCATION:E1.3 SR 015
SUMMARY:Office Hour
END:VEVENT
BEGIN:VEVENT
UID:33326439-3836-4661-b738-653930613865
DTSTAMP:20260420T165358Z
DESCRIPTION:
DTSTART:20241114T130000Z
DTEND:20241114T150000Z
LOCATION:E1.3 SR 015
SUMMARY:Office Hour
END:VEVENT
BEGIN:VEVENT
UID:66313964-6231-4434-b939-346233643361
DTSTAMP:20260420T165358Z
DESCRIPTION:
DTSTART:20241120T090000Z
DTEND:20241120T110000Z
LOCATION:E1.3 SR 015
SUMMARY:Office Hour
END:VEVENT
BEGIN:VEVENT
UID:32363134-6632-4335-a564-336336633365
DTSTAMP:20260420T165358Z
DESCRIPTION:
DTSTART:20241121T130000Z
DTEND:20241121T150000Z
LOCATION:E1.3 SR 015
SUMMARY:Office Hour
END:VEVENT
BEGIN:VEVENT
UID:64303539-3637-4565-b063-636433326630
DTSTAMP:20260420T165358Z
DESCRIPTION:
DTSTART:20241127T090000Z
DTEND:20241127T110000Z
LOCATION:E1.3 SR 015
SUMMARY:Office Hour
END:VEVENT
BEGIN:VEVENT
UID:62613534-3738-4835-b862-333638383563
DTSTAMP:20260420T165358Z
DESCRIPTION:
DTSTART:20241128T130000Z
DTEND:20241128T150000Z
LOCATION:E1.3 SR 015
SUMMARY:Office Hour
END:VEVENT
BEGIN:VEVENT
UID:30616435-3862-4435-b863-303363656632
DTSTAMP:20260420T165358Z
DESCRIPTION:
DTSTART:20241204T090000Z
DTEND:20241204T110000Z
LOCATION:E1.3 SR 015
SUMMARY:Office Hour
END:VEVENT
BEGIN:VEVENT
UID:66353461-3432-4933-b739-663838636236
DTSTAMP:20260420T165358Z
DESCRIPTION:
DTSTART:20241205T130000Z
DTEND:20241205T150000Z
LOCATION:E1.3 SR 015
SUMMARY:Office Hour
END:VEVENT
BEGIN:VEVENT
UID:37333437-6264-4865-a363-626331613563
DTSTAMP:20260420T165358Z
DESCRIPTION:
DTSTART:20241211T090000Z
DTEND:20241211T110000Z
LOCATION:E1.3 SR 015
SUMMARY:Office Hour
END:VEVENT
BEGIN:VEVENT
UID:61333439-3836-4264-b630-386338363030
DTSTAMP:20260420T165358Z
DESCRIPTION:
DTSTART:20241212T130000Z
DTEND:20241212T150000Z
LOCATION:E1.3 SR 015
SUMMARY:Office Hour
END:VEVENT
BEGIN:VEVENT
UID:35303137-3233-4566-b663-343038393039
DTSTAMP:20260420T165358Z
DESCRIPTION:
DTSTART:20241218T090000Z
DTEND:20241218T110000Z
LOCATION:E1.3 SR 015
SUMMARY:Office Hour
END:VEVENT
BEGIN:VEVENT
UID:62313036-6636-4939-b138-616133323533
DTSTAMP:20260420T165358Z
DESCRIPTION:
DTSTART:20241219T130000Z
DTEND:20241219T150000Z
LOCATION:E1.3 SR 015
SUMMARY:Office Hour
END:VEVENT
BEGIN:VEVENT
UID:37613233-3037-4330-b935-663663393665
DTSTAMP:20260420T165358Z
DESCRIPTION:
DTSTART:20250108T090000Z
DTEND:20250108T110000Z
LOCATION:E1.3 SR 015
SUMMARY:Office Hour
END:VEVENT
BEGIN:VEVENT
UID:63356533-3965-4436-a666-643537616330
DTSTAMP:20260420T165358Z
DESCRIPTION:
DTSTART:20250109T130000Z
DTEND:20250109T150000Z
LOCATION:E1.3 SR 015
SUMMARY:Office Hour
END:VEVENT
BEGIN:VEVENT
UID:30663938-3865-4666-b061-366561633966
DTSTAMP:20260420T165358Z
DESCRIPTION:
DTSTART:20250115T090000Z
DTEND:20250115T110000Z
LOCATION:E1.3 SR 015
SUMMARY:Office Hour
END:VEVENT
BEGIN:VEVENT
UID:39306138-6264-4435-a662-303863663961
DTSTAMP:20260420T165358Z
DESCRIPTION:
DTSTART:20250116T130000Z
DTEND:20250116T150000Z
LOCATION:E1.3 SR 015
SUMMARY:Office Hour
END:VEVENT
BEGIN:VEVENT
UID:64396237-3865-4566-a662-336134333864
DTSTAMP:20260420T165358Z
DESCRIPTION:
DTSTART:20250122T090000Z
DTEND:20250122T110000Z
LOCATION:E1.3 SR 015
SUMMARY:Office Hour
END:VEVENT
BEGIN:VEVENT
UID:38653764-6565-4638-a531-333239666431
DTSTAMP:20260420T165358Z
DESCRIPTION:
DTSTART:20250123T130000Z
DTEND:20250123T150000Z
LOCATION:E1.3 SR 015
SUMMARY:Office Hour
END:VEVENT
BEGIN:VEVENT
UID:65666531-3837-4032-b631-383566373138
DTSTAMP:20260420T165358Z
DESCRIPTION:
DTSTART:20250129T090000Z
DTEND:20250129T110000Z
LOCATION:E1.3 SR 015
SUMMARY:Office Hour
END:VEVENT
BEGIN:VEVENT
UID:34396462-6237-4933-b961-383935383138
DTSTAMP:20260420T165358Z
DESCRIPTION:
DTSTART:20250130T130000Z
DTEND:20250130T150000Z
LOCATION:E1.3 SR 015
SUMMARY:Office Hour
END:VEVENT
BEGIN:VEVENT
UID:37663161-6464-4331-a434-643165303430
DTSTAMP:20260420T165358Z
DESCRIPTION:
DTSTART:20250205T090000Z
DTEND:20250205T110000Z
LOCATION:E1.3 SR 015
SUMMARY:Office Hour
END:VEVENT
BEGIN:VEVENT
UID:38356665-6265-4531-b830-613561393935
DTSTAMP:20260420T165358Z
DESCRIPTION:
DTSTART:20250206T130000Z
DTEND:20250206T150000Z
LOCATION:E1.3 SR 015
SUMMARY:Office Hour
END:VEVENT
BEGIN:VEVENT
UID:32346564-3265-4336-b236-333061303232
DTSTAMP:20260420T165358Z
DESCRIPTION:For your last minute questions
DTSTART:20250214T110000Z
DTEND:20250214T150000Z
LOCATION:E1.3 SR 014
SUMMARY:Last Minute ™️ Office Hour
END:VEVENT
BEGIN:VEVENT
UID:34656232-3133-4335-a138-646532633066
DTSTAMP:20260420T165358Z
DESCRIPTION:For your last last minute questions
DTSTART:20250219T110000Z
DTEND:20250219T150000Z
LOCATION:E1.3 SR 014
SUMMARY:Last Last Minute ™️ Office Hour
END:VEVENT
END:VCALENDAR
