BEGIN:VCALENDAR
VERSION:2.0
PRODID:-//134.96.226.213//NONSGML kigkonsult.se iCalcreator 2.41.71//
CALSCALE:GREGORIAN
METHOD:PUBLISH
UID:35646466-3535-4361-b265-366361383234
X-WR-CALNAME:Introduction to Theoretical Computer Science Calendar
X-WR-CALDESC:Events of the lecture Introduction to Theoretical Computer Sci
 ence
X-WR-TIMEZONE:Europe/Berlin
BEGIN:VEVENT
UID:65346136-6533-4236-a330-333864626562
DTSTAMP:20260420T184126Z
DESCRIPTION:
DTSTART:20241022T060000Z
DTEND:20241022T160000Z
LOCATION:Rooms 014\, 015\, 016\, 017
SUMMARY:Ti2425: Tutorials
END:VEVENT
BEGIN:VEVENT
UID:66626265-3034-4734-b030-353966616166
DTSTAMP:20260420T184126Z
DESCRIPTION:
DTSTART:20241029T070000Z
DTEND:20241029T170000Z
LOCATION:Rooms 014\, 015\, 016\, 017
SUMMARY:Ti2425: Tutorials
END:VEVENT
BEGIN:VEVENT
UID:38333963-6135-4262-b139-626561613462
DTSTAMP:20260420T184126Z
DESCRIPTION:
DTSTART:20241105T070000Z
DTEND:20241105T170000Z
LOCATION:Rooms 014\, 015\, 016\, 017
SUMMARY:Ti2425: Tutorials
END:VEVENT
BEGIN:VEVENT
UID:33613062-3366-4266-a562-383166613865
DTSTAMP:20260420T184126Z
DESCRIPTION:
DTSTART:20241112T070000Z
DTEND:20241112T170000Z
LOCATION:Rooms 014\, 015\, 016\, 017
SUMMARY:Ti2425: Tutorials
END:VEVENT
BEGIN:VEVENT
UID:36663030-3738-4263-b964-666432316264
DTSTAMP:20260420T184126Z
DESCRIPTION:
DTSTART:20241119T070000Z
DTEND:20241119T170000Z
LOCATION:Rooms 014\, 015\, 016\, 017
SUMMARY:Ti2425: Tutorials
END:VEVENT
BEGIN:VEVENT
UID:38346632-3932-4137-a135-346230373533
DTSTAMP:20260420T184126Z
DESCRIPTION:
DTSTART:20241126T070000Z
DTEND:20241126T170000Z
LOCATION:Rooms 014\, 015\, 016\, 017
SUMMARY:Ti2425: Tutorials
END:VEVENT
BEGIN:VEVENT
UID:36373532-3965-4435-b066-333331353435
DTSTAMP:20260420T184126Z
DESCRIPTION:
DTSTART:20241203T070000Z
DTEND:20241203T170000Z
LOCATION:Rooms 014\, 015\, 016\, 017
SUMMARY:Ti2425: Tutorials
END:VEVENT
BEGIN:VEVENT
UID:33643633-3065-4438-a563-306139626231
DTSTAMP:20260420T184126Z
DESCRIPTION:
DTSTART:20241210T070000Z
DTEND:20241210T170000Z
LOCATION:Rooms 014\, 015\, 016\, 017
SUMMARY:Ti2425: Tutorials
END:VEVENT
BEGIN:VEVENT
UID:64336165-3936-4564-b637-616364396366
DTSTAMP:20260420T184126Z
DESCRIPTION:
DTSTART:20241217T070000Z
DTEND:20241217T170000Z
LOCATION:Rooms 014\, 015\, 016\, 017
SUMMARY:Ti2425: Tutorials
END:VEVENT
BEGIN:VEVENT
UID:30323232-3432-4934-a535-366539616635
DTSTAMP:20260420T184126Z
DESCRIPTION:
DTSTART:20250107T070000Z
DTEND:20250107T170000Z
LOCATION:Rooms 014\, 015\, 016\, 017
SUMMARY:Ti2425: Tutorials
END:VEVENT
BEGIN:VEVENT
UID:39323139-3761-4432-a330-313765323563
DTSTAMP:20260420T184126Z
DESCRIPTION:
DTSTART:20250114T070000Z
DTEND:20250114T170000Z
LOCATION:Rooms 014\, 015\, 016\, 017
SUMMARY:Ti2425: Tutorials
END:VEVENT
BEGIN:VEVENT
UID:64346564-3433-4837-b764-643631366135
DTSTAMP:20260420T184126Z
DESCRIPTION:
DTSTART:20250121T070000Z
DTEND:20250121T170000Z
LOCATION:Rooms 014\, 015\, 016\, 017
SUMMARY:Ti2425: Tutorials
END:VEVENT
BEGIN:VEVENT
UID:33626564-6336-4362-b831-363931356662
DTSTAMP:20260420T184126Z
DESCRIPTION:
DTSTART:20250128T070000Z
DTEND:20250128T170000Z
LOCATION:Rooms 014\, 015\, 016\, 017
SUMMARY:Ti2425: Tutorials
END:VEVENT
BEGIN:VEVENT
UID:62393462-3134-4664-a439-653132383630
DTSTAMP:20260420T184126Z
DESCRIPTION:Special tutorial for NP/NP-completeness. See CMS announcements.
DTSTART:20250129T150000Z
DTEND:20250129T180000Z
LOCATION:E2.5\, lecture hall 1
SUMMARY:Ti2425: Special NP Tutorial
END:VEVENT
BEGIN:VEVENT
UID:32323639-3335-4431-b039-633239653832
DTSTAMP:20260420T184126Z
DESCRIPTION:
DTSTART:20250204T070000Z
DTEND:20250204T170000Z
LOCATION:Rooms 014\, 015\, 016\, 017
SUMMARY:Ti2425: Tutorials
END:VEVENT
END:VCALENDAR
