BEGIN:VCALENDAR
VERSION:2.0
PRODID:-//134.96.226.213//NONSGML kigkonsult.se iCalcreator 2.41.71//
CALSCALE:GREGORIAN
METHOD:PUBLISH
UID:34303261-3866-4030-b935-356466343965
X-WR-CALNAME:Introduction to Theoretical Computer Science Calendar
X-WR-CALDESC:Events of the lecture Introduction to Theoretical Computer Sci
 ence
X-WR-TIMEZONE:Europe/Berlin
BEGIN:VEVENT
UID:65363666-6134-4764-b162-613731663563
DTSTAMP:20260420T165544Z
DESCRIPTION:
DTSTART:20241016T120000Z
DTEND:20241016T140000Z
LOCATION:GHH
SUMMARY:Ti2425: Lecture
END:VEVENT
BEGIN:VEVENT
UID:32646262-6638-4465-b964-623537336439
DTSTAMP:20260420T165544Z
DESCRIPTION:
DTSTART:20241018T060000Z
DTEND:20241018T080000Z
SUMMARY:Ti2425: Lecture
END:VEVENT
BEGIN:VEVENT
UID:39393733-3835-4366-b136-646633613132
DTSTAMP:20260420T165544Z
DESCRIPTION:
DTSTART:20241023T120000Z
DTEND:20241023T140000Z
LOCATION:GHH
SUMMARY:Ti2425: Lecture
END:VEVENT
BEGIN:VEVENT
UID:61396637-6430-4265-a430-383562383433
DTSTAMP:20260420T165544Z
DESCRIPTION:
DTSTART:20241025T060000Z
DTEND:20241025T080000Z
SUMMARY:Ti2425: Lecture
END:VEVENT
BEGIN:VEVENT
UID:37666139-3562-4232-a262-643737336665
DTSTAMP:20260420T165544Z
DESCRIPTION:
DTSTART:20241030T130000Z
DTEND:20241030T150000Z
LOCATION:GHH
SUMMARY:Ti2425: Lecture
END:VEVENT
BEGIN:VEVENT
UID:64623231-3035-4738-b164-653436613736
DTSTAMP:20260420T165544Z
DESCRIPTION:
DTSTART:20241106T130000Z
DTEND:20241106T150000Z
LOCATION:GHH
SUMMARY:Ti2425: Lecture
END:VEVENT
BEGIN:VEVENT
UID:66613761-3630-4532-b764-356562386462
DTSTAMP:20260420T165544Z
DESCRIPTION:
DTSTART:20241108T070000Z
DTEND:20241108T090000Z
SUMMARY:Ti2425: Lecture
END:VEVENT
BEGIN:VEVENT
UID:33613238-3334-4136-a233-633334626339
DTSTAMP:20260420T165544Z
DESCRIPTION:
DTSTART:20241113T130000Z
DTEND:20241113T150000Z
LOCATION:GHH
SUMMARY:Ti2425: Lecture
END:VEVENT
BEGIN:VEVENT
UID:37306630-3334-4335-b537-666434326533
DTSTAMP:20260420T165544Z
DESCRIPTION:
DTSTART:20241115T070000Z
DTEND:20241115T090000Z
SUMMARY:Ti2425: Lecture
END:VEVENT
BEGIN:VEVENT
UID:36666437-3465-4332-a362-356136363138
DTSTAMP:20260420T165544Z
DESCRIPTION:
DTSTART:20241120T130000Z
DTEND:20241120T150000Z
LOCATION:GHH
SUMMARY:Ti2425: Lecture
END:VEVENT
BEGIN:VEVENT
UID:66623735-6139-4738-b236-633137636165
DTSTAMP:20260420T165544Z
DESCRIPTION:
DTSTART:20241122T070000Z
DTEND:20241122T090000Z
SUMMARY:Ti2425: Lecture
END:VEVENT
BEGIN:VEVENT
UID:36626465-3861-4333-b033-643363633038
DTSTAMP:20260420T165544Z
DESCRIPTION:
DTSTART:20241127T130000Z
DTEND:20241127T150000Z
LOCATION:GHH
SUMMARY:Ti2425: Lecture
END:VEVENT
BEGIN:VEVENT
UID:37323662-6332-4461-a637-333139336262
DTSTAMP:20260420T165544Z
DESCRIPTION:
DTSTART:20241129T070000Z
DTEND:20241129T090000Z
SUMMARY:Ti2425: Lecture
END:VEVENT
BEGIN:VEVENT
UID:33633163-3866-4466-b432-323631663662
DTSTAMP:20260420T165544Z
DESCRIPTION:
DTSTART:20241204T130000Z
DTEND:20241204T150000Z
LOCATION:GHH
SUMMARY:Ti2425: Lecture
END:VEVENT
BEGIN:VEVENT
UID:66326438-6632-4635-a236-643137343334
DTSTAMP:20260420T165544Z
DESCRIPTION:
DTSTART:20241206T070000Z
DTEND:20241206T090000Z
SUMMARY:Ti2425: Lecture
END:VEVENT
BEGIN:VEVENT
UID:33633966-6138-4661-b861-636631333730
DTSTAMP:20260420T165544Z
DESCRIPTION:
DTSTART:20241211T130000Z
DTEND:20241211T150000Z
LOCATION:GHH
SUMMARY:Ti2425: Lecture
END:VEVENT
BEGIN:VEVENT
UID:62373530-3636-4639-b061-643731326638
DTSTAMP:20260420T165544Z
DESCRIPTION:
DTSTART:20241213T070000Z
DTEND:20241213T090000Z
SUMMARY:Ti2425: Lecture
END:VEVENT
BEGIN:VEVENT
UID:38353964-3632-4761-a138-393430653161
DTSTAMP:20260420T165544Z
DESCRIPTION:
DTSTART:20241218T130000Z
DTEND:20241218T150000Z
LOCATION:GHH
SUMMARY:Ti2425: Lecture
END:VEVENT
BEGIN:VEVENT
UID:38356166-3030-4938-b134-626261636636
DTSTAMP:20260420T165544Z
DESCRIPTION:
DTSTART:20241220T070000Z
DTEND:20241220T090000Z
SUMMARY:Ti2425: Lecture
END:VEVENT
BEGIN:VEVENT
UID:66643962-3539-4963-b563-623866636533
DTSTAMP:20260420T165544Z
DESCRIPTION:
DTSTART:20250108T130000Z
DTEND:20250108T150000Z
LOCATION:GHH
SUMMARY:Ti2425: Lecture
END:VEVENT
BEGIN:VEVENT
UID:36363664-3835-4462-a162-323262613638
DTSTAMP:20260420T165544Z
DESCRIPTION:
DTSTART:20250110T070000Z
DTEND:20250110T090000Z
SUMMARY:Ti2425: Lecture
END:VEVENT
BEGIN:VEVENT
UID:62353863-3365-4534-a233-626465666566
DTSTAMP:20260420T165544Z
DESCRIPTION:
DTSTART:20250115T130000Z
DTEND:20250115T150000Z
LOCATION:GHH
SUMMARY:Ti2425: Lecture
END:VEVENT
BEGIN:VEVENT
UID:36633738-3363-4063-b963-356161393661
DTSTAMP:20260420T165544Z
DESCRIPTION:
DTSTART:20250117T070000Z
DTEND:20250117T090000Z
SUMMARY:Ti2425: Lecture
END:VEVENT
BEGIN:VEVENT
UID:39373232-3836-4131-b861-346131343630
DTSTAMP:20260420T165544Z
DESCRIPTION:
DTSTART:20250122T130000Z
DTEND:20250122T150000Z
LOCATION:GHH
SUMMARY:Ti2425: Lecture
END:VEVENT
BEGIN:VEVENT
UID:66646166-6664-4535-a562-636564386234
DTSTAMP:20260420T165544Z
DESCRIPTION:
DTSTART:20250124T070000Z
DTEND:20250124T090000Z
SUMMARY:Ti2425: Lecture
END:VEVENT
BEGIN:VEVENT
UID:33636134-3365-4238-b734-313065373965
DTSTAMP:20260420T165544Z
DESCRIPTION:
DTSTART:20250129T130000Z
DTEND:20250129T150000Z
LOCATION:GHH
SUMMARY:Ti2425: Lecture
END:VEVENT
BEGIN:VEVENT
UID:31303230-3837-4234-b839-346266633964
DTSTAMP:20260420T165544Z
DESCRIPTION:
DTSTART:20250131T070000Z
DTEND:20250131T090000Z
SUMMARY:Ti2425: Lecture
END:VEVENT
BEGIN:VEVENT
UID:34376266-3633-4238-b938-303562666362
DTSTAMP:20260420T165544Z
DESCRIPTION:
DTSTART:20250205T130000Z
DTEND:20250205T150000Z
LOCATION:GHH
SUMMARY:Ti2425: Lecture
END:VEVENT
BEGIN:VEVENT
UID:66343362-3136-4134-a431-636163353634
DTSTAMP:20260420T165544Z
DESCRIPTION:
DTSTART:20250207T070000Z
DTEND:20250207T090000Z
SUMMARY:Ti2425: Lecture
END:VEVENT
BEGIN:VEVENT
UID:63313733-3731-4138-a630-333135383865
DTSTAMP:20260420T165544Z
DESCRIPTION:See https://cms.sic.saarland/ti2425/news/view/11
DTSTART:20250212T113000Z
DTEND:20250212T170000Z
LOCATION:GHH
SUMMARY:Ti2425: Mock Exam
END:VEVENT
BEGIN:VEVENT
UID:62613634-3633-4130-a339-353331323934
DTSTAMP:20260420T165544Z
DESCRIPTION:
DTSTART:20250310T130000Z
DTEND:20250310T150000Z
LOCATION:E1.3 lecture hall 002
SUMMARY:Ti2425: Revision Course I
END:VEVENT
BEGIN:VEVENT
UID:64356630-3335-4131-b137-666639376139
DTSTAMP:20260420T165544Z
DESCRIPTION:
DTSTART:20250312T130000Z
DTEND:20250312T150000Z
LOCATION:E1.3 lecture hall 002
SUMMARY:Ti2425: Revision Course II
END:VEVENT
END:VCALENDAR
