BEGIN:VCALENDAR
VERSION:2.0
PRODID:-//134.96.226.213//NONSGML kigkonsult.se iCalcreator 2.41.71//
CALSCALE:GREGORIAN
METHOD:PUBLISH
UID:39616133-3432-4633-a231-356261663063
X-WR-CALNAME:Introduction to Theoretical Computer Science Calendar
X-WR-CALDESC:Events of the lecture Introduction to Theoretical Computer Sci
 ence
X-WR-TIMEZONE:Europe/Berlin
BEGIN:VEVENT
UID:39326538-6164-4136-b166-666637336239
DTSTAMP:20260420T165522Z
DESCRIPTION:
DTSTART:20241016T120000Z
DTEND:20241016T140000Z
LOCATION:GHH
SUMMARY:Lecture
END:VEVENT
BEGIN:VEVENT
UID:36663234-3633-4934-a333-613631613539
DTSTAMP:20260420T165522Z
DESCRIPTION:
DTSTART:20241018T060000Z
DTEND:20241018T080000Z
SUMMARY:Lecture
END:VEVENT
BEGIN:VEVENT
UID:30633537-6135-4932-a463-343436646639
DTSTAMP:20260420T165522Z
DESCRIPTION:
DTSTART:20241023T120000Z
DTEND:20241023T140000Z
LOCATION:GHH
SUMMARY:Lecture
END:VEVENT
BEGIN:VEVENT
UID:34333735-3365-4331-a433-303432633236
DTSTAMP:20260420T165522Z
DESCRIPTION:
DTSTART:20241025T060000Z
DTEND:20241025T080000Z
SUMMARY:Lecture
END:VEVENT
BEGIN:VEVENT
UID:62353362-3039-4662-a664-313766376139
DTSTAMP:20260420T165522Z
DESCRIPTION:
DTSTART:20241030T130000Z
DTEND:20241030T150000Z
LOCATION:GHH
SUMMARY:Lecture
END:VEVENT
BEGIN:VEVENT
UID:30633030-3838-4338-b739-623464306365
DTSTAMP:20260420T165522Z
DESCRIPTION:
DTSTART:20241106T130000Z
DTEND:20241106T150000Z
LOCATION:GHH
SUMMARY:Lecture
END:VEVENT
BEGIN:VEVENT
UID:37663766-3063-4265-b533-313137336438
DTSTAMP:20260420T165522Z
DESCRIPTION:
DTSTART:20241108T070000Z
DTEND:20241108T090000Z
SUMMARY:Lecture
END:VEVENT
BEGIN:VEVENT
UID:62633265-3532-4133-b766-643135376662
DTSTAMP:20260420T165522Z
DESCRIPTION:
DTSTART:20241113T130000Z
DTEND:20241113T150000Z
LOCATION:GHH
SUMMARY:Lecture
END:VEVENT
BEGIN:VEVENT
UID:63363937-3037-4631-a431-393763643231
DTSTAMP:20260420T165522Z
DESCRIPTION:
DTSTART:20241115T070000Z
DTEND:20241115T090000Z
SUMMARY:Lecture
END:VEVENT
BEGIN:VEVENT
UID:62313132-3831-4935-a232-336336376132
DTSTAMP:20260420T165522Z
DESCRIPTION:
DTSTART:20241120T130000Z
DTEND:20241120T150000Z
LOCATION:GHH
SUMMARY:Lecture
END:VEVENT
BEGIN:VEVENT
UID:64323231-3939-4164-a563-396634393366
DTSTAMP:20260420T165522Z
DESCRIPTION:
DTSTART:20241122T070000Z
DTEND:20241122T090000Z
SUMMARY:Lecture
END:VEVENT
BEGIN:VEVENT
UID:64656263-3164-4235-a565-303935383631
DTSTAMP:20260420T165522Z
DESCRIPTION:
DTSTART:20241127T130000Z
DTEND:20241127T150000Z
LOCATION:GHH
SUMMARY:Lecture
END:VEVENT
BEGIN:VEVENT
UID:65663538-3433-4931-b437-333562323532
DTSTAMP:20260420T165522Z
DESCRIPTION:
DTSTART:20241129T070000Z
DTEND:20241129T090000Z
SUMMARY:Lecture
END:VEVENT
BEGIN:VEVENT
UID:61336638-3466-4435-a134-643839353566
DTSTAMP:20260420T165522Z
DESCRIPTION:
DTSTART:20241204T130000Z
DTEND:20241204T150000Z
LOCATION:GHH
SUMMARY:Lecture
END:VEVENT
BEGIN:VEVENT
UID:38633431-6538-4631-a466-343131623166
DTSTAMP:20260420T165522Z
DESCRIPTION:
DTSTART:20241206T070000Z
DTEND:20241206T090000Z
SUMMARY:Lecture
END:VEVENT
BEGIN:VEVENT
UID:39666134-6539-4866-a535-316231363439
DTSTAMP:20260420T165522Z
DESCRIPTION:
DTSTART:20241211T130000Z
DTEND:20241211T150000Z
LOCATION:GHH
SUMMARY:Lecture
END:VEVENT
BEGIN:VEVENT
UID:66666233-3366-4964-b633-353037616431
DTSTAMP:20260420T165522Z
DESCRIPTION:
DTSTART:20241213T070000Z
DTEND:20241213T090000Z
SUMMARY:Lecture
END:VEVENT
BEGIN:VEVENT
UID:37356536-3335-4362-b737-376464646464
DTSTAMP:20260420T165522Z
DESCRIPTION:
DTSTART:20241218T130000Z
DTEND:20241218T150000Z
LOCATION:GHH
SUMMARY:Lecture
END:VEVENT
BEGIN:VEVENT
UID:36373434-6232-4031-b734-376261656537
DTSTAMP:20260420T165522Z
DESCRIPTION:
DTSTART:20241220T070000Z
DTEND:20241220T090000Z
SUMMARY:Lecture
END:VEVENT
BEGIN:VEVENT
UID:36613666-3332-4363-b663-373738343532
DTSTAMP:20260420T165522Z
DESCRIPTION:
DTSTART:20250108T130000Z
DTEND:20250108T150000Z
LOCATION:GHH
SUMMARY:Lecture
END:VEVENT
BEGIN:VEVENT
UID:63393933-3462-4864-a130-373930633464
DTSTAMP:20260420T165522Z
DESCRIPTION:
DTSTART:20250110T070000Z
DTEND:20250110T090000Z
SUMMARY:Lecture
END:VEVENT
BEGIN:VEVENT
UID:38663263-6637-4832-a633-333032373436
DTSTAMP:20260420T165522Z
DESCRIPTION:
DTSTART:20250115T130000Z
DTEND:20250115T150000Z
LOCATION:GHH
SUMMARY:Lecture
END:VEVENT
BEGIN:VEVENT
UID:30663037-3565-4034-b562-376537356639
DTSTAMP:20260420T165522Z
DESCRIPTION:
DTSTART:20250117T070000Z
DTEND:20250117T090000Z
SUMMARY:Lecture
END:VEVENT
BEGIN:VEVENT
UID:34663632-3930-4237-a536-353338646634
DTSTAMP:20260420T165522Z
DESCRIPTION:
DTSTART:20250122T130000Z
DTEND:20250122T150000Z
LOCATION:GHH
SUMMARY:Lecture
END:VEVENT
BEGIN:VEVENT
UID:33393034-3437-4031-b461-623466373237
DTSTAMP:20260420T165522Z
DESCRIPTION:
DTSTART:20250124T070000Z
DTEND:20250124T090000Z
SUMMARY:Lecture
END:VEVENT
BEGIN:VEVENT
UID:61366132-3363-4431-b738-336236666263
DTSTAMP:20260420T165522Z
DESCRIPTION:
DTSTART:20250129T130000Z
DTEND:20250129T150000Z
LOCATION:GHH
SUMMARY:Lecture
END:VEVENT
BEGIN:VEVENT
UID:64333166-3965-4263-a438-336632613531
DTSTAMP:20260420T165522Z
DESCRIPTION:
DTSTART:20250131T070000Z
DTEND:20250131T090000Z
SUMMARY:Lecture
END:VEVENT
BEGIN:VEVENT
UID:35383761-6662-4235-b832-303265663365
DTSTAMP:20260420T165522Z
DESCRIPTION:
DTSTART:20250205T130000Z
DTEND:20250205T150000Z
LOCATION:GHH
SUMMARY:Lecture
END:VEVENT
BEGIN:VEVENT
UID:36633361-3839-4532-a633-613963623535
DTSTAMP:20260420T165522Z
DESCRIPTION:
DTSTART:20250207T070000Z
DTEND:20250207T090000Z
SUMMARY:Lecture
END:VEVENT
BEGIN:VEVENT
UID:61376334-3038-4663-b137-633332356436
DTSTAMP:20260420T165522Z
DESCRIPTION:See https://cms.sic.saarland/ti2425/news/view/11
DTSTART:20250212T113000Z
DTEND:20250212T170000Z
LOCATION:GHH
SUMMARY:Mock Exam
END:VEVENT
BEGIN:VEVENT
UID:32316332-6166-4233-b730-333764313332
DTSTAMP:20260420T165522Z
DESCRIPTION:
DTSTART:20250310T130000Z
DTEND:20250310T150000Z
LOCATION:E1.3 lecture hall 002
SUMMARY:Revision Course I
END:VEVENT
BEGIN:VEVENT
UID:39326439-3633-4730-a539-373666333661
DTSTAMP:20260420T165522Z
DESCRIPTION:
DTSTART:20250312T130000Z
DTEND:20250312T150000Z
LOCATION:E1.3 lecture hall 002
SUMMARY:Revision Course II
END:VEVENT
END:VCALENDAR
