BEGIN:VCALENDAR
VERSION:2.0
PRODID:-//134.96.226.213//NONSGML kigkonsult.se iCalcreator 2.41.92//
CALSCALE:GREGORIAN
METHOD:PUBLISH
UID:35623333-3363-4538-a535-383464666239
X-WR-CALNAME:Systemarchitektur Calendar
X-WR-CALDESC:Events of the lecture Systemarchitektur
X-WR-TIMEZONE:Europe/Berlin
BEGIN:VEVENT
UID:63393666-6166-4264-a332-343134633562
DTSTAMP:20260426T010604Z
DESCRIPTION:Neujahr in Deutschland
DTSTART;VALUE=DATE:20210101
DTEND;VALUE=DATE:20210102
SUMMARY:Sysarch21: Neujahr in Deutschland
END:VEVENT
BEGIN:VEVENT
UID:37373238-3734-4730-b964-623638363733
DTSTAMP:20260426T010604Z
DESCRIPTION:Karfreitag in Deutschland
DTSTART;VALUE=DATE:20210402
DTEND;VALUE=DATE:20210403
SUMMARY:Sysarch21: Karfreitag in Deutschland
END:VEVENT
BEGIN:VEVENT
UID:36613631-6262-4539-a361-363265393066
DTSTAMP:20260426T010604Z
DESCRIPTION:Ostermontag in Deutschland
DTSTART;VALUE=DATE:20210405
DTEND;VALUE=DATE:20210406
SUMMARY:Sysarch21: Ostermontag in Deutschland
END:VEVENT
BEGIN:VEVENT
UID:33383339-3566-4936-b036-356530323430
DTSTAMP:20260426T010604Z
DESCRIPTION:
DTSTART:20210414T063000Z
DTEND:20210414T080000Z
SUMMARY:Sysarch21: Lecture
END:VEVENT
BEGIN:VEVENT
UID:31386163-3338-4538-b837-363531376362
DTSTAMP:20260426T010604Z
DESCRIPTION:
DTSTART:20210416T103000Z
DTEND:20210416T120000Z
SUMMARY:Sysarch21: Lecture
END:VEVENT
BEGIN:VEVENT
UID:30333331-6263-4239-b333-356134613635
DTSTAMP:20260426T010604Z
DESCRIPTION:
DTSTART:20210421T060500Z
DTEND:20210421T062000Z
SUMMARY:Sysarch21: Demo Minitest
END:VEVENT
BEGIN:VEVENT
UID:66336134-6531-4066-b932-393061363966
DTSTAMP:20260426T010604Z
DESCRIPTION:
DTSTART:20210421T063000Z
DTEND:20210421T080000Z
SUMMARY:Sysarch21: Lecture
END:VEVENT
BEGIN:VEVENT
UID:38396662-6436-4132-b764-613166306536
DTSTAMP:20260426T010604Z
DESCRIPTION:
DTSTART:20210423T103000Z
DTEND:20210423T120000Z
SUMMARY:Sysarch21: Lecture
END:VEVENT
BEGIN:VEVENT
UID:39386365-3565-4561-a461-363365323039
DTSTAMP:20260426T010604Z
DESCRIPTION:
DTSTART:20210426T063000Z
DTEND:20210426T120000Z
SUMMARY:Sysarch21: Tutorium
END:VEVENT
BEGIN:VEVENT
UID:64393364-6635-4165-a162-353635386264
DTSTAMP:20260426T010604Z
DESCRIPTION:
DTSTART:20210427T101500Z
DTEND:20210427T114500Z
SUMMARY:Sysarch21: Office Hour
END:VEVENT
BEGIN:VEVENT
UID:64623536-3530-4233-a365-333465336634
DTSTAMP:20260426T010604Z
DESCRIPTION:
DTSTART:20210428T060500Z
DTEND:20210428T062000Z
SUMMARY:Sysarch21: Minitest
END:VEVENT
BEGIN:VEVENT
UID:61373733-3061-4464-b430-643031633666
DTSTAMP:20260426T010604Z
DESCRIPTION:
DTSTART:20210428T063000Z
DTEND:20210428T080000Z
SUMMARY:Sysarch21: Lecture
END:VEVENT
BEGIN:VEVENT
UID:36333762-3633-4631-b661-343736646633
DTSTAMP:20260426T010604Z
DESCRIPTION:
DTSTART:20210430T103000Z
DTEND:20210430T120000Z
SUMMARY:Sysarch21: Lecture
END:VEVENT
BEGIN:VEVENT
UID:33633531-6137-4139-b036-616638366437
DTSTAMP:20260426T010604Z
DESCRIPTION:Tag der Arbeit in Deutschland
DTSTART;VALUE=DATE:20210501
DTEND;VALUE=DATE:20210502
SUMMARY:Sysarch21: Tag der Arbeit in Deutschland
END:VEVENT
BEGIN:VEVENT
UID:32653837-3766-4262-a466-653561623039
DTSTAMP:20260426T010604Z
DESCRIPTION:
DTSTART:20210503T063000Z
DTEND:20210503T120000Z
SUMMARY:Sysarch21: Tutorium
END:VEVENT
BEGIN:VEVENT
UID:35393339-6236-4234-b561-343532643961
DTSTAMP:20260426T010604Z
DESCRIPTION:
DTSTART:20210504T101500Z
DTEND:20210504T114500Z
SUMMARY:Sysarch21: Office Hour
END:VEVENT
BEGIN:VEVENT
UID:66333734-3665-4162-a263-326635386231
DTSTAMP:20260426T010604Z
DESCRIPTION:
DTSTART:20210505T063000Z
DTEND:20210505T080000Z
SUMMARY:Sysarch21: Lecture
END:VEVENT
BEGIN:VEVENT
UID:61653961-6665-4263-a431-363233386432
DTSTAMP:20260426T010604Z
DESCRIPTION:
DTSTART:20210507T103000Z
DTEND:20210507T120000Z
SUMMARY:Sysarch21: Lecture
END:VEVENT
BEGIN:VEVENT
UID:62336461-3733-4935-a533-663232306532
DTSTAMP:20260426T010604Z
DESCRIPTION:
DTSTART:20210510T063000Z
DTEND:20210510T120000Z
SUMMARY:Sysarch21: Tutorium
END:VEVENT
BEGIN:VEVENT
UID:63346539-3466-4366-b164-373434623036
DTSTAMP:20260426T010604Z
DESCRIPTION:
DTSTART:20210511T101500Z
DTEND:20210511T114500Z
SUMMARY:Sysarch21: Office Hour
END:VEVENT
BEGIN:VEVENT
UID:65633661-6238-4535-b461-646335376266
DTSTAMP:20260426T010604Z
DESCRIPTION:
DTSTART:20210512T060500Z
DTEND:20210512T062000Z
SUMMARY:Sysarch21: Minitest
END:VEVENT
BEGIN:VEVENT
UID:35653335-3336-4434-b861-316539656236
DTSTAMP:20260426T010604Z
DESCRIPTION:
DTSTART:20210512T063000Z
DTEND:20210512T080000Z
SUMMARY:Sysarch21: Lecture
END:VEVENT
BEGIN:VEVENT
UID:37623434-3464-4634-a564-346361363234
DTSTAMP:20260426T010604Z
DESCRIPTION:Christi Himmelfahrt in Deutschland
DTSTART;VALUE=DATE:20210513
DTEND;VALUE=DATE:20210514
SUMMARY:Sysarch21: Christi Himmelfahrt in Deutschland
END:VEVENT
BEGIN:VEVENT
UID:38633565-3232-4963-b636-636161383266
DTSTAMP:20260426T010604Z
DESCRIPTION:
DTSTART:20210514T103000Z
DTEND:20210514T120000Z
SUMMARY:Sysarch21: Lecture
END:VEVENT
BEGIN:VEVENT
UID:63366335-6339-4338-a335-343563353437
DTSTAMP:20260426T010604Z
DESCRIPTION:
DTSTART:20210517T063000Z
DTEND:20210517T120000Z
SUMMARY:Sysarch21: Tutorium
END:VEVENT
BEGIN:VEVENT
UID:38316166-3433-4339-b161-363232343334
DTSTAMP:20260426T010604Z
DESCRIPTION:
DTSTART:20210518T101500Z
DTEND:20210518T114500Z
SUMMARY:Sysarch21: Office Hour
END:VEVENT
BEGIN:VEVENT
UID:66313239-3561-4332-a533-613861626461
DTSTAMP:20260426T010604Z
DESCRIPTION:
DTSTART:20210519T063000Z
DTEND:20210519T080000Z
SUMMARY:Sysarch21: Lecture
END:VEVENT
BEGIN:VEVENT
UID:32363965-6365-4163-b661-336162363466
DTSTAMP:20260426T010604Z
DESCRIPTION:
DTSTART:20210521T103000Z
DTEND:20210521T120000Z
SUMMARY:Sysarch21: Lecture
END:VEVENT
BEGIN:VEVENT
UID:64616365-3938-4361-b131-363033343437
DTSTAMP:20260426T010604Z
DESCRIPTION:Pfingstmontag in Deutschland
DTSTART;VALUE=DATE:20210524
DTEND;VALUE=DATE:20210525
SUMMARY:Sysarch21: Pfingstmontag in Deutschland
END:VEVENT
BEGIN:VEVENT
UID:34636236-6231-4266-b262-396262663565
DTSTAMP:20260426T010604Z
DESCRIPTION:
DTSTART:20210525T101500Z
DTEND:20210525T114500Z
SUMMARY:Sysarch21: Office Hour
END:VEVENT
BEGIN:VEVENT
UID:36353365-6335-4864-a166-653036346539
DTSTAMP:20260426T010604Z
DESCRIPTION:
DTSTART:20210526T060500Z
DTEND:20210526T062000Z
SUMMARY:Sysarch21: Minitest
END:VEVENT
BEGIN:VEVENT
UID:39363763-6663-4762-a533-636534323030
DTSTAMP:20260426T010604Z
DESCRIPTION:
DTSTART:20210526T063000Z
DTEND:20210526T080000Z
SUMMARY:Sysarch21: Lecture
END:VEVENT
BEGIN:VEVENT
UID:63376566-3231-4239-b538-636431366237
DTSTAMP:20260426T010604Z
DESCRIPTION:
DTSTART:20210528T103000Z
DTEND:20210528T120000Z
SUMMARY:Sysarch21: Lecture
END:VEVENT
BEGIN:VEVENT
UID:65623962-6330-4137-b735-376564393435
DTSTAMP:20260426T010604Z
DESCRIPTION:
DTSTART:20210531T063000Z
DTEND:20210531T120000Z
SUMMARY:Sysarch21: Tutorium
END:VEVENT
BEGIN:VEVENT
UID:30663531-6430-4663-a365-663866656261
DTSTAMP:20260426T010604Z
DESCRIPTION:
DTSTART:20210601T101500Z
DTEND:20210601T114500Z
SUMMARY:Sysarch21: Office Hour
END:VEVENT
BEGIN:VEVENT
UID:30646564-6133-4465-a632-306236393763
DTSTAMP:20260426T010604Z
DESCRIPTION:
DTSTART:20210602T063000Z
DTEND:20210602T080000Z
SUMMARY:Sysarch21: Lecture
END:VEVENT
BEGIN:VEVENT
UID:64353631-3635-4531-a432-306336653738
DTSTAMP:20260426T010604Z
DESCRIPTION:Fronleichnam in Deutschland
DTSTART;VALUE=DATE:20210603
DTEND;VALUE=DATE:20210604
SUMMARY:Sysarch21: Fronleichnam in Deutschland
END:VEVENT
BEGIN:VEVENT
UID:38316631-3935-4864-a262-363962356664
DTSTAMP:20260426T010604Z
DESCRIPTION:
DTSTART:20210607T063000Z
DTEND:20210607T120000Z
SUMMARY:Sysarch21: Tutorium
END:VEVENT
BEGIN:VEVENT
UID:37613934-6662-4933-b531-353663333466
DTSTAMP:20260426T010604Z
DESCRIPTION:
DTSTART:20210608T101500Z
DTEND:20210608T114500Z
SUMMARY:Sysarch21: Office Hour
END:VEVENT
BEGIN:VEVENT
UID:33363561-6262-4130-a234-356365343665
DTSTAMP:20260426T010604Z
DESCRIPTION:
DTSTART:20210609T060500Z
DTEND:20210609T062000Z
SUMMARY:Sysarch21: Minitest
END:VEVENT
BEGIN:VEVENT
UID:36376532-3933-4037-b839-383931386134
DTSTAMP:20260426T010604Z
DESCRIPTION:
DTSTART:20210609T063000Z
DTEND:20210609T080000Z
SUMMARY:Sysarch21: Lecture
END:VEVENT
BEGIN:VEVENT
UID:31393830-6163-4131-b038-376262393262
DTSTAMP:20260426T010604Z
DESCRIPTION:
DTSTART;VALUE=DATE:20210609
DTEND;VALUE=DATE:20210629
SUMMARY:Sysarch21: Project 1: Computer Architecture
END:VEVENT
BEGIN:VEVENT
UID:65346233-3466-4233-a538-343764323865
DTSTAMP:20260426T010604Z
DESCRIPTION:
DTSTART:20210611T103000Z
DTEND:20210611T120000Z
SUMMARY:Sysarch21: Lecture
END:VEVENT
BEGIN:VEVENT
UID:62303435-6439-4262-a333-653131343735
DTSTAMP:20260426T010604Z
DESCRIPTION:
DTSTART:20210614T063000Z
DTEND:20210614T120000Z
SUMMARY:Sysarch21: Tutorium
END:VEVENT
BEGIN:VEVENT
UID:37343362-3036-4534-a665-313866633665
DTSTAMP:20260426T010604Z
DESCRIPTION:
DTSTART:20210615T101500Z
DTEND:20210615T114500Z
SUMMARY:Sysarch21: Office Hour
END:VEVENT
BEGIN:VEVENT
UID:31353531-3637-4635-a539-373138353066
DTSTAMP:20260426T010604Z
DESCRIPTION:
DTSTART:20210616T063000Z
DTEND:20210616T080000Z
SUMMARY:Sysarch21: Lecture
END:VEVENT
BEGIN:VEVENT
UID:32336236-6638-4266-b439-666664653638
DTSTAMP:20260426T010604Z
DESCRIPTION:
DTSTART:20210618T103000Z
DTEND:20210618T120000Z
SUMMARY:Sysarch21: Lecture
END:VEVENT
BEGIN:VEVENT
UID:66396233-6634-4738-b463-613139633432
DTSTAMP:20260426T010604Z
DESCRIPTION:
DTSTART:20210621T063000Z
DTEND:20210621T120000Z
SUMMARY:Sysarch21: Tutorium
END:VEVENT
BEGIN:VEVENT
UID:37363637-6161-4461-b539-323736353035
DTSTAMP:20260426T010604Z
DESCRIPTION:
DTSTART:20210622T101500Z
DTEND:20210622T114500Z
SUMMARY:Sysarch21: Office Hour
END:VEVENT
BEGIN:VEVENT
UID:65323336-3233-4335-b363-616632613731
DTSTAMP:20260426T010604Z
DESCRIPTION:
DTSTART:20210623T060500Z
DTEND:20210623T062000Z
SUMMARY:Sysarch21: Minitest
END:VEVENT
BEGIN:VEVENT
UID:30613562-3939-4665-b238-376566663537
DTSTAMP:20260426T010604Z
DESCRIPTION:
DTSTART:20210623T063000Z
DTEND:20210623T080000Z
SUMMARY:Sysarch21: Lecture
END:VEVENT
BEGIN:VEVENT
UID:66623236-3663-4661-b231-636237386330
DTSTAMP:20260426T010604Z
DESCRIPTION:
DTSTART:20210625T103000Z
DTEND:20210625T120000Z
SUMMARY:Sysarch21: Lecture
END:VEVENT
BEGIN:VEVENT
UID:32613235-3539-4437-b334-306330386630
DTSTAMP:20260426T010604Z
DESCRIPTION:
DTSTART:20210628T063000Z
DTEND:20210628T120000Z
SUMMARY:Sysarch21: Tutorium
END:VEVENT
BEGIN:VEVENT
UID:65633434-3838-4437-b938-313338356134
DTSTAMP:20260426T010604Z
DESCRIPTION:
DTSTART:20210629T101500Z
DTEND:20210629T114500Z
SUMMARY:Sysarch21: Office Hour
END:VEVENT
BEGIN:VEVENT
UID:36373038-3466-4562-b030-623532646639
DTSTAMP:20260426T010604Z
DESCRIPTION:
DTSTART:20210630T063000Z
DTEND:20210630T080000Z
SUMMARY:Sysarch21: Lecture
END:VEVENT
BEGIN:VEVENT
UID:33323339-6663-4061-a161-623063376263
DTSTAMP:20260426T010604Z
DESCRIPTION:
DTSTART:20210702T103000Z
DTEND:20210702T120000Z
SUMMARY:Sysarch21: Lecture
END:VEVENT
BEGIN:VEVENT
UID:33373036-6232-4337-b437-666135643730
DTSTAMP:20260426T010604Z
DESCRIPTION:
DTSTART;VALUE=DATE:20210702
DTEND;VALUE=DATE:20210717
SUMMARY:Sysarch21: Project 2: Operating Systems
END:VEVENT
BEGIN:VEVENT
UID:65323463-3132-4530-b934-326636376661
DTSTAMP:20260426T010604Z
DESCRIPTION:
DTSTART:20210705T063000Z
DTEND:20210705T120000Z
SUMMARY:Sysarch21: Tutorium
END:VEVENT
BEGIN:VEVENT
UID:33336635-3233-4163-a239-636264303432
DTSTAMP:20260426T010604Z
DESCRIPTION:
DTSTART:20210706T101500Z
DTEND:20210706T114500Z
SUMMARY:Sysarch21: Office Hour
END:VEVENT
BEGIN:VEVENT
UID:63303633-3138-4061-b931-316464383164
DTSTAMP:20260426T010604Z
DESCRIPTION:
DTSTART:20210707T060500Z
DTEND:20210707T062000Z
SUMMARY:Sysarch21: Minitest
END:VEVENT
BEGIN:VEVENT
UID:32616334-3532-4736-b332-656564616437
DTSTAMP:20260426T010604Z
DESCRIPTION:
DTSTART:20210707T063000Z
DTEND:20210707T080000Z
SUMMARY:Sysarch21: Lecture
END:VEVENT
BEGIN:VEVENT
UID:34363934-3139-4761-b466-313131656430
DTSTAMP:20260426T010604Z
DESCRIPTION:
DTSTART:20210709T103000Z
DTEND:20210709T120000Z
SUMMARY:Sysarch21: Lecture
END:VEVENT
BEGIN:VEVENT
UID:39383466-3437-4231-b962-376638333932
DTSTAMP:20260426T010604Z
DESCRIPTION:
DTSTART:20210712T063000Z
DTEND:20210712T120000Z
SUMMARY:Sysarch21: Tutorium
END:VEVENT
BEGIN:VEVENT
UID:65356338-6164-4862-b232-646266353864
DTSTAMP:20260426T010604Z
DESCRIPTION:
DTSTART:20210713T101500Z
DTEND:20210713T114500Z
SUMMARY:Sysarch21: Office Hour
END:VEVENT
BEGIN:VEVENT
UID:31306334-6533-4430-b437-353564333063
DTSTAMP:20260426T010604Z
DESCRIPTION:
DTSTART:20210714T063000Z
DTEND:20210714T080000Z
SUMMARY:Sysarch21: Lecture
END:VEVENT
BEGIN:VEVENT
UID:63656639-3338-4265-b134-663838336665
DTSTAMP:20260426T010604Z
DESCRIPTION:
DTSTART:20210716T103000Z
DTEND:20210716T120000Z
SUMMARY:Sysarch21: Lecture
END:VEVENT
BEGIN:VEVENT
UID:62383333-3261-4937-b131-656434376531
DTSTAMP:20260426T010604Z
DESCRIPTION:
DTSTART:20210719T063000Z
DTEND:20210719T120000Z
SUMMARY:Sysarch21: Tutorium
END:VEVENT
BEGIN:VEVENT
UID:38326430-6132-4832-b865-643432626164
DTSTAMP:20260426T010604Z
DESCRIPTION:
DTSTART:20210720T101500Z
DTEND:20210720T114500Z
SUMMARY:Sysarch21: Office Hour
END:VEVENT
BEGIN:VEVENT
UID:34396161-3134-4566-b764-353133336435
DTSTAMP:20260426T010604Z
DESCRIPTION:
DTSTART:20210721T060500Z
DTEND:20210721T062000Z
SUMMARY:Sysarch21: Extra Minitest
END:VEVENT
BEGIN:VEVENT
UID:63626463-3964-4566-b339-343062383734
DTSTAMP:20260426T010604Z
DESCRIPTION:
DTSTART:20210721T063000Z
DTEND:20210721T080000Z
SUMMARY:Sysarch21: Lecture
END:VEVENT
BEGIN:VEVENT
UID:39383139-3938-4937-b438-663738363366
DTSTAMP:20260426T010604Z
DESCRIPTION:
DTSTART:20210723T103000Z
DTEND:20210723T120000Z
SUMMARY:Sysarch21: Lecture
END:VEVENT
BEGIN:VEVENT
UID:62333334-3039-4565-a266-363865633366
DTSTAMP:20260426T010604Z
DESCRIPTION:
DTSTART:20210730T080000Z
DTEND:20210730T100000Z
SUMMARY:Sysarch21: Endterm Exam
END:VEVENT
BEGIN:VEVENT
UID:31653936-3164-4363-b232-363865646364
DTSTAMP:20260426T010604Z
DESCRIPTION:Mariä Himmelfahrt in Deutschland
DTSTART;VALUE=DATE:20210815
DTEND;VALUE=DATE:20210816
SUMMARY:Sysarch21: Mariä Himmelfahrt in Deutschland
END:VEVENT
BEGIN:VEVENT
UID:35353561-6261-4563-a334-346131316563
DTSTAMP:20260426T010604Z
DESCRIPTION:Tag der Deutschen Einheit
DTSTART;VALUE=DATE:20211003
DTEND;VALUE=DATE:20211004
SUMMARY:Sysarch21: Tag der Deutschen Einheit
END:VEVENT
BEGIN:VEVENT
UID:39646231-3662-4164-a538-633237613361
DTSTAMP:20260426T010604Z
DESCRIPTION:
DTSTART:20211007T080000Z
DTEND:20211007T100000Z
SUMMARY:Sysarch21: Re-exam
END:VEVENT
BEGIN:VEVENT
UID:35373262-6564-4265-b232-346366653865
DTSTAMP:20260426T010604Z
DESCRIPTION:Allerheiligen in Deutschland
DTSTART;VALUE=DATE:20211101
DTEND;VALUE=DATE:20211102
SUMMARY:Sysarch21: Allerheiligen in Deutschland
END:VEVENT
BEGIN:VEVENT
UID:66313066-6663-4436-a537-623065326138
DTSTAMP:20260426T010604Z
DESCRIPTION:1. Weihnachtstag in Deutschland
DTSTART;VALUE=DATE:20211225
DTEND;VALUE=DATE:20211226
SUMMARY:Sysarch21: 1. Weihnachtstag in Deutschland
END:VEVENT
BEGIN:VEVENT
UID:64333130-6266-4831-b331-303165353936
DTSTAMP:20260426T010604Z
DESCRIPTION:2. Weihnachtstag in Deutschland
DTSTART;VALUE=DATE:20211226
DTEND;VALUE=DATE:20211227
SUMMARY:Sysarch21: 2. Weihnachtstag in Deutschland
END:VEVENT
BEGIN:VEVENT
UID:62373665-6437-4135-b839-326435353333
DTSTAMP:20260426T010604Z
DESCRIPTION:Neujahr in Deutschland - Importiert von Ferienwiki.de
DTSTART;VALUE=DATE:20220101
DTEND;VALUE=DATE:20220102
SUMMARY:Sysarch21: Neujahr in Deutschland
END:VEVENT
BEGIN:VEVENT
UID:35313964-3438-4338-b532-333132333635
DTSTAMP:20260426T010604Z
DESCRIPTION:Karfreitag in Deutschland - Importiert von Ferienwiki.de
DTSTART;VALUE=DATE:20220415
DTEND;VALUE=DATE:20220416
SUMMARY:Sysarch21: Karfreitag in Deutschland
END:VEVENT
BEGIN:VEVENT
UID:33313438-6639-4035-a536-626361626234
DTSTAMP:20260426T010604Z
DESCRIPTION:Ostermontag in Deutschland - Importiert von Ferienwiki.de
DTSTART;VALUE=DATE:20220418
DTEND;VALUE=DATE:20220419
SUMMARY:Sysarch21: Ostermontag in Deutschland
END:VEVENT
BEGIN:VEVENT
UID:37663433-3633-4339-b434-383065386238
DTSTAMP:20260426T010604Z
DESCRIPTION:Tag der Arbeit in Deutschland - Importiert von Ferienwiki.de
DTSTART;VALUE=DATE:20220501
DTEND;VALUE=DATE:20220502
SUMMARY:Sysarch21: Tag der Arbeit in Deutschland
END:VEVENT
BEGIN:VEVENT
UID:35633063-3031-4437-b462-626533303863
DTSTAMP:20260426T010604Z
DESCRIPTION:Christi Himmelfahrt in Deutschland - Importiert von Ferienwiki.
 de
DTSTART;VALUE=DATE:20220526
DTEND;VALUE=DATE:20220527
SUMMARY:Sysarch21: Christi Himmelfahrt in Deutschland
END:VEVENT
BEGIN:VEVENT
UID:33626232-3966-4361-a132-663864666131
DTSTAMP:20260426T010604Z
DESCRIPTION:Pfingstmontag in Deutschland - Importiert von Ferienwiki.de
DTSTART;VALUE=DATE:20220606
DTEND;VALUE=DATE:20220607
SUMMARY:Sysarch21: Pfingstmontag in Deutschland
END:VEVENT
BEGIN:VEVENT
UID:34613561-6534-4338-a565-633436636437
DTSTAMP:20260426T010604Z
DESCRIPTION:Fronleichnam in Deutschland - Importiert von Ferienwiki.de
DTSTART;VALUE=DATE:20220616
DTEND;VALUE=DATE:20220617
SUMMARY:Sysarch21: Fronleichnam in Deutschland
END:VEVENT
BEGIN:VEVENT
UID:39316535-3433-4363-a361-336366643930
DTSTAMP:20260426T010604Z
DESCRIPTION:Mariä Himmelfahrt in Deutschland - Importiert von Ferienwiki.de
DTSTART;VALUE=DATE:20220815
DTEND;VALUE=DATE:20220816
SUMMARY:Sysarch21: Mariä Himmelfahrt in Deutschland
END:VEVENT
BEGIN:VEVENT
UID:61333630-3831-4965-b466-613462623839
DTSTAMP:20260426T010604Z
DESCRIPTION:Tag der Deutschen Einheit - Importiert von Ferienwiki.de
DTSTART;VALUE=DATE:20221003
DTEND;VALUE=DATE:20221004
SUMMARY:Sysarch21: Tag der Deutschen Einheit
END:VEVENT
BEGIN:VEVENT
UID:36663835-6133-4735-a539-313938613835
DTSTAMP:20260426T010604Z
DESCRIPTION:Allerheiligen in Deutschland - Importiert von Ferienwiki.de
DTSTART;VALUE=DATE:20221101
DTEND;VALUE=DATE:20221102
SUMMARY:Sysarch21: Allerheiligen in Deutschland
END:VEVENT
BEGIN:VEVENT
UID:38643935-6336-4466-a365-663662663463
DTSTAMP:20260426T010604Z
DESCRIPTION:1. Weihnachtstag in Deutschland - Importiert von Ferienwiki.de
DTSTART;VALUE=DATE:20221225
DTEND;VALUE=DATE:20221226
SUMMARY:Sysarch21: 1. Weihnachtstag in Deutschland
END:VEVENT
BEGIN:VEVENT
UID:35646261-3264-4231-a335-306531623035
DTSTAMP:20260426T010604Z
DESCRIPTION:2. Weihnachtstag in Deutschland - Importiert von Ferienwiki.de
DTSTART;VALUE=DATE:20221226
DTEND;VALUE=DATE:20221227
SUMMARY:Sysarch21: 2. Weihnachtstag in Deutschland
END:VEVENT
BEGIN:VEVENT
UID:33656634-3438-4133-a538-356531623230
DTSTAMP:20260426T010604Z
DESCRIPTION:Neujahr in Deutschland - Importiert von Ferienwiki.de
DTSTART;VALUE=DATE:20230101
DTEND;VALUE=DATE:20230102
SUMMARY:Sysarch21: Neujahr in Deutschland
END:VEVENT
BEGIN:VEVENT
UID:31303336-3663-4537-a664-663337626464
DTSTAMP:20260426T010604Z
DESCRIPTION:Karfreitag in Deutschland - Importiert von Ferienwiki.de
DTSTART;VALUE=DATE:20230407
DTEND;VALUE=DATE:20230408
SUMMARY:Sysarch21: Karfreitag in Deutschland
END:VEVENT
BEGIN:VEVENT
UID:31343066-3038-4534-b061-613831323736
DTSTAMP:20260426T010604Z
DESCRIPTION:Ostermontag in Deutschland - Importiert von Ferienwiki.de
DTSTART;VALUE=DATE:20230410
DTEND;VALUE=DATE:20230411
SUMMARY:Sysarch21: Ostermontag in Deutschland
END:VEVENT
BEGIN:VEVENT
UID:33653632-3063-4661-b936-663236326130
DTSTAMP:20260426T010604Z
DESCRIPTION:Tag der Arbeit in Deutschland - Importiert von Ferienwiki.de
DTSTART;VALUE=DATE:20230501
DTEND;VALUE=DATE:20230502
SUMMARY:Sysarch21: Tag der Arbeit in Deutschland
END:VEVENT
BEGIN:VEVENT
UID:62316233-3033-4566-b639-663633643433
DTSTAMP:20260426T010604Z
DESCRIPTION:Christi Himmelfahrt in Deutschland - Importiert von Ferienwiki.
 de
DTSTART;VALUE=DATE:20230518
DTEND;VALUE=DATE:20230519
SUMMARY:Sysarch21: Christi Himmelfahrt in Deutschland
END:VEVENT
BEGIN:VEVENT
UID:30363262-6431-4932-b236-313939616130
DTSTAMP:20260426T010604Z
DESCRIPTION:Pfingstmontag in Deutschland - Importiert von Ferienwiki.de
DTSTART;VALUE=DATE:20230529
DTEND;VALUE=DATE:20230530
SUMMARY:Sysarch21: Pfingstmontag in Deutschland
END:VEVENT
BEGIN:VEVENT
UID:61323232-3734-4366-a335-633365343736
DTSTAMP:20260426T010604Z
DESCRIPTION:Fronleichnam in Deutschland - Importiert von Ferienwiki.de
DTSTART;VALUE=DATE:20230608
DTEND;VALUE=DATE:20230609
SUMMARY:Sysarch21: Fronleichnam in Deutschland
END:VEVENT
BEGIN:VEVENT
UID:39373138-3332-4135-a132-613837373130
DTSTAMP:20260426T010604Z
DESCRIPTION:Mariä Himmelfahrt in Deutschland - Importiert von Ferienwiki.de
DTSTART;VALUE=DATE:20230815
DTEND;VALUE=DATE:20230816
SUMMARY:Sysarch21: Mariä Himmelfahrt in Deutschland
END:VEVENT
BEGIN:VEVENT
UID:62363436-3463-4233-b738-396130343532
DTSTAMP:20260426T010604Z
DESCRIPTION:Tag der Deutschen Einheit - Importiert von Ferienwiki.de
DTSTART;VALUE=DATE:20231003
DTEND;VALUE=DATE:20231004
SUMMARY:Sysarch21: Tag der Deutschen Einheit
END:VEVENT
BEGIN:VEVENT
UID:35376163-6330-4533-b764-633330333737
DTSTAMP:20260426T010604Z
DESCRIPTION:Allerheiligen in Deutschland - Importiert von Ferienwiki.de
DTSTART;VALUE=DATE:20231101
DTEND;VALUE=DATE:20231102
SUMMARY:Sysarch21: Allerheiligen in Deutschland
END:VEVENT
BEGIN:VEVENT
UID:62333532-6235-4265-b935-356138636238
DTSTAMP:20260426T010604Z
DESCRIPTION:1. Weihnachtstag in Deutschland - Importiert von Ferienwiki.de
DTSTART;VALUE=DATE:20231225
DTEND;VALUE=DATE:20231226
SUMMARY:Sysarch21: 1. Weihnachtstag in Deutschland
END:VEVENT
BEGIN:VEVENT
UID:37653735-6338-4962-a230-313664396332
DTSTAMP:20260426T010604Z
DESCRIPTION:2. Weihnachtstag in Deutschland - Importiert von Ferienwiki.de
DTSTART;VALUE=DATE:20231226
DTEND;VALUE=DATE:20231227
SUMMARY:Sysarch21: 2. Weihnachtstag in Deutschland
END:VEVENT
BEGIN:VEVENT
UID:62383135-6638-4933-a235-336134623266
DTSTAMP:20260426T010604Z
DESCRIPTION:Neujahr in Deutschland - Importiert von Ferienwiki.de
DTSTART;VALUE=DATE:20240101
DTEND;VALUE=DATE:20240102
SUMMARY:Sysarch21: Neujahr in Deutschland
END:VEVENT
BEGIN:VEVENT
UID:65316566-3430-4130-b064-303261363131
DTSTAMP:20260426T010604Z
DESCRIPTION:Karfreitag in Deutschland - Importiert von Ferienwiki.de
DTSTART;VALUE=DATE:20240329
DTEND;VALUE=DATE:20240330
SUMMARY:Sysarch21: Karfreitag in Deutschland
END:VEVENT
BEGIN:VEVENT
UID:61646635-3037-4864-a465-613664396134
DTSTAMP:20260426T010604Z
DESCRIPTION:Ostermontag in Deutschland - Importiert von Ferienwiki.de
DTSTART;VALUE=DATE:20240401
DTEND;VALUE=DATE:20240402
SUMMARY:Sysarch21: Ostermontag in Deutschland
END:VEVENT
BEGIN:VEVENT
UID:36386339-3533-4233-b034-306438393736
DTSTAMP:20260426T010604Z
DESCRIPTION:Tag der Arbeit in Deutschland - Importiert von Ferienwiki.de
DTSTART;VALUE=DATE:20240501
DTEND;VALUE=DATE:20240502
SUMMARY:Sysarch21: Tag der Arbeit in Deutschland
END:VEVENT
BEGIN:VEVENT
UID:32323430-3431-4864-a633-623332646262
DTSTAMP:20260426T010604Z
DESCRIPTION:Christi Himmelfahrt in Deutschland - Importiert von Ferienwiki.
 de
DTSTART;VALUE=DATE:20240509
DTEND;VALUE=DATE:20240510
SUMMARY:Sysarch21: Christi Himmelfahrt in Deutschland
END:VEVENT
BEGIN:VEVENT
UID:38633637-6238-4361-b063-633936646533
DTSTAMP:20260426T010604Z
DESCRIPTION:Pfingstmontag in Deutschland - Importiert von Ferienwiki.de
DTSTART;VALUE=DATE:20240520
DTEND;VALUE=DATE:20240521
SUMMARY:Sysarch21: Pfingstmontag in Deutschland
END:VEVENT
BEGIN:VEVENT
UID:33393133-6363-4161-b230-306663336233
DTSTAMP:20260426T010604Z
DESCRIPTION:Fronleichnam in Deutschland - Importiert von Ferienwiki.de
DTSTART;VALUE=DATE:20240530
DTEND;VALUE=DATE:20240531
SUMMARY:Sysarch21: Fronleichnam in Deutschland
END:VEVENT
BEGIN:VEVENT
UID:62346237-6364-4533-a532-623833663832
DTSTAMP:20260426T010604Z
DESCRIPTION:Mariä Himmelfahrt in Deutschland - Importiert von Ferienwiki.de
DTSTART;VALUE=DATE:20240815
DTEND;VALUE=DATE:20240816
SUMMARY:Sysarch21: Mariä Himmelfahrt in Deutschland
END:VEVENT
BEGIN:VEVENT
UID:61333365-3363-4932-a164-316238353066
DTSTAMP:20260426T010604Z
DESCRIPTION:Tag der Deutschen Einheit - Importiert von Ferienwiki.de
DTSTART;VALUE=DATE:20241003
DTEND;VALUE=DATE:20241004
SUMMARY:Sysarch21: Tag der Deutschen Einheit
END:VEVENT
BEGIN:VEVENT
UID:62303637-3637-4635-a333-643435656162
DTSTAMP:20260426T010604Z
DESCRIPTION:Allerheiligen in Deutschland - Importiert von Ferienwiki.de
DTSTART;VALUE=DATE:20241101
DTEND;VALUE=DATE:20241102
SUMMARY:Sysarch21: Allerheiligen in Deutschland
END:VEVENT
BEGIN:VEVENT
UID:37616532-3133-4264-b663-616636373637
DTSTAMP:20260426T010604Z
DESCRIPTION:1. Weihnachtstag in Deutschland - Importiert von Ferienwiki.de
DTSTART;VALUE=DATE:20241225
DTEND;VALUE=DATE:20241226
SUMMARY:Sysarch21: 1. Weihnachtstag in Deutschland
END:VEVENT
BEGIN:VEVENT
UID:65623461-3462-4161-b530-336232663636
DTSTAMP:20260426T010604Z
DESCRIPTION:2. Weihnachtstag in Deutschland - Importiert von Ferienwiki.de
DTSTART;VALUE=DATE:20241226
DTEND;VALUE=DATE:20241227
SUMMARY:Sysarch21: 2. Weihnachtstag in Deutschland
END:VEVENT
END:VCALENDAR
