BEGIN:VCALENDAR
VERSION:2.0
PRODID:-//134.96.226.213//NONSGML kigkonsult.se iCalcreator 2.41.92//
CALSCALE:GREGORIAN
METHOD:PUBLISH
UID:62356532-6332-4664-b966-393237353261
X-WR-CALNAME:Systemarchitektur Calendar
X-WR-CALDESC:Events of the lecture Systemarchitektur
X-WR-TIMEZONE:Europe/Berlin
BEGIN:VEVENT
UID:37633234-6166-4866-a361-343461636135
DTSTAMP:20260426T010615Z
DESCRIPTION:
DTSTART:20210427T101500Z
DTEND:20210427T114500Z
SUMMARY:Sysarch21: Office Hour
END:VEVENT
BEGIN:VEVENT
UID:33366232-3039-4163-b331-393935653737
DTSTAMP:20260426T010615Z
DESCRIPTION:
DTSTART:20210504T101500Z
DTEND:20210504T114500Z
SUMMARY:Sysarch21: Office Hour
END:VEVENT
BEGIN:VEVENT
UID:64656362-3261-4061-a163-373561633737
DTSTAMP:20260426T010615Z
DESCRIPTION:
DTSTART:20210511T101500Z
DTEND:20210511T114500Z
SUMMARY:Sysarch21: Office Hour
END:VEVENT
BEGIN:VEVENT
UID:63366431-6234-4330-b735-376263383239
DTSTAMP:20260426T010615Z
DESCRIPTION:
DTSTART:20210518T101500Z
DTEND:20210518T114500Z
SUMMARY:Sysarch21: Office Hour
END:VEVENT
BEGIN:VEVENT
UID:31363636-3737-4333-b330-653861323431
DTSTAMP:20260426T010615Z
DESCRIPTION:
DTSTART:20210525T101500Z
DTEND:20210525T114500Z
SUMMARY:Sysarch21: Office Hour
END:VEVENT
BEGIN:VEVENT
UID:62343162-6161-4565-b930-323538656132
DTSTAMP:20260426T010615Z
DESCRIPTION:
DTSTART:20210601T101500Z
DTEND:20210601T114500Z
SUMMARY:Sysarch21: Office Hour
END:VEVENT
BEGIN:VEVENT
UID:62663334-3163-4461-b535-313065613833
DTSTAMP:20260426T010615Z
DESCRIPTION:
DTSTART:20210608T101500Z
DTEND:20210608T114500Z
SUMMARY:Sysarch21: Office Hour
END:VEVENT
BEGIN:VEVENT
UID:33653962-6430-4935-b761-383739353363
DTSTAMP:20260426T010615Z
DESCRIPTION:
DTSTART:20210615T101500Z
DTEND:20210615T114500Z
SUMMARY:Sysarch21: Office Hour
END:VEVENT
BEGIN:VEVENT
UID:33386264-3035-4339-a466-383063646234
DTSTAMP:20260426T010615Z
DESCRIPTION:
DTSTART:20210622T101500Z
DTEND:20210622T114500Z
SUMMARY:Sysarch21: Office Hour
END:VEVENT
BEGIN:VEVENT
UID:38633763-3762-4738-b062-366635376336
DTSTAMP:20260426T010615Z
DESCRIPTION:
DTSTART:20210629T101500Z
DTEND:20210629T114500Z
SUMMARY:Sysarch21: Office Hour
END:VEVENT
BEGIN:VEVENT
UID:34616661-3561-4133-b934-623661373335
DTSTAMP:20260426T010615Z
DESCRIPTION:
DTSTART:20210706T101500Z
DTEND:20210706T114500Z
SUMMARY:Sysarch21: Office Hour
END:VEVENT
BEGIN:VEVENT
UID:34653330-6163-4132-a264-363566663936
DTSTAMP:20260426T010615Z
DESCRIPTION:
DTSTART:20210713T101500Z
DTEND:20210713T114500Z
SUMMARY:Sysarch21: Office Hour
END:VEVENT
BEGIN:VEVENT
UID:66326635-6261-4639-a264-633261646162
DTSTAMP:20260426T010615Z
DESCRIPTION:
DTSTART:20210720T101500Z
DTEND:20210720T114500Z
SUMMARY:Sysarch21: Office Hour
END:VEVENT
END:VCALENDAR
