BEGIN:VCALENDAR
VERSION:2.0
PRODID:-//134.96.226.213//NONSGML kigkonsult.se iCalcreator 2.41.92//
CALSCALE:GREGORIAN
METHOD:PUBLISH
UID:31643264-6534-4332-a165-646564373163
X-WR-CALNAME:Systemarchitektur Calendar
X-WR-CALDESC:Events of the lecture Systemarchitektur
X-WR-TIMEZONE:Europe/Berlin
BEGIN:VEVENT
UID:33353035-3466-4237-b936-613265383261
DTSTAMP:20260426T010615Z
DESCRIPTION:
DTSTART;VALUE=DATE:20210609
DTEND;VALUE=DATE:20210629
SUMMARY:Sysarch21: Project 1: Computer Architecture
END:VEVENT
BEGIN:VEVENT
UID:34616539-3430-4166-a332-326164316530
DTSTAMP:20260426T010615Z
DESCRIPTION:
DTSTART;VALUE=DATE:20210702
DTEND;VALUE=DATE:20210717
SUMMARY:Sysarch21: Project 2: Operating Systems
END:VEVENT
END:VCALENDAR
