BEGIN:VCALENDAR
VERSION:2.0
PRODID:-//134.96.226.213//NONSGML kigkonsult.se iCalcreator 2.41.92//
CALSCALE:GREGORIAN
METHOD:PUBLISH
UID:33393032-3934-4664-b063-343764333832
X-WR-CALNAME:Systemarchitektur Calendar
X-WR-CALDESC:Events of the lecture Systemarchitektur
X-WR-TIMEZONE:Europe/Berlin
BEGIN:VEVENT
UID:37363265-3631-4162-a664-373561326632
DTSTAMP:20260426T010605Z
DESCRIPTION:
DTSTART;VALUE=DATE:20210609
DTEND;VALUE=DATE:20210629
SUMMARY:Project 1: Computer Architecture
END:VEVENT
BEGIN:VEVENT
UID:39303364-3132-4663-b731-396235336631
DTSTAMP:20260426T010605Z
DESCRIPTION:
DTSTART;VALUE=DATE:20210702
DTEND;VALUE=DATE:20210717
SUMMARY:Project 2: Operating Systems
END:VEVENT
END:VCALENDAR
