BEGIN:VCALENDAR
VERSION:2.0
PRODID:-//134.96.226.213//NONSGML kigkonsult.se iCalcreator 2.41.92//
CALSCALE:GREGORIAN
METHOD:PUBLISH
UID:37646639-3836-4863-a236-643939306335
X-WR-CALNAME:Systemarchitektur Calendar
X-WR-CALDESC:Events of the lecture Systemarchitektur
X-WR-TIMEZONE:Europe/Berlin
BEGIN:VEVENT
UID:34306564-3535-4736-a637-383464303639
DTSTAMP:20260426T010615Z
DESCRIPTION:
DTSTART:20210421T060500Z
DTEND:20210421T062000Z
SUMMARY:Sysarch21: Demo Minitest
END:VEVENT
BEGIN:VEVENT
UID:32666532-3430-4361-b737-303835663131
DTSTAMP:20260426T010615Z
DESCRIPTION:
DTSTART:20210428T060500Z
DTEND:20210428T062000Z
SUMMARY:Sysarch21: Minitest
END:VEVENT
BEGIN:VEVENT
UID:63343037-3130-4234-a665-636333643038
DTSTAMP:20260426T010615Z
DESCRIPTION:
DTSTART:20210512T060500Z
DTEND:20210512T062000Z
SUMMARY:Sysarch21: Minitest
END:VEVENT
BEGIN:VEVENT
UID:38356564-3065-4836-b232-326137333834
DTSTAMP:20260426T010615Z
DESCRIPTION:
DTSTART:20210526T060500Z
DTEND:20210526T062000Z
SUMMARY:Sysarch21: Minitest
END:VEVENT
BEGIN:VEVENT
UID:64353738-6239-4364-a265-333362376230
DTSTAMP:20260426T010615Z
DESCRIPTION:
DTSTART:20210609T060500Z
DTEND:20210609T062000Z
SUMMARY:Sysarch21: Minitest
END:VEVENT
BEGIN:VEVENT
UID:38316463-3433-4863-b238-383865323236
DTSTAMP:20260426T010615Z
DESCRIPTION:
DTSTART:20210623T060500Z
DTEND:20210623T062000Z
SUMMARY:Sysarch21: Minitest
END:VEVENT
BEGIN:VEVENT
UID:64313761-3038-4539-a633-343335373561
DTSTAMP:20260426T010615Z
DESCRIPTION:
DTSTART:20210707T060500Z
DTEND:20210707T062000Z
SUMMARY:Sysarch21: Minitest
END:VEVENT
BEGIN:VEVENT
UID:36373863-6532-4333-b365-316463656164
DTSTAMP:20260426T010615Z
DESCRIPTION:
DTSTART:20210721T060500Z
DTEND:20210721T062000Z
SUMMARY:Sysarch21: Extra Minitest
END:VEVENT
BEGIN:VEVENT
UID:39643331-6134-4031-b565-306638386534
DTSTAMP:20260426T010615Z
DESCRIPTION:
DTSTART:20210730T080000Z
DTEND:20210730T100000Z
SUMMARY:Sysarch21: Endterm Exam
END:VEVENT
BEGIN:VEVENT
UID:38306665-6631-4434-a234-656366383665
DTSTAMP:20260426T010615Z
DESCRIPTION:
DTSTART:20211007T080000Z
DTEND:20211007T100000Z
SUMMARY:Sysarch21: Re-exam
END:VEVENT
END:VCALENDAR
