BEGIN:VCALENDAR
VERSION:2.0
PRODID:-//134.96.226.213//NONSGML kigkonsult.se iCalcreator 2.41.92//
CALSCALE:GREGORIAN
METHOD:PUBLISH
UID:66646264-3564-4261-b736-323039646632
X-WR-CALNAME:Systemarchitektur Calendar
X-WR-CALDESC:Events of the lecture Systemarchitektur
X-WR-TIMEZONE:Europe/Berlin
BEGIN:VEVENT
UID:36366330-3063-4564-b062-636636366531
DTSTAMP:20260426T010605Z
DESCRIPTION:
DTSTART:20210421T060500Z
DTEND:20210421T062000Z
SUMMARY:Demo Minitest
END:VEVENT
BEGIN:VEVENT
UID:31666134-3661-4730-b231-626265653331
DTSTAMP:20260426T010605Z
DESCRIPTION:
DTSTART:20210428T060500Z
DTEND:20210428T062000Z
SUMMARY:Minitest
END:VEVENT
BEGIN:VEVENT
UID:64363331-6265-4435-a332-373532306432
DTSTAMP:20260426T010605Z
DESCRIPTION:
DTSTART:20210512T060500Z
DTEND:20210512T062000Z
SUMMARY:Minitest
END:VEVENT
BEGIN:VEVENT
UID:34373761-6533-4733-a661-313266316630
DTSTAMP:20260426T010605Z
DESCRIPTION:
DTSTART:20210526T060500Z
DTEND:20210526T062000Z
SUMMARY:Minitest
END:VEVENT
BEGIN:VEVENT
UID:38303863-3436-4138-a563-303362303063
DTSTAMP:20260426T010605Z
DESCRIPTION:
DTSTART:20210609T060500Z
DTEND:20210609T062000Z
SUMMARY:Minitest
END:VEVENT
BEGIN:VEVENT
UID:33613139-6133-4234-a435-366535663933
DTSTAMP:20260426T010605Z
DESCRIPTION:
DTSTART:20210623T060500Z
DTEND:20210623T062000Z
SUMMARY:Minitest
END:VEVENT
BEGIN:VEVENT
UID:31363239-3434-4132-b338-633931373638
DTSTAMP:20260426T010605Z
DESCRIPTION:
DTSTART:20210707T060500Z
DTEND:20210707T062000Z
SUMMARY:Minitest
END:VEVENT
BEGIN:VEVENT
UID:38656432-3230-4738-b937-353731373234
DTSTAMP:20260426T010605Z
DESCRIPTION:
DTSTART:20210721T060500Z
DTEND:20210721T062000Z
SUMMARY:Extra Minitest
END:VEVENT
BEGIN:VEVENT
UID:62303132-6331-4230-a565-343739343961
DTSTAMP:20260426T010605Z
DESCRIPTION:
DTSTART:20210730T080000Z
DTEND:20210730T100000Z
SUMMARY:Endterm Exam
END:VEVENT
BEGIN:VEVENT
UID:35613332-3037-4336-a431-363631633338
DTSTAMP:20260426T010605Z
DESCRIPTION:
DTSTART:20211007T080000Z
DTEND:20211007T100000Z
SUMMARY:Re-exam
END:VEVENT
END:VCALENDAR
