BEGIN:VCALENDAR
VERSION:2.0
PRODID:-//134.96.226.213//NONSGML kigkonsult.se iCalcreator 2.41.92//
CALSCALE:GREGORIAN
METHOD:PUBLISH
UID:32333438-3033-4334-a566-626364383634
X-WR-CALNAME:Systemarchitektur Calendar
X-WR-CALDESC:Events of the lecture Systemarchitektur
X-WR-TIMEZONE:Europe/Berlin
BEGIN:VEVENT
UID:37376539-6266-4262-b262-386130303636
DTSTAMP:20260426T010606Z
DESCRIPTION:Neujahr in Deutschland
DTSTART;VALUE=DATE:20210101
DTEND;VALUE=DATE:20210102
SUMMARY:Neujahr in Deutschland
END:VEVENT
BEGIN:VEVENT
UID:30356134-3736-4064-b230-313836336365
DTSTAMP:20260426T010606Z
DESCRIPTION:Karfreitag in Deutschland
DTSTART;VALUE=DATE:20210402
DTEND;VALUE=DATE:20210403
SUMMARY:Karfreitag in Deutschland
END:VEVENT
BEGIN:VEVENT
UID:31336431-6164-4061-b337-303834333935
DTSTAMP:20260426T010606Z
DESCRIPTION:Ostermontag in Deutschland
DTSTART;VALUE=DATE:20210405
DTEND;VALUE=DATE:20210406
SUMMARY:Ostermontag in Deutschland
END:VEVENT
BEGIN:VEVENT
UID:66376561-3234-4166-b239-656462343166
DTSTAMP:20260426T010606Z
DESCRIPTION:Tag der Arbeit in Deutschland
DTSTART;VALUE=DATE:20210501
DTEND;VALUE=DATE:20210502
SUMMARY:Tag der Arbeit in Deutschland
END:VEVENT
BEGIN:VEVENT
UID:62653736-6233-4631-a439-353063623166
DTSTAMP:20260426T010606Z
DESCRIPTION:Christi Himmelfahrt in Deutschland
DTSTART;VALUE=DATE:20210513
DTEND;VALUE=DATE:20210514
SUMMARY:Christi Himmelfahrt in Deutschland
END:VEVENT
BEGIN:VEVENT
UID:66663865-3265-4130-b638-376536636637
DTSTAMP:20260426T010606Z
DESCRIPTION:Pfingstmontag in Deutschland
DTSTART;VALUE=DATE:20210524
DTEND;VALUE=DATE:20210525
SUMMARY:Pfingstmontag in Deutschland
END:VEVENT
BEGIN:VEVENT
UID:36313063-6239-4365-b536-626565646361
DTSTAMP:20260426T010606Z
DESCRIPTION:Fronleichnam in Deutschland
DTSTART;VALUE=DATE:20210603
DTEND;VALUE=DATE:20210604
SUMMARY:Fronleichnam in Deutschland
END:VEVENT
BEGIN:VEVENT
UID:66373139-3439-4364-b663-343762366636
DTSTAMP:20260426T010606Z
DESCRIPTION:Mariä Himmelfahrt in Deutschland
DTSTART;VALUE=DATE:20210815
DTEND;VALUE=DATE:20210816
SUMMARY:Mariä Himmelfahrt in Deutschland
END:VEVENT
BEGIN:VEVENT
UID:36376661-3034-4163-b635-646637303332
DTSTAMP:20260426T010606Z
DESCRIPTION:Tag der Deutschen Einheit
DTSTART;VALUE=DATE:20211003
DTEND;VALUE=DATE:20211004
SUMMARY:Tag der Deutschen Einheit
END:VEVENT
BEGIN:VEVENT
UID:36373861-6564-4266-a362-373363343162
DTSTAMP:20260426T010606Z
DESCRIPTION:Allerheiligen in Deutschland
DTSTART;VALUE=DATE:20211101
DTEND;VALUE=DATE:20211102
SUMMARY:Allerheiligen in Deutschland
END:VEVENT
BEGIN:VEVENT
UID:64393837-6166-4632-b666-396565653334
DTSTAMP:20260426T010606Z
DESCRIPTION:1. Weihnachtstag in Deutschland
DTSTART;VALUE=DATE:20211225
DTEND;VALUE=DATE:20211226
SUMMARY:1. Weihnachtstag in Deutschland
END:VEVENT
BEGIN:VEVENT
UID:31363633-3764-4663-a466-353263333836
DTSTAMP:20260426T010606Z
DESCRIPTION:2. Weihnachtstag in Deutschland
DTSTART;VALUE=DATE:20211226
DTEND;VALUE=DATE:20211227
SUMMARY:2. Weihnachtstag in Deutschland
END:VEVENT
BEGIN:VEVENT
UID:65303563-6439-4132-a232-393736653735
DTSTAMP:20260426T010606Z
DESCRIPTION:Neujahr in Deutschland - Importiert von Ferienwiki.de
DTSTART;VALUE=DATE:20220101
DTEND;VALUE=DATE:20220102
SUMMARY:Neujahr in Deutschland
END:VEVENT
BEGIN:VEVENT
UID:39353633-3732-4133-a361-616339633737
DTSTAMP:20260426T010606Z
DESCRIPTION:Karfreitag in Deutschland - Importiert von Ferienwiki.de
DTSTART;VALUE=DATE:20220415
DTEND;VALUE=DATE:20220416
SUMMARY:Karfreitag in Deutschland
END:VEVENT
BEGIN:VEVENT
UID:36626437-3261-4338-b430-386364386361
DTSTAMP:20260426T010606Z
DESCRIPTION:Ostermontag in Deutschland - Importiert von Ferienwiki.de
DTSTART;VALUE=DATE:20220418
DTEND;VALUE=DATE:20220419
SUMMARY:Ostermontag in Deutschland
END:VEVENT
BEGIN:VEVENT
UID:34643262-6365-4265-b861-336230663336
DTSTAMP:20260426T010606Z
DESCRIPTION:Tag der Arbeit in Deutschland - Importiert von Ferienwiki.de
DTSTART;VALUE=DATE:20220501
DTEND;VALUE=DATE:20220502
SUMMARY:Tag der Arbeit in Deutschland
END:VEVENT
BEGIN:VEVENT
UID:66653736-6561-4434-b265-636638626362
DTSTAMP:20260426T010606Z
DESCRIPTION:Christi Himmelfahrt in Deutschland - Importiert von Ferienwiki.
 de
DTSTART;VALUE=DATE:20220526
DTEND;VALUE=DATE:20220527
SUMMARY:Christi Himmelfahrt in Deutschland
END:VEVENT
BEGIN:VEVENT
UID:62323732-6333-4262-a465-373739376638
DTSTAMP:20260426T010606Z
DESCRIPTION:Pfingstmontag in Deutschland - Importiert von Ferienwiki.de
DTSTART;VALUE=DATE:20220606
DTEND;VALUE=DATE:20220607
SUMMARY:Pfingstmontag in Deutschland
END:VEVENT
BEGIN:VEVENT
UID:61623735-6262-4633-b463-393761663863
DTSTAMP:20260426T010606Z
DESCRIPTION:Fronleichnam in Deutschland - Importiert von Ferienwiki.de
DTSTART;VALUE=DATE:20220616
DTEND;VALUE=DATE:20220617
SUMMARY:Fronleichnam in Deutschland
END:VEVENT
BEGIN:VEVENT
UID:30396364-3139-4438-a138-323436376266
DTSTAMP:20260426T010606Z
DESCRIPTION:Mariä Himmelfahrt in Deutschland - Importiert von Ferienwiki.de
DTSTART;VALUE=DATE:20220815
DTEND;VALUE=DATE:20220816
SUMMARY:Mariä Himmelfahrt in Deutschland
END:VEVENT
BEGIN:VEVENT
UID:32323862-3465-4438-b530-303830326631
DTSTAMP:20260426T010606Z
DESCRIPTION:Tag der Deutschen Einheit - Importiert von Ferienwiki.de
DTSTART;VALUE=DATE:20221003
DTEND;VALUE=DATE:20221004
SUMMARY:Tag der Deutschen Einheit
END:VEVENT
BEGIN:VEVENT
UID:62623436-3065-4832-a431-643039356561
DTSTAMP:20260426T010606Z
DESCRIPTION:Allerheiligen in Deutschland - Importiert von Ferienwiki.de
DTSTART;VALUE=DATE:20221101
DTEND;VALUE=DATE:20221102
SUMMARY:Allerheiligen in Deutschland
END:VEVENT
BEGIN:VEVENT
UID:32393661-3536-4339-b031-346561373730
DTSTAMP:20260426T010606Z
DESCRIPTION:1. Weihnachtstag in Deutschland - Importiert von Ferienwiki.de
DTSTART;VALUE=DATE:20221225
DTEND;VALUE=DATE:20221226
SUMMARY:1. Weihnachtstag in Deutschland
END:VEVENT
BEGIN:VEVENT
UID:66303965-6430-4666-b762-333733666264
DTSTAMP:20260426T010606Z
DESCRIPTION:2. Weihnachtstag in Deutschland - Importiert von Ferienwiki.de
DTSTART;VALUE=DATE:20221226
DTEND;VALUE=DATE:20221227
SUMMARY:2. Weihnachtstag in Deutschland
END:VEVENT
BEGIN:VEVENT
UID:63323938-6362-4837-b234-373435313736
DTSTAMP:20260426T010606Z
DESCRIPTION:Neujahr in Deutschland - Importiert von Ferienwiki.de
DTSTART;VALUE=DATE:20230101
DTEND;VALUE=DATE:20230102
SUMMARY:Neujahr in Deutschland
END:VEVENT
BEGIN:VEVENT
UID:35383331-3731-4237-b134-353130303163
DTSTAMP:20260426T010606Z
DESCRIPTION:Karfreitag in Deutschland - Importiert von Ferienwiki.de
DTSTART;VALUE=DATE:20230407
DTEND;VALUE=DATE:20230408
SUMMARY:Karfreitag in Deutschland
END:VEVENT
BEGIN:VEVENT
UID:33633765-6439-4538-a436-323835386332
DTSTAMP:20260426T010606Z
DESCRIPTION:Ostermontag in Deutschland - Importiert von Ferienwiki.de
DTSTART;VALUE=DATE:20230410
DTEND;VALUE=DATE:20230411
SUMMARY:Ostermontag in Deutschland
END:VEVENT
BEGIN:VEVENT
UID:36353732-3834-4265-b938-346464623563
DTSTAMP:20260426T010606Z
DESCRIPTION:Tag der Arbeit in Deutschland - Importiert von Ferienwiki.de
DTSTART;VALUE=DATE:20230501
DTEND;VALUE=DATE:20230502
SUMMARY:Tag der Arbeit in Deutschland
END:VEVENT
BEGIN:VEVENT
UID:30313930-6366-4838-b165-383762333636
DTSTAMP:20260426T010606Z
DESCRIPTION:Christi Himmelfahrt in Deutschland - Importiert von Ferienwiki.
 de
DTSTART;VALUE=DATE:20230518
DTEND;VALUE=DATE:20230519
SUMMARY:Christi Himmelfahrt in Deutschland
END:VEVENT
BEGIN:VEVENT
UID:38643465-3563-4364-a661-366239353232
DTSTAMP:20260426T010606Z
DESCRIPTION:Pfingstmontag in Deutschland - Importiert von Ferienwiki.de
DTSTART;VALUE=DATE:20230529
DTEND;VALUE=DATE:20230530
SUMMARY:Pfingstmontag in Deutschland
END:VEVENT
BEGIN:VEVENT
UID:36346632-3236-4463-a462-303862396439
DTSTAMP:20260426T010606Z
DESCRIPTION:Fronleichnam in Deutschland - Importiert von Ferienwiki.de
DTSTART;VALUE=DATE:20230608
DTEND;VALUE=DATE:20230609
SUMMARY:Fronleichnam in Deutschland
END:VEVENT
BEGIN:VEVENT
UID:33653535-3164-4563-a461-613761393532
DTSTAMP:20260426T010606Z
DESCRIPTION:Mariä Himmelfahrt in Deutschland - Importiert von Ferienwiki.de
DTSTART;VALUE=DATE:20230815
DTEND;VALUE=DATE:20230816
SUMMARY:Mariä Himmelfahrt in Deutschland
END:VEVENT
BEGIN:VEVENT
UID:30376535-3764-4831-b366-666235313230
DTSTAMP:20260426T010606Z
DESCRIPTION:Tag der Deutschen Einheit - Importiert von Ferienwiki.de
DTSTART;VALUE=DATE:20231003
DTEND;VALUE=DATE:20231004
SUMMARY:Tag der Deutschen Einheit
END:VEVENT
BEGIN:VEVENT
UID:38386532-6136-4864-a633-393361393134
DTSTAMP:20260426T010606Z
DESCRIPTION:Allerheiligen in Deutschland - Importiert von Ferienwiki.de
DTSTART;VALUE=DATE:20231101
DTEND;VALUE=DATE:20231102
SUMMARY:Allerheiligen in Deutschland
END:VEVENT
BEGIN:VEVENT
UID:37663032-6566-4365-a562-633863613937
DTSTAMP:20260426T010606Z
DESCRIPTION:1. Weihnachtstag in Deutschland - Importiert von Ferienwiki.de
DTSTART;VALUE=DATE:20231225
DTEND;VALUE=DATE:20231226
SUMMARY:1. Weihnachtstag in Deutschland
END:VEVENT
BEGIN:VEVENT
UID:66343332-3335-4134-b136-383665666535
DTSTAMP:20260426T010606Z
DESCRIPTION:2. Weihnachtstag in Deutschland - Importiert von Ferienwiki.de
DTSTART;VALUE=DATE:20231226
DTEND;VALUE=DATE:20231227
SUMMARY:2. Weihnachtstag in Deutschland
END:VEVENT
BEGIN:VEVENT
UID:37396163-3062-4435-b661-313535353837
DTSTAMP:20260426T010606Z
DESCRIPTION:Neujahr in Deutschland - Importiert von Ferienwiki.de
DTSTART;VALUE=DATE:20240101
DTEND;VALUE=DATE:20240102
SUMMARY:Neujahr in Deutschland
END:VEVENT
BEGIN:VEVENT
UID:36333666-6663-4661-b337-333335616537
DTSTAMP:20260426T010606Z
DESCRIPTION:Karfreitag in Deutschland - Importiert von Ferienwiki.de
DTSTART;VALUE=DATE:20240329
DTEND;VALUE=DATE:20240330
SUMMARY:Karfreitag in Deutschland
END:VEVENT
BEGIN:VEVENT
UID:65303036-3965-4432-b063-636432383965
DTSTAMP:20260426T010606Z
DESCRIPTION:Ostermontag in Deutschland - Importiert von Ferienwiki.de
DTSTART;VALUE=DATE:20240401
DTEND;VALUE=DATE:20240402
SUMMARY:Ostermontag in Deutschland
END:VEVENT
BEGIN:VEVENT
UID:32393138-3232-4937-b839-323638623134
DTSTAMP:20260426T010606Z
DESCRIPTION:Tag der Arbeit in Deutschland - Importiert von Ferienwiki.de
DTSTART;VALUE=DATE:20240501
DTEND;VALUE=DATE:20240502
SUMMARY:Tag der Arbeit in Deutschland
END:VEVENT
BEGIN:VEVENT
UID:36656331-6361-4361-a361-616436643034
DTSTAMP:20260426T010606Z
DESCRIPTION:Christi Himmelfahrt in Deutschland - Importiert von Ferienwiki.
 de
DTSTART;VALUE=DATE:20240509
DTEND;VALUE=DATE:20240510
SUMMARY:Christi Himmelfahrt in Deutschland
END:VEVENT
BEGIN:VEVENT
UID:37333633-6232-4330-b165-643939613737
DTSTAMP:20260426T010606Z
DESCRIPTION:Pfingstmontag in Deutschland - Importiert von Ferienwiki.de
DTSTART;VALUE=DATE:20240520
DTEND;VALUE=DATE:20240521
SUMMARY:Pfingstmontag in Deutschland
END:VEVENT
BEGIN:VEVENT
UID:32306665-6564-4537-b266-656539303938
DTSTAMP:20260426T010606Z
DESCRIPTION:Fronleichnam in Deutschland - Importiert von Ferienwiki.de
DTSTART;VALUE=DATE:20240530
DTEND;VALUE=DATE:20240531
SUMMARY:Fronleichnam in Deutschland
END:VEVENT
BEGIN:VEVENT
UID:65393966-6635-4339-a230-383630613735
DTSTAMP:20260426T010606Z
DESCRIPTION:Mariä Himmelfahrt in Deutschland - Importiert von Ferienwiki.de
DTSTART;VALUE=DATE:20240815
DTEND;VALUE=DATE:20240816
SUMMARY:Mariä Himmelfahrt in Deutschland
END:VEVENT
BEGIN:VEVENT
UID:66303530-3438-4237-b832-646366656436
DTSTAMP:20260426T010606Z
DESCRIPTION:Tag der Deutschen Einheit - Importiert von Ferienwiki.de
DTSTART;VALUE=DATE:20241003
DTEND;VALUE=DATE:20241004
SUMMARY:Tag der Deutschen Einheit
END:VEVENT
BEGIN:VEVENT
UID:30616466-6637-4333-b466-363530616536
DTSTAMP:20260426T010606Z
DESCRIPTION:Allerheiligen in Deutschland - Importiert von Ferienwiki.de
DTSTART;VALUE=DATE:20241101
DTEND;VALUE=DATE:20241102
SUMMARY:Allerheiligen in Deutschland
END:VEVENT
BEGIN:VEVENT
UID:64353237-3539-4665-a365-633739663037
DTSTAMP:20260426T010606Z
DESCRIPTION:1. Weihnachtstag in Deutschland - Importiert von Ferienwiki.de
DTSTART;VALUE=DATE:20241225
DTEND;VALUE=DATE:20241226
SUMMARY:1. Weihnachtstag in Deutschland
END:VEVENT
BEGIN:VEVENT
UID:35636462-3335-4631-a330-613065613035
DTSTAMP:20260426T010606Z
DESCRIPTION:2. Weihnachtstag in Deutschland - Importiert von Ferienwiki.de
DTSTART;VALUE=DATE:20241226
DTEND;VALUE=DATE:20241227
SUMMARY:2. Weihnachtstag in Deutschland
END:VEVENT
END:VCALENDAR
