BEGIN:VCALENDAR
VERSION:2.0
PRODID:-//134.96.226.213//NONSGML kigkonsult.se iCalcreator 2.41.92//
CALSCALE:GREGORIAN
METHOD:PUBLISH
UID:61373733-6136-4235-a530-343639393831
X-WR-CALNAME:Systemarchitektur Calendar
X-WR-CALDESC:Events of the lecture Systemarchitektur
X-WR-TIMEZONE:Europe/Berlin
BEGIN:VEVENT
UID:33313736-3862-4034-b061-643535376233
DTSTAMP:20260426T010602Z
DESCRIPTION:
DTSTART:20210414T063000Z
DTEND:20210414T080000Z
SUMMARY:Sysarch21: Lecture
END:VEVENT
BEGIN:VEVENT
UID:66646661-3330-4434-b833-666464666665
DTSTAMP:20260426T010602Z
DESCRIPTION:
DTSTART:20210416T103000Z
DTEND:20210416T120000Z
SUMMARY:Sysarch21: Lecture
END:VEVENT
BEGIN:VEVENT
UID:64336331-3835-4235-b635-663435313034
DTSTAMP:20260426T010602Z
DESCRIPTION:
DTSTART:20210421T063000Z
DTEND:20210421T080000Z
SUMMARY:Sysarch21: Lecture
END:VEVENT
BEGIN:VEVENT
UID:38616432-3630-4539-b831-396131313266
DTSTAMP:20260426T010602Z
DESCRIPTION:
DTSTART:20210423T103000Z
DTEND:20210423T120000Z
SUMMARY:Sysarch21: Lecture
END:VEVENT
BEGIN:VEVENT
UID:66313139-3239-4132-a635-383132386165
DTSTAMP:20260426T010602Z
DESCRIPTION:
DTSTART:20210428T063000Z
DTEND:20210428T080000Z
SUMMARY:Sysarch21: Lecture
END:VEVENT
BEGIN:VEVENT
UID:37313233-3631-4234-b464-323333666264
DTSTAMP:20260426T010602Z
DESCRIPTION:
DTSTART:20210430T103000Z
DTEND:20210430T120000Z
SUMMARY:Sysarch21: Lecture
END:VEVENT
BEGIN:VEVENT
UID:36333935-3534-4339-b034-386231626331
DTSTAMP:20260426T010602Z
DESCRIPTION:
DTSTART:20210505T063000Z
DTEND:20210505T080000Z
SUMMARY:Sysarch21: Lecture
END:VEVENT
BEGIN:VEVENT
UID:66663236-3338-4164-b562-393530613665
DTSTAMP:20260426T010602Z
DESCRIPTION:
DTSTART:20210507T103000Z
DTEND:20210507T120000Z
SUMMARY:Sysarch21: Lecture
END:VEVENT
BEGIN:VEVENT
UID:37343562-6663-4564-a562-363033643761
DTSTAMP:20260426T010602Z
DESCRIPTION:
DTSTART:20210512T063000Z
DTEND:20210512T080000Z
SUMMARY:Sysarch21: Lecture
END:VEVENT
BEGIN:VEVENT
UID:31353638-6431-4962-b537-363530323064
DTSTAMP:20260426T010602Z
DESCRIPTION:
DTSTART:20210514T103000Z
DTEND:20210514T120000Z
SUMMARY:Sysarch21: Lecture
END:VEVENT
BEGIN:VEVENT
UID:65323361-3834-4432-a531-383330646138
DTSTAMP:20260426T010602Z
DESCRIPTION:
DTSTART:20210519T063000Z
DTEND:20210519T080000Z
SUMMARY:Sysarch21: Lecture
END:VEVENT
BEGIN:VEVENT
UID:65663065-3634-4634-b361-636663636262
DTSTAMP:20260426T010602Z
DESCRIPTION:
DTSTART:20210521T103000Z
DTEND:20210521T120000Z
SUMMARY:Sysarch21: Lecture
END:VEVENT
BEGIN:VEVENT
UID:65323465-3735-4433-b764-613037633863
DTSTAMP:20260426T010602Z
DESCRIPTION:
DTSTART:20210526T063000Z
DTEND:20210526T080000Z
SUMMARY:Sysarch21: Lecture
END:VEVENT
BEGIN:VEVENT
UID:34306361-3637-4039-b664-623765346531
DTSTAMP:20260426T010602Z
DESCRIPTION:
DTSTART:20210528T103000Z
DTEND:20210528T120000Z
SUMMARY:Sysarch21: Lecture
END:VEVENT
BEGIN:VEVENT
UID:61363039-3434-4333-a631-373831643761
DTSTAMP:20260426T010602Z
DESCRIPTION:
DTSTART:20210602T063000Z
DTEND:20210602T080000Z
SUMMARY:Sysarch21: Lecture
END:VEVENT
BEGIN:VEVENT
UID:35383062-3033-4439-b131-383633336131
DTSTAMP:20260426T010602Z
DESCRIPTION:
DTSTART:20210609T063000Z
DTEND:20210609T080000Z
SUMMARY:Sysarch21: Lecture
END:VEVENT
BEGIN:VEVENT
UID:63626432-6138-4163-b430-386262346535
DTSTAMP:20260426T010602Z
DESCRIPTION:
DTSTART:20210611T103000Z
DTEND:20210611T120000Z
SUMMARY:Sysarch21: Lecture
END:VEVENT
BEGIN:VEVENT
UID:63653437-3133-4030-b937-376638366639
DTSTAMP:20260426T010602Z
DESCRIPTION:
DTSTART:20210616T063000Z
DTEND:20210616T080000Z
SUMMARY:Sysarch21: Lecture
END:VEVENT
BEGIN:VEVENT
UID:66616336-6436-4435-a337-633431643934
DTSTAMP:20260426T010602Z
DESCRIPTION:
DTSTART:20210618T103000Z
DTEND:20210618T120000Z
SUMMARY:Sysarch21: Lecture
END:VEVENT
BEGIN:VEVENT
UID:34343635-3063-4635-b834-363365366563
DTSTAMP:20260426T010602Z
DESCRIPTION:
DTSTART:20210623T063000Z
DTEND:20210623T080000Z
SUMMARY:Sysarch21: Lecture
END:VEVENT
BEGIN:VEVENT
UID:32363739-6135-4430-a239-623465616438
DTSTAMP:20260426T010602Z
DESCRIPTION:
DTSTART:20210625T103000Z
DTEND:20210625T120000Z
SUMMARY:Sysarch21: Lecture
END:VEVENT
BEGIN:VEVENT
UID:66386166-3330-4836-a130-303062623334
DTSTAMP:20260426T010602Z
DESCRIPTION:
DTSTART:20210630T063000Z
DTEND:20210630T080000Z
SUMMARY:Sysarch21: Lecture
END:VEVENT
BEGIN:VEVENT
UID:34643762-6665-4731-b163-303637376635
DTSTAMP:20260426T010602Z
DESCRIPTION:
DTSTART:20210702T103000Z
DTEND:20210702T120000Z
SUMMARY:Sysarch21: Lecture
END:VEVENT
BEGIN:VEVENT
UID:34373664-6338-4362-b361-323165393634
DTSTAMP:20260426T010602Z
DESCRIPTION:
DTSTART:20210707T063000Z
DTEND:20210707T080000Z
SUMMARY:Sysarch21: Lecture
END:VEVENT
BEGIN:VEVENT
UID:65313330-3030-4333-b462-373237666133
DTSTAMP:20260426T010602Z
DESCRIPTION:
DTSTART:20210709T103000Z
DTEND:20210709T120000Z
SUMMARY:Sysarch21: Lecture
END:VEVENT
BEGIN:VEVENT
UID:31656164-3761-4338-a163-396438633534
DTSTAMP:20260426T010602Z
DESCRIPTION:
DTSTART:20210714T063000Z
DTEND:20210714T080000Z
SUMMARY:Sysarch21: Lecture
END:VEVENT
BEGIN:VEVENT
UID:39396631-6134-4231-a161-666530373839
DTSTAMP:20260426T010602Z
DESCRIPTION:
DTSTART:20210716T103000Z
DTEND:20210716T120000Z
SUMMARY:Sysarch21: Lecture
END:VEVENT
BEGIN:VEVENT
UID:37623639-3937-4732-b961-663734626662
DTSTAMP:20260426T010602Z
DESCRIPTION:
DTSTART:20210721T063000Z
DTEND:20210721T080000Z
SUMMARY:Sysarch21: Lecture
END:VEVENT
BEGIN:VEVENT
UID:34303737-3436-4235-b763-623638373161
DTSTAMP:20260426T010602Z
DESCRIPTION:
DTSTART:20210723T103000Z
DTEND:20210723T120000Z
SUMMARY:Sysarch21: Lecture
END:VEVENT
END:VCALENDAR
