BEGIN:VCALENDAR
VERSION:2.0
PRODID:-//134.96.226.213//NONSGML kigkonsult.se iCalcreator 2.41.92//
CALSCALE:GREGORIAN
METHOD:PUBLISH
UID:35653862-3630-4262-b635-666631383933
X-WR-CALNAME:Systemarchitektur Calendar
X-WR-CALDESC:Events of the lecture Systemarchitektur
X-WR-TIMEZONE:Europe/Berlin
BEGIN:VEVENT
UID:30653536-3636-4566-b637-363832343934
DTSTAMP:20260426T010603Z
DESCRIPTION:
DTSTART:20210426T063000Z
DTEND:20210426T120000Z
SUMMARY:Tutorium
END:VEVENT
BEGIN:VEVENT
UID:33383764-3033-4633-b739-383533366337
DTSTAMP:20260426T010603Z
DESCRIPTION:
DTSTART:20210503T063000Z
DTEND:20210503T120000Z
SUMMARY:Tutorium
END:VEVENT
BEGIN:VEVENT
UID:30346535-6638-4365-b963-326462313938
DTSTAMP:20260426T010603Z
DESCRIPTION:
DTSTART:20210510T063000Z
DTEND:20210510T120000Z
SUMMARY:Tutorium
END:VEVENT
BEGIN:VEVENT
UID:64353636-6166-4863-a533-373437643536
DTSTAMP:20260426T010603Z
DESCRIPTION:
DTSTART:20210517T063000Z
DTEND:20210517T120000Z
SUMMARY:Tutorium
END:VEVENT
BEGIN:VEVENT
UID:66363261-3663-4537-b661-366563363162
DTSTAMP:20260426T010603Z
DESCRIPTION:
DTSTART:20210531T063000Z
DTEND:20210531T120000Z
SUMMARY:Tutorium
END:VEVENT
BEGIN:VEVENT
UID:64316266-3365-4263-b861-653161653264
DTSTAMP:20260426T010603Z
DESCRIPTION:
DTSTART:20210607T063000Z
DTEND:20210607T120000Z
SUMMARY:Tutorium
END:VEVENT
BEGIN:VEVENT
UID:64323763-3039-4738-b139-383961333466
DTSTAMP:20260426T010603Z
DESCRIPTION:
DTSTART:20210614T063000Z
DTEND:20210614T120000Z
SUMMARY:Tutorium
END:VEVENT
BEGIN:VEVENT
UID:37316334-6535-4266-a239-363638313939
DTSTAMP:20260426T010603Z
DESCRIPTION:
DTSTART:20210621T063000Z
DTEND:20210621T120000Z
SUMMARY:Tutorium
END:VEVENT
BEGIN:VEVENT
UID:34393565-3339-4333-a664-356566656363
DTSTAMP:20260426T010603Z
DESCRIPTION:
DTSTART:20210628T063000Z
DTEND:20210628T120000Z
SUMMARY:Tutorium
END:VEVENT
BEGIN:VEVENT
UID:63653263-6136-4366-b333-663532383963
DTSTAMP:20260426T010603Z
DESCRIPTION:
DTSTART:20210705T063000Z
DTEND:20210705T120000Z
SUMMARY:Tutorium
END:VEVENT
BEGIN:VEVENT
UID:64336132-6630-4562-b535-393132383761
DTSTAMP:20260426T010603Z
DESCRIPTION:
DTSTART:20210712T063000Z
DTEND:20210712T120000Z
SUMMARY:Tutorium
END:VEVENT
BEGIN:VEVENT
UID:61616262-3631-4566-b339-336465306139
DTSTAMP:20260426T010603Z
DESCRIPTION:
DTSTART:20210719T063000Z
DTEND:20210719T120000Z
SUMMARY:Tutorium
END:VEVENT
END:VCALENDAR
