BEGIN:VCALENDAR
VERSION:2.0
PRODID:-//134.96.226.213//NONSGML kigkonsult.se iCalcreator 2.41.92//
CALSCALE:GREGORIAN
METHOD:PUBLISH
UID:62356332-6330-4533-a363-326261636436
X-WR-CALNAME:Statistics with R Calendar
X-WR-CALDESC:Events of the lecture Statistics with R
X-WR-TIMEZONE:Europe/Berlin
BEGIN:VEVENT
UID:61363164-6531-4337-b836-356630666335
DTSTAMP:20260424T212112Z
DESCRIPTION:
DTSTART:20241015T063000Z
DTEND:20241015T080000Z
LOCATION:GHH
SUMMARY:Statr: Statistics with R
END:VEVENT
BEGIN:VEVENT
UID:32393966-3461-4265-b637-393564643434
DTSTAMP:20260424T212112Z
DESCRIPTION:
DTSTART:20241017T063000Z
DTEND:20241017T080000Z
LOCATION:SR 107 E1 3
SUMMARY:Statr: Tutorial 2
END:VEVENT
BEGIN:VEVENT
UID:38333563-6437-4062-b637-626337656363
DTSTAMP:20260424T212112Z
DESCRIPTION:
DTSTART:20241017T063000Z
DTEND:20241017T080000Z
LOCATION:SR 016 E1 3
SUMMARY:Statr: Tutorial 1
END:VEVENT
BEGIN:VEVENT
UID:39323132-3465-4130-a361-356264623530
DTSTAMP:20260424T212112Z
DESCRIPTION:
DTSTART:20241017T081500Z
DTEND:20241017T094500Z
LOCATION:SR 107 E1 3
SUMMARY:Statr: Tutorial 4
END:VEVENT
BEGIN:VEVENT
UID:31383364-3432-4362-a236-623031653863
DTSTAMP:20260424T212112Z
DESCRIPTION:
DTSTART:20241018T101500Z
DTEND:20241018T114500Z
LOCATION:SR 015 E1 3
SUMMARY:Statr: Tutorial 6
END:VEVENT
BEGIN:VEVENT
UID:61303533-3934-4761-b463-643765643664
DTSTAMP:20260424T212112Z
DESCRIPTION:
DTSTART:20241018T101500Z
DTEND:20241018T114500Z
LOCATION:SR 014 E1 3
SUMMARY:Statr: Tutorial 5
END:VEVENT
BEGIN:VEVENT
UID:30393665-6638-4034-a131-653065636363
DTSTAMP:20260424T212112Z
DESCRIPTION:
DTSTART:20241018T121500Z
DTEND:20241018T134500Z
LOCATION:SR 107 in E1 3
SUMMARY:Statr: Tutorial 7: Class sheet
END:VEVENT
BEGIN:VEVENT
UID:62643334-6263-4037-a365-613462373266
DTSTAMP:20260424T212112Z
DESCRIPTION:
DTSTART:20241022T063000Z
DTEND:20241022T080000Z
LOCATION:GHH
SUMMARY:Statr: Statistics with R
END:VEVENT
BEGIN:VEVENT
UID:37366231-3432-4630-b866-343633666164
DTSTAMP:20260424T212112Z
DESCRIPTION:
DTSTART:20241024T063000Z
DTEND:20241024T080000Z
LOCATION:SR 016 E1 3
SUMMARY:Statr: Tutorial 1: Class sheet
END:VEVENT
BEGIN:VEVENT
UID:30363938-6136-4261-b933-333337623461
DTSTAMP:20260424T212112Z
DESCRIPTION:
DTSTART:20241024T063000Z
DTEND:20241024T080000Z
LOCATION:SR 107 E1 3
SUMMARY:Statr: Tutorial 2: Class sheet 1
END:VEVENT
BEGIN:VEVENT
UID:32626535-6538-4135-b462-363864346434
DTSTAMP:20260424T212112Z
DESCRIPTION:
DTSTART:20241024T081500Z
DTEND:20241024T094500Z
LOCATION:SR 107 E1 3
SUMMARY:Statr: Tutorial 4: Class Sheet
END:VEVENT
BEGIN:VEVENT
UID:66656566-6636-4661-b331-663261363835
DTSTAMP:20260424T212112Z
DESCRIPTION:
DTSTART:20241025T101500Z
DTEND:20241025T114500Z
LOCATION:SR 014 E1 3
SUMMARY:Statr: Tutorial 5: Class Sheet
END:VEVENT
BEGIN:VEVENT
UID:32303131-3631-4231-b430-633063616436
DTSTAMP:20260424T212112Z
DESCRIPTION:
DTSTART:20241025T101500Z
DTEND:20241025T114500Z
LOCATION:SR 015 E1 3
SUMMARY:Statr: Tutorial 6: Class Sheet
END:VEVENT
BEGIN:VEVENT
UID:34656431-6261-4766-a438-646531386563
DTSTAMP:20260424T212112Z
DESCRIPTION:
DTSTART:20241025T121500Z
DTEND:20241025T134500Z
LOCATION:SR 107 in E1 3
SUMMARY:Statr: Tutorial 7: Class sheet
END:VEVENT
BEGIN:VEVENT
UID:34333137-3035-4233-a565-396433336431
DTSTAMP:20260424T212112Z
DESCRIPTION:
DTSTART:20241029T073000Z
DTEND:20241029T090000Z
LOCATION:GHH
SUMMARY:Statr: Statistics with R
END:VEVENT
BEGIN:VEVENT
UID:61333338-3766-4962-b563-623632356563
DTSTAMP:20260424T212112Z
DESCRIPTION:
DTSTART:20241031T080000Z
DTEND:20241031T090000Z
LOCATION:SR 107\, E1 3
SUMMARY:Statr: office hour
END:VEVENT
BEGIN:VEVENT
UID:37393430-6639-4631-b935-383661323466
DTSTAMP:20260424T212112Z
DESCRIPTION:
DTSTART:20241031T090000Z
DTEND:20241031T100000Z
LOCATION:SR 107\, E1 3
SUMMARY:Statr: office hour
END:VEVENT
BEGIN:VEVENT
UID:63636565-3135-4264-a232-623930336239
DTSTAMP:20260424T212112Z
DESCRIPTION:
DTSTART:20241105T073000Z
DTEND:20241105T090000Z
LOCATION:GHH
SUMMARY:Statr: Statistics with R
END:VEVENT
BEGIN:VEVENT
UID:61363265-6463-4436-b033-636538623531
DTSTAMP:20260424T212112Z
DESCRIPTION:
DTSTART:20241107T073000Z
DTEND:20241107T090000Z
LOCATION:SR 016 E1 3
SUMMARY:Statr: Tutorial 1: Class sheet
END:VEVENT
BEGIN:VEVENT
UID:61386537-3039-4930-a239-306166643733
DTSTAMP:20260424T212112Z
DESCRIPTION:
DTSTART:20241107T073000Z
DTEND:20241107T090000Z
LOCATION:SR 107 E1 3
SUMMARY:Statr: Tutorial 2: Class sheet 3
END:VEVENT
BEGIN:VEVENT
UID:32666261-6266-4735-a363-616261373064
DTSTAMP:20260424T212112Z
DESCRIPTION:
DTSTART:20241107T091500Z
DTEND:20241107T104500Z
LOCATION:SR 107 E1 3
SUMMARY:Statr: Tutorial 4: Class Sheet
END:VEVENT
BEGIN:VEVENT
UID:37393834-6630-4237-b936-336539383332
DTSTAMP:20260424T212112Z
DESCRIPTION:
DTSTART:20241108T111500Z
DTEND:20241108T124500Z
LOCATION:SR 014 E1 3
SUMMARY:Statr: Tutorial 5: Class Sheet
END:VEVENT
BEGIN:VEVENT
UID:62303936-6134-4536-b032-343531383165
DTSTAMP:20260424T212112Z
DESCRIPTION:
DTSTART:20241108T111500Z
DTEND:20241108T124500Z
LOCATION:SR 015 E1 3
SUMMARY:Statr: Tutorial 6: Class Sheet
END:VEVENT
BEGIN:VEVENT
UID:33626231-6335-4162-b833-666666633566
DTSTAMP:20260424T212112Z
DESCRIPTION:
DTSTART:20241108T131500Z
DTEND:20241108T144500Z
LOCATION:SR 107 in E1 3
SUMMARY:Statr: Tutorial 7: Class sheet
END:VEVENT
BEGIN:VEVENT
UID:66356663-3966-4865-b438-656264396136
DTSTAMP:20260424T212112Z
DESCRIPTION:Talha
DTSTART:20241115T110000Z
DTEND:20241115T120000Z
LOCATION:SR 015\, E1 3
SUMMARY:Statr: office hour
END:VEVENT
BEGIN:VEVENT
UID:37313737-6234-4663-b136-373261623835
DTSTAMP:20260424T212112Z
DESCRIPTION:
DTSTART:20241115T130000Z
DTEND:20241115T140000Z
LOCATION:SR 015\, E1 3
SUMMARY:Statr: office hour
END:VEVENT
BEGIN:VEVENT
UID:66623561-3335-4561-b438-316336663630
DTSTAMP:20260424T212112Z
DESCRIPTION:
DTSTART:20241119T073000Z
DTEND:20241119T090000Z
LOCATION:GHH
SUMMARY:Statr: Statistics with R
END:VEVENT
BEGIN:VEVENT
UID:34303430-3435-4939-b137-373831663939
DTSTAMP:20260424T212112Z
DESCRIPTION:
DTSTART:20241121T073000Z
DTEND:20241121T090000Z
LOCATION:SR 107 E1 3
SUMMARY:Statr: Tutorial 2: Class sheet 1
END:VEVENT
BEGIN:VEVENT
UID:32313136-6534-4663-a232-623437383362
DTSTAMP:20260424T212112Z
DESCRIPTION:
DTSTART:20241121T073000Z
DTEND:20241121T090000Z
LOCATION:SR 016 E1 3
SUMMARY:Statr: Tutorial 1: Class sheet
END:VEVENT
BEGIN:VEVENT
UID:39363736-6466-4164-a466-616231393737
DTSTAMP:20260424T212112Z
DESCRIPTION:
DTSTART:20241121T091500Z
DTEND:20241121T104500Z
LOCATION:SR 107 E1 3
SUMMARY:Statr: Tutorial 4: Class Sheet
END:VEVENT
BEGIN:VEVENT
UID:61626561-6234-4734-b634-626331383339
DTSTAMP:20260424T212112Z
DESCRIPTION:
DTSTART:20241122T111500Z
DTEND:20241122T124500Z
LOCATION:SR 014 E1 3
SUMMARY:Statr: Tutorial 5: Class Sheet
END:VEVENT
BEGIN:VEVENT
UID:36386566-3938-4965-b233-633232643030
DTSTAMP:20260424T212112Z
DESCRIPTION:
DTSTART:20241122T111500Z
DTEND:20241122T124500Z
LOCATION:SR 015 E1 3
SUMMARY:Statr: Tutorial 6: Class Sheet
END:VEVENT
BEGIN:VEVENT
UID:62666336-3731-4438-b839-356464663437
DTSTAMP:20260424T212112Z
DESCRIPTION:
DTSTART:20241122T131500Z
DTEND:20241122T144500Z
LOCATION:SR 107 in E1 3
SUMMARY:Statr: Tutorial 7: Class sheet
END:VEVENT
BEGIN:VEVENT
UID:30393038-3063-4032-b861-303564646432
DTSTAMP:20260424T212112Z
DESCRIPTION:
DTSTART:20241126T073000Z
DTEND:20241126T090000Z
SUMMARY:Statr: Statistics with R
END:VEVENT
BEGIN:VEVENT
UID:34363830-3833-4038-b839-346431383330
DTSTAMP:20260424T212112Z
DESCRIPTION:
DTSTART:20241128T073000Z
DTEND:20241128T090000Z
LOCATION:SR 107 E1 3
SUMMARY:Statr: Tutorial 2: Class sheet 1
END:VEVENT
BEGIN:VEVENT
UID:62303932-6262-4133-b862-653163313936
DTSTAMP:20260424T212112Z
DESCRIPTION:
DTSTART:20241128T073000Z
DTEND:20241128T090000Z
LOCATION:SR 016 E1 3
SUMMARY:Statr: Tutorial 1: Class sheet
END:VEVENT
BEGIN:VEVENT
UID:36383162-3232-4734-b031-333933653764
DTSTAMP:20260424T212112Z
DESCRIPTION:
DTSTART:20241128T091500Z
DTEND:20241128T104500Z
LOCATION:SR 107 E1 3
SUMMARY:Statr: Tutorial 4: Class Sheet
END:VEVENT
BEGIN:VEVENT
UID:32343431-3466-4232-b330-663565653463
DTSTAMP:20260424T212112Z
DESCRIPTION:
DTSTART:20241129T111500Z
DTEND:20241129T124500Z
LOCATION:SR 014 E1 3
SUMMARY:Statr: Tutorial 5: Class Sheet
END:VEVENT
BEGIN:VEVENT
UID:34623532-3532-4737-a365-626533646366
DTSTAMP:20260424T212112Z
DESCRIPTION:
DTSTART:20241129T111500Z
DTEND:20241129T124500Z
LOCATION:SR 015 E1 3
SUMMARY:Statr: Tutorial 6: Class Sheet
END:VEVENT
BEGIN:VEVENT
UID:65306437-3339-4537-b230-366166306365
DTSTAMP:20260424T212112Z
DESCRIPTION:
DTSTART:20241129T131500Z
DTEND:20241129T144500Z
LOCATION:SR 107 in E1 3
SUMMARY:Statr: Tutorial 7: Class sheet
END:VEVENT
BEGIN:VEVENT
UID:31393861-6534-4364-a533-323235323033
DTSTAMP:20260424T212112Z
DESCRIPTION:
DTSTART:20241203T073000Z
DTEND:20241203T090000Z
LOCATION:GHH
SUMMARY:Statr: Statistics with R
END:VEVENT
BEGIN:VEVENT
UID:36366464-3335-4464-a131-353636343231
DTSTAMP:20260424T212112Z
DESCRIPTION:
DTSTART:20241205T073000Z
DTEND:20241205T090000Z
LOCATION:SR 107 E1 3
SUMMARY:Statr: Tutorial 2: Class sheet 1
END:VEVENT
BEGIN:VEVENT
UID:36376334-3534-4337-b465-613663356161
DTSTAMP:20260424T212112Z
DESCRIPTION:
DTSTART:20241205T073000Z
DTEND:20241205T090000Z
LOCATION:SR 016 E1 3
SUMMARY:Statr: Tutorial 1: Class sheet
END:VEVENT
BEGIN:VEVENT
UID:39626632-3261-4465-b336-343532356332
DTSTAMP:20260424T212112Z
DESCRIPTION:
DTSTART:20241205T091500Z
DTEND:20241205T104500Z
LOCATION:SR 107 E1 3
SUMMARY:Statr: Tutorial 4: Class Sheet
END:VEVENT
BEGIN:VEVENT
UID:34646232-3132-4937-a237-613065656438
DTSTAMP:20260424T212112Z
DESCRIPTION:
DTSTART:20241206T111500Z
DTEND:20241206T124500Z
LOCATION:SR 015 E1 3
SUMMARY:Statr: Tutorial 6: Class Sheet
END:VEVENT
BEGIN:VEVENT
UID:39616633-6232-4136-a366-376537316538
DTSTAMP:20260424T212112Z
DESCRIPTION:
DTSTART:20241206T111500Z
DTEND:20241206T124500Z
LOCATION:SR 014 E1 3
SUMMARY:Statr: Tutorial 5: Class Sheet
END:VEVENT
BEGIN:VEVENT
UID:65643636-3431-4330-b564-393866336230
DTSTAMP:20260424T212112Z
DESCRIPTION:
DTSTART:20241206T131500Z
DTEND:20241206T144500Z
LOCATION:SR 107 in E1 3
SUMMARY:Statr: Tutorial 7: Class sheet
END:VEVENT
BEGIN:VEVENT
UID:62396230-3736-4636-b533-623237393235
DTSTAMP:20260424T212112Z
DESCRIPTION:
DTSTART:20241210T073000Z
DTEND:20241210T090000Z
LOCATION:GHH
SUMMARY:Statr: Statistics with R
END:VEVENT
BEGIN:VEVENT
UID:62386635-6364-4533-a262-386331306136
DTSTAMP:20260424T212112Z
DESCRIPTION:
DTSTART:20241212T073000Z
DTEND:20241212T090000Z
LOCATION:SR 016 E1 3
SUMMARY:Statr: Tutorial 1: Class sheet
END:VEVENT
BEGIN:VEVENT
UID:61653338-3766-4331-b433-376265336333
DTSTAMP:20260424T212112Z
DESCRIPTION:
DTSTART:20241212T073000Z
DTEND:20241212T090000Z
LOCATION:SR 107 E1 3
SUMMARY:Statr: Tutorial 2: Class sheet 1
END:VEVENT
BEGIN:VEVENT
UID:34653830-3235-4662-b235-386430383835
DTSTAMP:20260424T212112Z
DESCRIPTION:
DTSTART:20241212T091500Z
DTEND:20241212T104500Z
LOCATION:SR 107 E1 3
SUMMARY:Statr: Tutorial 4: Class Sheet
END:VEVENT
BEGIN:VEVENT
UID:37323562-3366-4333-b535-346564356632
DTSTAMP:20260424T212112Z
DESCRIPTION:
DTSTART:20241213T111500Z
DTEND:20241213T124500Z
LOCATION:SR 014 E1 3
SUMMARY:Statr: Tutorial 5: Class Sheet
END:VEVENT
BEGIN:VEVENT
UID:63396233-3531-4762-a263-663937373034
DTSTAMP:20260424T212112Z
DESCRIPTION:
DTSTART:20241213T111500Z
DTEND:20241213T124500Z
LOCATION:SR 015 E1 3
SUMMARY:Statr: Tutorial 6: Class Sheet
END:VEVENT
BEGIN:VEVENT
UID:38613436-6533-4537-b534-376663373330
DTSTAMP:20260424T212112Z
DESCRIPTION:
DTSTART:20241213T131500Z
DTEND:20241213T144500Z
LOCATION:SR 107 in E1 3
SUMMARY:Statr: Tutorial 7: Class sheet
END:VEVENT
BEGIN:VEVENT
UID:37306639-3765-4937-a538-346430663666
DTSTAMP:20260424T212112Z
DESCRIPTION:
DTSTART:20241217T073000Z
DTEND:20241217T090000Z
LOCATION:GHH
SUMMARY:Statr: Statistics with R
END:VEVENT
BEGIN:VEVENT
UID:39333036-3563-4731-b931-363331643930
DTSTAMP:20260424T212112Z
DESCRIPTION:
DTSTART:20241219T073000Z
DTEND:20241219T090000Z
LOCATION:SR 107 E1 3
SUMMARY:Statr: Tutorial 2: Class sheet 1
END:VEVENT
BEGIN:VEVENT
UID:36623235-3834-4663-b361-623439323364
DTSTAMP:20260424T212112Z
DESCRIPTION:
DTSTART:20241219T073000Z
DTEND:20241219T090000Z
LOCATION:SR 016 E1 3
SUMMARY:Statr: Tutorial 1: Class sheet
END:VEVENT
BEGIN:VEVENT
UID:39353138-3563-4534-b938-373566623135
DTSTAMP:20260424T212112Z
DESCRIPTION:
DTSTART:20241219T091500Z
DTEND:20241219T104500Z
LOCATION:SR 107 E1 3
SUMMARY:Statr: Tutorial 4: Class Sheet
END:VEVENT
BEGIN:VEVENT
UID:30396532-3662-4733-a331-383132383163
DTSTAMP:20260424T212112Z
DESCRIPTION:
DTSTART:20241220T111500Z
DTEND:20241220T124500Z
LOCATION:SR 014 E1 3
SUMMARY:Statr: Tutorial 5: Class Sheet
END:VEVENT
BEGIN:VEVENT
UID:64366332-3832-4365-b534-646365653733
DTSTAMP:20260424T212112Z
DESCRIPTION:
DTSTART:20241220T111500Z
DTEND:20241220T124500Z
LOCATION:SR 015 E1 3
SUMMARY:Statr: Tutorial 6: Class Sheet
END:VEVENT
BEGIN:VEVENT
UID:31373238-6230-4138-b161-303466323236
DTSTAMP:20260424T212112Z
DESCRIPTION:
DTSTART:20241220T131500Z
DTEND:20241220T144500Z
LOCATION:SR 107 in E1 3
SUMMARY:Statr: Tutorial 7: Class sheet
END:VEVENT
BEGIN:VEVENT
UID:62316431-3533-4166-a530-383830353835
DTSTAMP:20260424T212112Z
DESCRIPTION:
DTSTART:20250107T073000Z
DTEND:20250107T090000Z
LOCATION:GHH
SUMMARY:Statr: Statistics with R
END:VEVENT
BEGIN:VEVENT
UID:65336438-3334-4639-a435-653438633832
DTSTAMP:20260424T212112Z
DESCRIPTION:
DTSTART:20250109T073000Z
DTEND:20250109T090000Z
LOCATION:SR 016 E1 3
SUMMARY:Statr: Tutorial 1: Class sheet
END:VEVENT
BEGIN:VEVENT
UID:37636436-6265-4163-b035-323937346562
DTSTAMP:20260424T212112Z
DESCRIPTION:
DTSTART:20250109T073000Z
DTEND:20250109T090000Z
LOCATION:SR 107 E1 3
SUMMARY:Statr: Tutorial 2: Class sheet 1
END:VEVENT
BEGIN:VEVENT
UID:32646366-6431-4338-b664-373035346535
DTSTAMP:20260424T212112Z
DESCRIPTION:
DTSTART:20250109T091500Z
DTEND:20250109T104500Z
LOCATION:SR 107 E1 3
SUMMARY:Statr: Tutorial 4: Class Sheet
END:VEVENT
BEGIN:VEVENT
UID:37396464-6663-4336-a630-303265363031
DTSTAMP:20260424T212112Z
DESCRIPTION:
DTSTART:20250110T111500Z
DTEND:20250110T124500Z
LOCATION:SR 015 E1 3
SUMMARY:Statr: Tutorial 6: Class Sheet
END:VEVENT
BEGIN:VEVENT
UID:30653539-3139-4033-b163-393438656131
DTSTAMP:20260424T212112Z
DESCRIPTION:
DTSTART:20250110T111500Z
DTEND:20250110T124500Z
LOCATION:SR 014 E1 3
SUMMARY:Statr: Tutorial 5: Class Sheet
END:VEVENT
BEGIN:VEVENT
UID:32383131-3364-4861-b661-363730636137
DTSTAMP:20260424T212112Z
DESCRIPTION:
DTSTART:20250110T131500Z
DTEND:20250110T144500Z
LOCATION:SR 107 in E1 3
SUMMARY:Statr: Tutorial 7: Class sheet
END:VEVENT
BEGIN:VEVENT
UID:34306337-3631-4661-b162-613163396666
DTSTAMP:20260424T212112Z
DESCRIPTION:
DTSTART:20250114T073000Z
DTEND:20250114T090000Z
LOCATION:GHH
SUMMARY:Statr: Statistics with R
END:VEVENT
BEGIN:VEVENT
UID:36333339-3031-4633-a637-313734383839
DTSTAMP:20260424T212112Z
DESCRIPTION:
DTSTART:20250116T073000Z
DTEND:20250116T090000Z
LOCATION:SR 016 E1 3
SUMMARY:Statr: Tutorial 1: Class sheet
END:VEVENT
BEGIN:VEVENT
UID:65616165-3539-4636-b661-373537613965
DTSTAMP:20260424T212112Z
DESCRIPTION:
DTSTART:20250116T073000Z
DTEND:20250116T090000Z
LOCATION:SR 107 E1 3
SUMMARY:Statr: Tutorial 2: Class sheet 1
END:VEVENT
BEGIN:VEVENT
UID:64336464-3935-4465-b865-666261636532
DTSTAMP:20260424T212112Z
DESCRIPTION:
DTSTART:20250116T091500Z
DTEND:20250116T104500Z
LOCATION:SR 107 E1 3
SUMMARY:Statr: Tutorial 4: Class Sheet
END:VEVENT
BEGIN:VEVENT
UID:30356464-3531-4364-b065-646332336432
DTSTAMP:20260424T212112Z
DESCRIPTION:
DTSTART:20250117T111500Z
DTEND:20250117T124500Z
LOCATION:SR 014 E1 3
SUMMARY:Statr: Tutorial 5: Class Sheet
END:VEVENT
BEGIN:VEVENT
UID:64336161-3063-4137-a664-303334623237
DTSTAMP:20260424T212112Z
DESCRIPTION:
DTSTART:20250117T111500Z
DTEND:20250117T124500Z
LOCATION:SR 015 E1 3
SUMMARY:Statr: Tutorial 6: Class Sheet
END:VEVENT
BEGIN:VEVENT
UID:30653831-6633-4532-a463-633861633237
DTSTAMP:20260424T212112Z
DESCRIPTION:
DTSTART:20250117T131500Z
DTEND:20250117T144500Z
LOCATION:SR 107 in E1 3
SUMMARY:Statr: Tutorial 7: Class sheet
END:VEVENT
BEGIN:VEVENT
UID:34663236-6638-4261-b965-383436663636
DTSTAMP:20260424T212112Z
DESCRIPTION:
DTSTART:20250121T073000Z
DTEND:20250121T090000Z
LOCATION:GHH
SUMMARY:Statr: Statistics with R
END:VEVENT
BEGIN:VEVENT
UID:65306135-3436-4239-b133-646339653565
DTSTAMP:20260424T212112Z
DESCRIPTION:
DTSTART:20250123T073000Z
DTEND:20250123T090000Z
LOCATION:SR 016 E1 3
SUMMARY:Statr: Tutorial 1
END:VEVENT
BEGIN:VEVENT
UID:61393735-6565-4337-b934-343136643835
DTSTAMP:20260424T212112Z
DESCRIPTION:
DTSTART:20250123T073000Z
DTEND:20250123T090000Z
LOCATION:SR 107 E1 3
SUMMARY:Statr: Tutorial 2
END:VEVENT
BEGIN:VEVENT
UID:33313730-3230-4561-b161-646665303737
DTSTAMP:20260424T212112Z
DESCRIPTION:
DTSTART:20250123T091500Z
DTEND:20250123T104500Z
LOCATION:SR 107 E1 3
SUMMARY:Statr: Tutorial 4
END:VEVENT
BEGIN:VEVENT
UID:66646565-6262-4430-b161-346539616463
DTSTAMP:20260424T212112Z
DESCRIPTION:
DTSTART:20250124T111500Z
DTEND:20250124T124500Z
LOCATION:SR 015 E1 3
SUMMARY:Statr: Tutorial 6
END:VEVENT
BEGIN:VEVENT
UID:39643561-3438-4163-b463-383662386131
DTSTAMP:20260424T212112Z
DESCRIPTION:
DTSTART:20250124T111500Z
DTEND:20250124T124500Z
LOCATION:SR 014 E1 3
SUMMARY:Statr: Tutorial 5
END:VEVENT
BEGIN:VEVENT
UID:66343738-6136-4531-b630-383336653563
DTSTAMP:20260424T212112Z
DESCRIPTION:
DTSTART:20250124T131500Z
DTEND:20250124T144500Z
LOCATION:SR 107 in E1 3
SUMMARY:Statr: Tutorial 7
END:VEVENT
BEGIN:VEVENT
UID:63653361-6463-4362-b564-323763386332
DTSTAMP:20260424T212112Z
DESCRIPTION:
DTSTART:20250128T073000Z
DTEND:20250128T090000Z
LOCATION:GHH
SUMMARY:Statr: Statistics with R
END:VEVENT
BEGIN:VEVENT
UID:35623539-3935-4131-a232-616562613265
DTSTAMP:20260424T212112Z
DESCRIPTION:
DTSTART:20250130T073000Z
DTEND:20250130T090000Z
LOCATION:SR 016 E1 3
SUMMARY:Statr: Tutorial 1: Class sheet
END:VEVENT
BEGIN:VEVENT
UID:62323233-6666-4831-b237-316632323737
DTSTAMP:20260424T212112Z
DESCRIPTION:
DTSTART:20250130T073000Z
DTEND:20250130T090000Z
LOCATION:SR 107 E1 3
SUMMARY:Statr: Tutorial 2: Class sheet 1
END:VEVENT
BEGIN:VEVENT
UID:66316530-3035-4233-a231-393065623137
DTSTAMP:20260424T212112Z
DESCRIPTION:
DTSTART:20250130T091500Z
DTEND:20250130T104500Z
LOCATION:SR 107 E1 3
SUMMARY:Statr: Tutorial 4: Class Sheet
END:VEVENT
BEGIN:VEVENT
UID:62303133-3036-4262-b031-353836323437
DTSTAMP:20260424T212112Z
DESCRIPTION:
DTSTART:20250131T111500Z
DTEND:20250131T124500Z
LOCATION:SR 014 E1 3
SUMMARY:Statr: Tutorial 5: Class Sheet
END:VEVENT
BEGIN:VEVENT
UID:65666662-6163-4635-b739-386135663535
DTSTAMP:20260424T212112Z
DESCRIPTION:
DTSTART:20250131T111500Z
DTEND:20250131T124500Z
LOCATION:SR 015 E1 3
SUMMARY:Statr: Tutorial 6: Class Sheet
END:VEVENT
BEGIN:VEVENT
UID:65663264-3965-4662-b162-653637366233
DTSTAMP:20260424T212112Z
DESCRIPTION:
DTSTART:20250131T131500Z
DTEND:20250131T144500Z
LOCATION:SR 107 in E1 3
SUMMARY:Statr: Tutorial 7: Class sheet
END:VEVENT
BEGIN:VEVENT
UID:31326636-3930-4637-b861-383432656237
DTSTAMP:20260424T212112Z
DESCRIPTION:
DTSTART:20250204T073000Z
DTEND:20250204T090000Z
LOCATION:GHH
SUMMARY:Statr: Statistics with R
END:VEVENT
BEGIN:VEVENT
UID:36393737-3235-4366-b638-363463323936
DTSTAMP:20260424T212112Z
DESCRIPTION:
DTSTART:20250206T073000Z
DTEND:20250206T090000Z
LOCATION:SR 016 E1 3
SUMMARY:Statr: Tutorial 1
END:VEVENT
BEGIN:VEVENT
UID:61616431-6263-4436-b836-363831346162
DTSTAMP:20260424T212112Z
DESCRIPTION:
DTSTART:20250206T073000Z
DTEND:20250206T090000Z
LOCATION:SR 107 E1 3
SUMMARY:Statr: Tutorial 2
END:VEVENT
BEGIN:VEVENT
UID:34666331-6131-4330-a166-323639303063
DTSTAMP:20260424T212112Z
DESCRIPTION:
DTSTART:20250206T091500Z
DTEND:20250206T104500Z
LOCATION:SR 107 E1 3
SUMMARY:Statr: Tutorial 4
END:VEVENT
BEGIN:VEVENT
UID:35653236-3863-4833-b035-313164656237
DTSTAMP:20260424T212112Z
DESCRIPTION:
DTSTART:20250207T111500Z
DTEND:20250207T124500Z
LOCATION:SR 015 E1 3
SUMMARY:Statr: Tutorial 6
END:VEVENT
BEGIN:VEVENT
UID:34393933-3761-4561-b739-666431643537
DTSTAMP:20260424T212112Z
DESCRIPTION:
DTSTART:20250207T111500Z
DTEND:20250207T124500Z
LOCATION:SR 014 E1 3
SUMMARY:Statr: Tutorial 5
END:VEVENT
BEGIN:VEVENT
UID:37393864-3534-4261-b765-353362373436
DTSTAMP:20260424T212112Z
DESCRIPTION:
DTSTART:20250207T131500Z
DTEND:20250207T144500Z
LOCATION:SR 107 in E1 3
SUMMARY:Statr: Tutorial 7
END:VEVENT
BEGIN:VEVENT
UID:63643439-3435-4534-b331-323666646539
DTSTAMP:20260424T212112Z
DESCRIPTION:
DTSTART:20250210T073000Z
DTEND:20250210T090000Z
SUMMARY:Statr: Main exam
END:VEVENT
BEGIN:VEVENT
UID:61346262-3433-4138-a461-363331626562
DTSTAMP:20260424T212112Z
DESCRIPTION:
DTSTART:20250401T063000Z
DTEND:20250401T080000Z
SUMMARY:Statr: Resit exam
END:VEVENT
END:VCALENDAR
