BEGIN:VCALENDAR
VERSION:2.0
PRODID:-//134.96.226.213//NONSGML kigkonsult.se iCalcreator 2.41.92//
CALSCALE:GREGORIAN
METHOD:PUBLISH
UID:35303966-3965-4538-a235-353733316264
X-WR-CALNAME:Statistics with R Calendar
X-WR-CALDESC:Events of the lecture Statistics with R
X-WR-TIMEZONE:Europe/Berlin
BEGIN:VEVENT
UID:38643337-3932-4331-b962-623430376364
DTSTAMP:20260424T212113Z
DESCRIPTION:
DTSTART:20241031T080000Z
DTEND:20241031T090000Z
LOCATION:SR 107\, E1 3
SUMMARY:office hour
END:VEVENT
BEGIN:VEVENT
UID:34333539-6463-4736-b836-366637396331
DTSTAMP:20260424T212113Z
DESCRIPTION:
DTSTART:20241031T090000Z
DTEND:20241031T100000Z
LOCATION:SR 107\, E1 3
SUMMARY:office hour
END:VEVENT
BEGIN:VEVENT
UID:63383735-6138-4537-a464-313032346666
DTSTAMP:20260424T212113Z
DESCRIPTION:Talha
DTSTART:20241115T110000Z
DTEND:20241115T120000Z
LOCATION:SR 015\, E1 3
SUMMARY:office hour
END:VEVENT
BEGIN:VEVENT
UID:33386331-6634-4365-b335-366135313966
DTSTAMP:20260424T212113Z
DESCRIPTION:
DTSTART:20241115T130000Z
DTEND:20241115T140000Z
LOCATION:SR 015\, E1 3
SUMMARY:office hour
END:VEVENT
END:VCALENDAR
