BEGIN:VCALENDAR
VERSION:2.0
PRODID:-//134.96.226.213//NONSGML kigkonsult.se iCalcreator 2.41.92//
CALSCALE:GREGORIAN
METHOD:PUBLISH
UID:64313463-3561-4935-a436-343538326137
X-WR-CALNAME:Statistics with R Calendar
X-WR-CALDESC:Events of the lecture Statistics with R
X-WR-TIMEZONE:Europe/Berlin
BEGIN:VEVENT
UID:38376139-3133-4431-a139-333032396431
DTSTAMP:20260424T212026Z
DESCRIPTION:
DTSTART:20241017T063000Z
DTEND:20241017T080000Z
LOCATION:SR 107 E1 3
SUMMARY:Tutorial 2
END:VEVENT
BEGIN:VEVENT
UID:62613337-3838-4432-b162-663963616632
DTSTAMP:20260424T212026Z
DESCRIPTION:
DTSTART:20241017T063000Z
DTEND:20241017T080000Z
LOCATION:SR 016 E1 3
SUMMARY:Tutorial 1
END:VEVENT
BEGIN:VEVENT
UID:33306537-6333-4765-a637-393935363439
DTSTAMP:20260424T212026Z
DESCRIPTION:
DTSTART:20241017T081500Z
DTEND:20241017T094500Z
LOCATION:SR 107 E1 3
SUMMARY:Tutorial 4
END:VEVENT
BEGIN:VEVENT
UID:31316166-6263-4563-b538-373735333130
DTSTAMP:20260424T212026Z
DESCRIPTION:
DTSTART:20241018T101500Z
DTEND:20241018T114500Z
LOCATION:SR 015 E1 3
SUMMARY:Tutorial 6
END:VEVENT
BEGIN:VEVENT
UID:64666135-3730-4635-a630-386165383535
DTSTAMP:20260424T212026Z
DESCRIPTION:
DTSTART:20241018T101500Z
DTEND:20241018T114500Z
LOCATION:SR 014 E1 3
SUMMARY:Tutorial 5
END:VEVENT
BEGIN:VEVENT
UID:63333833-3137-4264-a564-383664666537
DTSTAMP:20260424T212026Z
DESCRIPTION:
DTSTART:20241018T121500Z
DTEND:20241018T134500Z
LOCATION:SR 107 in E1 3
SUMMARY:Tutorial 7: Class sheet
END:VEVENT
BEGIN:VEVENT
UID:34616131-3635-4633-b635-626466373064
DTSTAMP:20260424T212026Z
DESCRIPTION:
DTSTART:20241024T063000Z
DTEND:20241024T080000Z
LOCATION:SR 107 E1 3
SUMMARY:Tutorial 2: Class sheet 1
END:VEVENT
BEGIN:VEVENT
UID:64636131-3535-4630-b335-626266646133
DTSTAMP:20260424T212026Z
DESCRIPTION:
DTSTART:20241024T063000Z
DTEND:20241024T080000Z
LOCATION:SR 016 E1 3
SUMMARY:Tutorial 1: Class sheet
END:VEVENT
BEGIN:VEVENT
UID:39356161-3362-4834-a432-653130653762
DTSTAMP:20260424T212026Z
DESCRIPTION:
DTSTART:20241024T081500Z
DTEND:20241024T094500Z
LOCATION:SR 107 E1 3
SUMMARY:Tutorial 4: Class Sheet
END:VEVENT
BEGIN:VEVENT
UID:63363533-6530-4365-b831-343466383661
DTSTAMP:20260424T212026Z
DESCRIPTION:
DTSTART:20241025T101500Z
DTEND:20241025T114500Z
LOCATION:SR 015 E1 3
SUMMARY:Tutorial 6: Class Sheet
END:VEVENT
BEGIN:VEVENT
UID:36386463-3239-4336-b736-653662613861
DTSTAMP:20260424T212026Z
DESCRIPTION:
DTSTART:20241025T101500Z
DTEND:20241025T114500Z
LOCATION:SR 014 E1 3
SUMMARY:Tutorial 5: Class Sheet
END:VEVENT
BEGIN:VEVENT
UID:61616365-3264-4162-a136-626164646538
DTSTAMP:20260424T212026Z
DESCRIPTION:
DTSTART:20241025T121500Z
DTEND:20241025T134500Z
LOCATION:SR 107 in E1 3
SUMMARY:Tutorial 7: Class sheet
END:VEVENT
BEGIN:VEVENT
UID:63383433-3137-4038-b832-383365303131
DTSTAMP:20260424T212026Z
DESCRIPTION:
DTSTART:20241107T073000Z
DTEND:20241107T090000Z
LOCATION:SR 016 E1 3
SUMMARY:Tutorial 1: Class sheet
END:VEVENT
BEGIN:VEVENT
UID:33653065-6233-4739-a539-326362393263
DTSTAMP:20260424T212026Z
DESCRIPTION:
DTSTART:20241107T073000Z
DTEND:20241107T090000Z
LOCATION:SR 107 E1 3
SUMMARY:Tutorial 2: Class sheet 3
END:VEVENT
BEGIN:VEVENT
UID:34393664-6136-4233-b161-623662616661
DTSTAMP:20260424T212026Z
DESCRIPTION:
DTSTART:20241107T091500Z
DTEND:20241107T104500Z
LOCATION:SR 107 E1 3
SUMMARY:Tutorial 4: Class Sheet
END:VEVENT
BEGIN:VEVENT
UID:61646438-3161-4164-a632-343366396134
DTSTAMP:20260424T212026Z
DESCRIPTION:
DTSTART:20241108T111500Z
DTEND:20241108T124500Z
LOCATION:SR 014 E1 3
SUMMARY:Tutorial 5: Class Sheet
END:VEVENT
BEGIN:VEVENT
UID:66306466-6262-4562-b862-383036393835
DTSTAMP:20260424T212026Z
DESCRIPTION:
DTSTART:20241108T111500Z
DTEND:20241108T124500Z
LOCATION:SR 015 E1 3
SUMMARY:Tutorial 6: Class Sheet
END:VEVENT
BEGIN:VEVENT
UID:65363538-6433-4433-b833-313635303933
DTSTAMP:20260424T212026Z
DESCRIPTION:
DTSTART:20241108T131500Z
DTEND:20241108T144500Z
LOCATION:SR 107 in E1 3
SUMMARY:Tutorial 7: Class sheet
END:VEVENT
BEGIN:VEVENT
UID:31393565-6462-4430-b835-616636653161
DTSTAMP:20260424T212026Z
DESCRIPTION:
DTSTART:20241121T073000Z
DTEND:20241121T090000Z
LOCATION:SR 016 E1 3
SUMMARY:Tutorial 1: Class sheet
END:VEVENT
BEGIN:VEVENT
UID:30393063-3236-4431-b261-376137383938
DTSTAMP:20260424T212026Z
DESCRIPTION:
DTSTART:20241121T073000Z
DTEND:20241121T090000Z
LOCATION:SR 107 E1 3
SUMMARY:Tutorial 2: Class sheet 1
END:VEVENT
BEGIN:VEVENT
UID:64376364-3565-4838-b731-653261343130
DTSTAMP:20260424T212026Z
DESCRIPTION:
DTSTART:20241121T091500Z
DTEND:20241121T104500Z
LOCATION:SR 107 E1 3
SUMMARY:Tutorial 4: Class Sheet
END:VEVENT
BEGIN:VEVENT
UID:66313431-3836-4133-a436-386233303233
DTSTAMP:20260424T212026Z
DESCRIPTION:
DTSTART:20241122T111500Z
DTEND:20241122T124500Z
LOCATION:SR 014 E1 3
SUMMARY:Tutorial 5: Class Sheet
END:VEVENT
BEGIN:VEVENT
UID:35323531-3033-4136-a666-396562383039
DTSTAMP:20260424T212026Z
DESCRIPTION:
DTSTART:20241122T111500Z
DTEND:20241122T124500Z
LOCATION:SR 015 E1 3
SUMMARY:Tutorial 6: Class Sheet
END:VEVENT
BEGIN:VEVENT
UID:36333934-6634-4631-a531-333130653132
DTSTAMP:20260424T212026Z
DESCRIPTION:
DTSTART:20241122T131500Z
DTEND:20241122T144500Z
LOCATION:SR 107 in E1 3
SUMMARY:Tutorial 7: Class sheet
END:VEVENT
BEGIN:VEVENT
UID:62656436-6335-4339-b065-343565623235
DTSTAMP:20260424T212026Z
DESCRIPTION:
DTSTART:20241128T073000Z
DTEND:20241128T090000Z
LOCATION:SR 107 E1 3
SUMMARY:Tutorial 2: Class sheet 1
END:VEVENT
BEGIN:VEVENT
UID:66343061-3463-4138-a133-666632346162
DTSTAMP:20260424T212026Z
DESCRIPTION:
DTSTART:20241128T073000Z
DTEND:20241128T090000Z
LOCATION:SR 016 E1 3
SUMMARY:Tutorial 1: Class sheet
END:VEVENT
BEGIN:VEVENT
UID:66323136-6238-4462-b930-653637326231
DTSTAMP:20260424T212026Z
DESCRIPTION:
DTSTART:20241128T091500Z
DTEND:20241128T104500Z
LOCATION:SR 107 E1 3
SUMMARY:Tutorial 4: Class Sheet
END:VEVENT
BEGIN:VEVENT
UID:63393966-3464-4539-b635-343732343730
DTSTAMP:20260424T212026Z
DESCRIPTION:
DTSTART:20241129T111500Z
DTEND:20241129T124500Z
LOCATION:SR 015 E1 3
SUMMARY:Tutorial 6: Class Sheet
END:VEVENT
BEGIN:VEVENT
UID:31343466-3032-4336-a439-323233653263
DTSTAMP:20260424T212026Z
DESCRIPTION:
DTSTART:20241129T111500Z
DTEND:20241129T124500Z
LOCATION:SR 014 E1 3
SUMMARY:Tutorial 5: Class Sheet
END:VEVENT
BEGIN:VEVENT
UID:32393063-6138-4133-b661-373539333336
DTSTAMP:20260424T212026Z
DESCRIPTION:
DTSTART:20241129T131500Z
DTEND:20241129T144500Z
LOCATION:SR 107 in E1 3
SUMMARY:Tutorial 7: Class sheet
END:VEVENT
BEGIN:VEVENT
UID:30653233-3564-4462-b765-396335313065
DTSTAMP:20260424T212026Z
DESCRIPTION:
DTSTART:20241205T073000Z
DTEND:20241205T090000Z
LOCATION:SR 016 E1 3
SUMMARY:Tutorial 1: Class sheet
END:VEVENT
BEGIN:VEVENT
UID:34656132-3534-4730-b337-613133396638
DTSTAMP:20260424T212026Z
DESCRIPTION:
DTSTART:20241205T073000Z
DTEND:20241205T090000Z
LOCATION:SR 107 E1 3
SUMMARY:Tutorial 2: Class sheet 1
END:VEVENT
BEGIN:VEVENT
UID:62613465-3132-4532-a461-653732613664
DTSTAMP:20260424T212026Z
DESCRIPTION:
DTSTART:20241205T091500Z
DTEND:20241205T104500Z
LOCATION:SR 107 E1 3
SUMMARY:Tutorial 4: Class Sheet
END:VEVENT
BEGIN:VEVENT
UID:39636237-6639-4631-a465-626365356236
DTSTAMP:20260424T212026Z
DESCRIPTION:
DTSTART:20241206T111500Z
DTEND:20241206T124500Z
LOCATION:SR 015 E1 3
SUMMARY:Tutorial 6: Class Sheet
END:VEVENT
BEGIN:VEVENT
UID:37393637-6636-4238-a433-323839373961
DTSTAMP:20260424T212026Z
DESCRIPTION:
DTSTART:20241206T111500Z
DTEND:20241206T124500Z
LOCATION:SR 014 E1 3
SUMMARY:Tutorial 5: Class Sheet
END:VEVENT
BEGIN:VEVENT
UID:33303031-3962-4262-a238-396230393663
DTSTAMP:20260424T212026Z
DESCRIPTION:
DTSTART:20241206T131500Z
DTEND:20241206T144500Z
LOCATION:SR 107 in E1 3
SUMMARY:Tutorial 7: Class sheet
END:VEVENT
BEGIN:VEVENT
UID:35393835-3764-4863-b362-663434633861
DTSTAMP:20260424T212026Z
DESCRIPTION:
DTSTART:20241212T073000Z
DTEND:20241212T090000Z
LOCATION:SR 016 E1 3
SUMMARY:Tutorial 1: Class sheet
END:VEVENT
BEGIN:VEVENT
UID:66626433-3438-4330-b166-363235376535
DTSTAMP:20260424T212026Z
DESCRIPTION:
DTSTART:20241212T073000Z
DTEND:20241212T090000Z
LOCATION:SR 107 E1 3
SUMMARY:Tutorial 2: Class sheet 1
END:VEVENT
BEGIN:VEVENT
UID:39666432-3065-4562-b238-663765656266
DTSTAMP:20260424T212026Z
DESCRIPTION:
DTSTART:20241212T091500Z
DTEND:20241212T104500Z
LOCATION:SR 107 E1 3
SUMMARY:Tutorial 4: Class Sheet
END:VEVENT
BEGIN:VEVENT
UID:35633235-6365-4330-b063-663966323433
DTSTAMP:20260424T212026Z
DESCRIPTION:
DTSTART:20241213T111500Z
DTEND:20241213T124500Z
LOCATION:SR 014 E1 3
SUMMARY:Tutorial 5: Class Sheet
END:VEVENT
BEGIN:VEVENT
UID:38663466-3163-4266-b937-663339356161
DTSTAMP:20260424T212026Z
DESCRIPTION:
DTSTART:20241213T111500Z
DTEND:20241213T124500Z
LOCATION:SR 015 E1 3
SUMMARY:Tutorial 6: Class Sheet
END:VEVENT
BEGIN:VEVENT
UID:36616361-3835-4432-b531-353465623434
DTSTAMP:20260424T212026Z
DESCRIPTION:
DTSTART:20241213T131500Z
DTEND:20241213T144500Z
LOCATION:SR 107 in E1 3
SUMMARY:Tutorial 7: Class sheet
END:VEVENT
BEGIN:VEVENT
UID:32316434-3331-4937-a430-363738616233
DTSTAMP:20260424T212026Z
DESCRIPTION:
DTSTART:20241219T073000Z
DTEND:20241219T090000Z
LOCATION:SR 016 E1 3
SUMMARY:Tutorial 1: Class sheet
END:VEVENT
BEGIN:VEVENT
UID:39623131-6339-4561-a331-326261623032
DTSTAMP:20260424T212026Z
DESCRIPTION:
DTSTART:20241219T073000Z
DTEND:20241219T090000Z
LOCATION:SR 107 E1 3
SUMMARY:Tutorial 2: Class sheet 1
END:VEVENT
BEGIN:VEVENT
UID:63336164-6538-4734-b564-663936333632
DTSTAMP:20260424T212026Z
DESCRIPTION:
DTSTART:20241219T091500Z
DTEND:20241219T104500Z
LOCATION:SR 107 E1 3
SUMMARY:Tutorial 4: Class Sheet
END:VEVENT
BEGIN:VEVENT
UID:66323534-3231-4264-b433-313931306131
DTSTAMP:20260424T212026Z
DESCRIPTION:
DTSTART:20241220T111500Z
DTEND:20241220T124500Z
LOCATION:SR 014 E1 3
SUMMARY:Tutorial 5: Class Sheet
END:VEVENT
BEGIN:VEVENT
UID:65373131-3235-4561-b737-393331663162
DTSTAMP:20260424T212026Z
DESCRIPTION:
DTSTART:20241220T111500Z
DTEND:20241220T124500Z
LOCATION:SR 015 E1 3
SUMMARY:Tutorial 6: Class Sheet
END:VEVENT
BEGIN:VEVENT
UID:62616262-3738-4964-a663-666634306134
DTSTAMP:20260424T212026Z
DESCRIPTION:
DTSTART:20241220T131500Z
DTEND:20241220T144500Z
LOCATION:SR 107 in E1 3
SUMMARY:Tutorial 7: Class sheet
END:VEVENT
BEGIN:VEVENT
UID:35643630-6336-4431-b630-353364336431
DTSTAMP:20260424T212026Z
DESCRIPTION:
DTSTART:20250109T073000Z
DTEND:20250109T090000Z
LOCATION:SR 016 E1 3
SUMMARY:Tutorial 1: Class sheet
END:VEVENT
BEGIN:VEVENT
UID:66633330-6639-4831-a464-386333353538
DTSTAMP:20260424T212026Z
DESCRIPTION:
DTSTART:20250109T073000Z
DTEND:20250109T090000Z
LOCATION:SR 107 E1 3
SUMMARY:Tutorial 2: Class sheet 1
END:VEVENT
BEGIN:VEVENT
UID:34303536-6162-4639-b563-376139656562
DTSTAMP:20260424T212026Z
DESCRIPTION:
DTSTART:20250109T091500Z
DTEND:20250109T104500Z
LOCATION:SR 107 E1 3
SUMMARY:Tutorial 4: Class Sheet
END:VEVENT
BEGIN:VEVENT
UID:39316235-3264-4563-b830-626334336633
DTSTAMP:20260424T212026Z
DESCRIPTION:
DTSTART:20250110T111500Z
DTEND:20250110T124500Z
LOCATION:SR 014 E1 3
SUMMARY:Tutorial 5: Class Sheet
END:VEVENT
BEGIN:VEVENT
UID:64336130-6635-4764-a561-616163376363
DTSTAMP:20260424T212026Z
DESCRIPTION:
DTSTART:20250110T111500Z
DTEND:20250110T124500Z
LOCATION:SR 015 E1 3
SUMMARY:Tutorial 6: Class Sheet
END:VEVENT
BEGIN:VEVENT
UID:64306363-3466-4563-a466-303763656435
DTSTAMP:20260424T212026Z
DESCRIPTION:
DTSTART:20250110T131500Z
DTEND:20250110T144500Z
LOCATION:SR 107 in E1 3
SUMMARY:Tutorial 7: Class sheet
END:VEVENT
BEGIN:VEVENT
UID:33393966-3932-4535-b262-376530383962
DTSTAMP:20260424T212026Z
DESCRIPTION:
DTSTART:20250116T073000Z
DTEND:20250116T090000Z
LOCATION:SR 107 E1 3
SUMMARY:Tutorial 2: Class sheet 1
END:VEVENT
BEGIN:VEVENT
UID:38326530-6538-4561-b661-653463633666
DTSTAMP:20260424T212026Z
DESCRIPTION:
DTSTART:20250116T073000Z
DTEND:20250116T090000Z
LOCATION:SR 016 E1 3
SUMMARY:Tutorial 1: Class sheet
END:VEVENT
BEGIN:VEVENT
UID:35613135-3865-4234-b762-666231613362
DTSTAMP:20260424T212026Z
DESCRIPTION:
DTSTART:20250116T091500Z
DTEND:20250116T104500Z
LOCATION:SR 107 E1 3
SUMMARY:Tutorial 4: Class Sheet
END:VEVENT
BEGIN:VEVENT
UID:39373636-3135-4234-b161-633564316362
DTSTAMP:20260424T212026Z
DESCRIPTION:
DTSTART:20250117T111500Z
DTEND:20250117T124500Z
LOCATION:SR 015 E1 3
SUMMARY:Tutorial 6: Class Sheet
END:VEVENT
BEGIN:VEVENT
UID:31393134-3133-4533-a663-636364666163
DTSTAMP:20260424T212026Z
DESCRIPTION:
DTSTART:20250117T111500Z
DTEND:20250117T124500Z
LOCATION:SR 014 E1 3
SUMMARY:Tutorial 5: Class Sheet
END:VEVENT
BEGIN:VEVENT
UID:32376432-3338-4832-b431-626363633066
DTSTAMP:20260424T212026Z
DESCRIPTION:
DTSTART:20250117T131500Z
DTEND:20250117T144500Z
LOCATION:SR 107 in E1 3
SUMMARY:Tutorial 7: Class sheet
END:VEVENT
BEGIN:VEVENT
UID:65373539-3435-4338-a466-643966333561
DTSTAMP:20260424T212026Z
DESCRIPTION:
DTSTART:20250123T073000Z
DTEND:20250123T090000Z
LOCATION:SR 107 E1 3
SUMMARY:Tutorial 2
END:VEVENT
BEGIN:VEVENT
UID:31663561-3731-4634-a133-376361653034
DTSTAMP:20260424T212026Z
DESCRIPTION:
DTSTART:20250123T073000Z
DTEND:20250123T090000Z
LOCATION:SR 016 E1 3
SUMMARY:Tutorial 1
END:VEVENT
BEGIN:VEVENT
UID:39663531-3463-4437-a664-313363333336
DTSTAMP:20260424T212026Z
DESCRIPTION:
DTSTART:20250123T091500Z
DTEND:20250123T104500Z
LOCATION:SR 107 E1 3
SUMMARY:Tutorial 4
END:VEVENT
BEGIN:VEVENT
UID:33323537-3535-4666-b231-356530643937
DTSTAMP:20260424T212026Z
DESCRIPTION:
DTSTART:20250124T111500Z
DTEND:20250124T124500Z
LOCATION:SR 014 E1 3
SUMMARY:Tutorial 5
END:VEVENT
BEGIN:VEVENT
UID:39653566-6261-4364-a561-366133356636
DTSTAMP:20260424T212026Z
DESCRIPTION:
DTSTART:20250124T111500Z
DTEND:20250124T124500Z
LOCATION:SR 015 E1 3
SUMMARY:Tutorial 6
END:VEVENT
BEGIN:VEVENT
UID:65616566-3865-4033-b261-363231616235
DTSTAMP:20260424T212026Z
DESCRIPTION:
DTSTART:20250124T131500Z
DTEND:20250124T144500Z
LOCATION:SR 107 in E1 3
SUMMARY:Tutorial 7
END:VEVENT
BEGIN:VEVENT
UID:39373632-6330-4733-a362-376663326334
DTSTAMP:20260424T212026Z
DESCRIPTION:
DTSTART:20250130T073000Z
DTEND:20250130T090000Z
LOCATION:SR 107 E1 3
SUMMARY:Tutorial 2: Class sheet 1
END:VEVENT
BEGIN:VEVENT
UID:30303737-3530-4636-b064-323336613765
DTSTAMP:20260424T212026Z
DESCRIPTION:
DTSTART:20250130T073000Z
DTEND:20250130T090000Z
LOCATION:SR 016 E1 3
SUMMARY:Tutorial 1: Class sheet
END:VEVENT
BEGIN:VEVENT
UID:61616639-3539-4763-b862-306163643865
DTSTAMP:20260424T212026Z
DESCRIPTION:
DTSTART:20250130T091500Z
DTEND:20250130T104500Z
LOCATION:SR 107 E1 3
SUMMARY:Tutorial 4: Class Sheet
END:VEVENT
BEGIN:VEVENT
UID:37323734-3033-4165-b363-316535313337
DTSTAMP:20260424T212026Z
DESCRIPTION:
DTSTART:20250131T111500Z
DTEND:20250131T124500Z
LOCATION:SR 014 E1 3
SUMMARY:Tutorial 5: Class Sheet
END:VEVENT
BEGIN:VEVENT
UID:66643761-3735-4337-b762-346362366136
DTSTAMP:20260424T212026Z
DESCRIPTION:
DTSTART:20250131T111500Z
DTEND:20250131T124500Z
LOCATION:SR 015 E1 3
SUMMARY:Tutorial 6: Class Sheet
END:VEVENT
BEGIN:VEVENT
UID:35353363-6539-4330-a266-306663633431
DTSTAMP:20260424T212026Z
DESCRIPTION:
DTSTART:20250131T131500Z
DTEND:20250131T144500Z
LOCATION:SR 107 in E1 3
SUMMARY:Tutorial 7: Class sheet
END:VEVENT
BEGIN:VEVENT
UID:64323934-3361-4163-a333-653936396235
DTSTAMP:20260424T212026Z
DESCRIPTION:
DTSTART:20250206T073000Z
DTEND:20250206T090000Z
LOCATION:SR 016 E1 3
SUMMARY:Tutorial 1
END:VEVENT
BEGIN:VEVENT
UID:61643330-3635-4436-b634-663739336633
DTSTAMP:20260424T212026Z
DESCRIPTION:
DTSTART:20250206T073000Z
DTEND:20250206T090000Z
LOCATION:SR 107 E1 3
SUMMARY:Tutorial 2
END:VEVENT
BEGIN:VEVENT
UID:66313134-3132-4637-a664-626439343565
DTSTAMP:20260424T212026Z
DESCRIPTION:
DTSTART:20250206T091500Z
DTEND:20250206T104500Z
LOCATION:SR 107 E1 3
SUMMARY:Tutorial 4
END:VEVENT
BEGIN:VEVENT
UID:61366330-6137-4362-a635-626266383132
DTSTAMP:20260424T212026Z
DESCRIPTION:
DTSTART:20250207T111500Z
DTEND:20250207T124500Z
LOCATION:SR 014 E1 3
SUMMARY:Tutorial 5
END:VEVENT
BEGIN:VEVENT
UID:30386131-6265-4039-b965-396363386363
DTSTAMP:20260424T212026Z
DESCRIPTION:
DTSTART:20250207T111500Z
DTEND:20250207T124500Z
LOCATION:SR 015 E1 3
SUMMARY:Tutorial 6
END:VEVENT
BEGIN:VEVENT
UID:36316239-3336-4033-b362-656230383237
DTSTAMP:20260424T212026Z
DESCRIPTION:
DTSTART:20250207T131500Z
DTEND:20250207T144500Z
LOCATION:SR 107 in E1 3
SUMMARY:Tutorial 7
END:VEVENT
END:VCALENDAR
