BEGIN:VCALENDAR
VERSION:2.0
PRODID:-//134.96.226.213//NONSGML kigkonsult.se iCalcreator 2.41.92//
CALSCALE:GREGORIAN
METHOD:PUBLISH
UID:66656533-3862-4331-b635-323035623665
X-WR-CALNAME:Statistics with R Calendar
X-WR-CALDESC:Events of the lecture Statistics with R
X-WR-TIMEZONE:Europe/Berlin
BEGIN:VEVENT
UID:33363636-3232-4335-b263-326531303537
DTSTAMP:20260424T212112Z
DESCRIPTION:
DTSTART:20241015T063000Z
DTEND:20241015T080000Z
LOCATION:GHH
SUMMARY:Statistics with R
END:VEVENT
BEGIN:VEVENT
UID:32666330-3365-4535-a133-376134393131
DTSTAMP:20260424T212112Z
DESCRIPTION:
DTSTART:20241022T063000Z
DTEND:20241022T080000Z
LOCATION:GHH
SUMMARY:Statistics with R
END:VEVENT
BEGIN:VEVENT
UID:61303130-3438-4865-a130-333937343361
DTSTAMP:20260424T212112Z
DESCRIPTION:
DTSTART:20241029T073000Z
DTEND:20241029T090000Z
LOCATION:GHH
SUMMARY:Statistics with R
END:VEVENT
BEGIN:VEVENT
UID:66653034-6437-4630-a333-303861623762
DTSTAMP:20260424T212112Z
DESCRIPTION:
DTSTART:20241105T073000Z
DTEND:20241105T090000Z
LOCATION:GHH
SUMMARY:Statistics with R
END:VEVENT
BEGIN:VEVENT
UID:34396264-3038-4031-b638-616162376263
DTSTAMP:20260424T212112Z
DESCRIPTION:
DTSTART:20241119T073000Z
DTEND:20241119T090000Z
LOCATION:GHH
SUMMARY:Statistics with R
END:VEVENT
BEGIN:VEVENT
UID:37303265-6432-4661-b337-653062663930
DTSTAMP:20260424T212112Z
DESCRIPTION:
DTSTART:20241126T073000Z
DTEND:20241126T090000Z
SUMMARY:Statistics with R
END:VEVENT
BEGIN:VEVENT
UID:63383232-3962-4134-b338-313462653532
DTSTAMP:20260424T212112Z
DESCRIPTION:
DTSTART:20241203T073000Z
DTEND:20241203T090000Z
LOCATION:GHH
SUMMARY:Statistics with R
END:VEVENT
BEGIN:VEVENT
UID:65653530-6232-4131-b636-373266333963
DTSTAMP:20260424T212112Z
DESCRIPTION:
DTSTART:20241210T073000Z
DTEND:20241210T090000Z
LOCATION:GHH
SUMMARY:Statistics with R
END:VEVENT
BEGIN:VEVENT
UID:64616533-6236-4632-b036-386262373232
DTSTAMP:20260424T212112Z
DESCRIPTION:
DTSTART:20241217T073000Z
DTEND:20241217T090000Z
LOCATION:GHH
SUMMARY:Statistics with R
END:VEVENT
BEGIN:VEVENT
UID:31626536-3932-4139-a432-316334353639
DTSTAMP:20260424T212112Z
DESCRIPTION:
DTSTART:20250107T073000Z
DTEND:20250107T090000Z
LOCATION:GHH
SUMMARY:Statistics with R
END:VEVENT
BEGIN:VEVENT
UID:66643634-3632-4338-a139-373133383964
DTSTAMP:20260424T212112Z
DESCRIPTION:
DTSTART:20250114T073000Z
DTEND:20250114T090000Z
LOCATION:GHH
SUMMARY:Statistics with R
END:VEVENT
BEGIN:VEVENT
UID:39656232-6637-4864-a462-303166383161
DTSTAMP:20260424T212112Z
DESCRIPTION:
DTSTART:20250121T073000Z
DTEND:20250121T090000Z
LOCATION:GHH
SUMMARY:Statistics with R
END:VEVENT
BEGIN:VEVENT
UID:66336535-3863-4663-b435-666630303339
DTSTAMP:20260424T212112Z
DESCRIPTION:
DTSTART:20250128T073000Z
DTEND:20250128T090000Z
LOCATION:GHH
SUMMARY:Statistics with R
END:VEVENT
BEGIN:VEVENT
UID:31303836-3961-4933-b963-613364333033
DTSTAMP:20260424T212112Z
DESCRIPTION:
DTSTART:20250204T073000Z
DTEND:20250204T090000Z
LOCATION:GHH
SUMMARY:Statistics with R
END:VEVENT
END:VCALENDAR
