BEGIN:VCALENDAR
VERSION:2.0
PRODID:-//134.96.226.213//NONSGML kigkonsult.se iCalcreator 2.41.71//
CALSCALE:GREGORIAN
METHOD:PUBLISH
UID:64346532-3938-4264-b733-393332363762
X-WR-CALNAME:Social Computing Calendar
X-WR-CALDESC:Events of the lecture Social Computing
X-WR-TIMEZONE:Europe/Berlin
BEGIN:VEVENT
UID:36363066-6536-4263-b937-626638353362
DTSTAMP:20260421T101032Z
DESCRIPTION:
DTSTART:20230223T090000Z
DTEND:20230223T120000Z
LOCATION:E1 3 room 001
SUMMARY:Soccomp2223: Main Exam
END:VEVENT
BEGIN:VEVENT
UID:64356534-6565-4064-b534-366232613265
DTSTAMP:20260421T101032Z
DESCRIPTION:
DTSTART:20230330T080000Z
DTEND:20230330T110000Z
LOCATION:E1 3 room 001
SUMMARY:Soccomp2223: Re-Exam
END:VEVENT
END:VCALENDAR
