BEGIN:VCALENDAR
VERSION:2.0
PRODID:-//134.96.226.213//NONSGML kigkonsult.se iCalcreator 2.41.71//
CALSCALE:GREGORIAN
METHOD:PUBLISH
UID:39353632-6435-4334-a633-623338383766
X-WR-CALNAME:Social Computing Calendar
X-WR-CALDESC:Events of the lecture Social Computing
X-WR-TIMEZONE:Europe/Berlin
BEGIN:VEVENT
UID:31363065-6165-4664-b736-643732616235
DTSTAMP:20260421T101132Z
DESCRIPTION:Organisation and Structure\nGoals
DTSTART:20221027T080000Z
DTEND:20221027T100000Z
LOCATION:HS 003\, E 1 3
SUMMARY:Soccomp2223: Social Computing - 1 - Introduction and Overview
END:VEVENT
BEGIN:VEVENT
UID:61636362-3062-4538-a432-633831333763
DTSTAMP:20260421T101132Z
DESCRIPTION:
DTSTART:20221103T090000Z
DTEND:20221103T110000Z
LOCATION:HS 003\, E 1 3
SUMMARY:Soccomp2223: Social Computing - 2 - Theory of Emotion and Social Be
 havior I - Basic Models of Affect
END:VEVENT
BEGIN:VEVENT
UID:39383739-3434-4165-b832-633132333466
DTSTAMP:20260421T101132Z
DESCRIPTION:
DTSTART:20221110T090000Z
DTEND:20221110T110000Z
LOCATION:HS 003\, E 1 3
SUMMARY:Soccomp2223: Social Computing - 3 - Theory of Emotion and Social Be
 havior II - Emotion as Information
END:VEVENT
BEGIN:VEVENT
UID:32643662-3530-4364-a364-336433663331
DTSTAMP:20260421T101132Z
DESCRIPTION:
DTSTART:20221117T090000Z
DTEND:20221117T110000Z
LOCATION:HS 003\, E 1 3
SUMMARY:Soccomp2223: Social Computing - 4 - Computational Models of Affect
END:VEVENT
BEGIN:VEVENT
UID:31633033-3962-4534-a566-663261373439
DTSTAMP:20260421T101132Z
DESCRIPTION:
DTSTART:20221124T090000Z
DTEND:20221124T110000Z
LOCATION:HS 003\, E 1 3
SUMMARY:Soccomp2223: Social Computing - 5 - Emotional Social Signals and th
 eir Detection I
END:VEVENT
BEGIN:VEVENT
UID:35333735-3534-4130-a534-653030393238
DTSTAMP:20260421T101132Z
DESCRIPTION:
DTSTART:20221201T090000Z
DTEND:20221201T110000Z
LOCATION:HS 003\, E 1 3
SUMMARY:Soccomp2223: Social Computing - 6 - Emotional Social Signals and th
 eir Detection II
END:VEVENT
BEGIN:VEVENT
UID:63666336-3035-4038-a136-636536613831
DTSTAMP:20260421T101132Z
DESCRIPTION:
DTSTART:20221208T090000Z
DTEND:20221208T110000Z
LOCATION:HS 003\, E 1 3
SUMMARY:Soccomp2223: Social Computing - 7 - Theory of Emotion and Social Be
 havior III - Theory of Mind
END:VEVENT
BEGIN:VEVENT
UID:34616438-3235-4333-b838-353133386139
DTSTAMP:20260421T101132Z
DESCRIPTION:
DTSTART:20221215T090000Z
DTEND:20221215T110000Z
LOCATION:HS 003\, E 1 3
SUMMARY:Soccomp2223: Social Computing - 8 - Computationally Modelling Human
  Emotions
END:VEVENT
BEGIN:VEVENT
UID:61346539-3132-4264-b565-333937336431
DTSTAMP:20260421T101132Z
DESCRIPTION:
DTSTART:20221222T090000Z
DTEND:20221222T110000Z
LOCATION:HS 003\, E 1 3
SUMMARY:Soccomp2223: Social Computing - 9 - Socially Interactive Agents I -
  Overview
END:VEVENT
BEGIN:VEVENT
UID:34646533-3135-4331-a631-313163346631
DTSTAMP:20260421T101132Z
DESCRIPTION:
DTSTART:20230105T090000Z
DTEND:20230105T110000Z
LOCATION:HS 003\, E 1 3
SUMMARY:Soccomp2223: Social Computing - 10 - Socially Interactive Agents I 
 - Affect Synthesis and Expression
END:VEVENT
BEGIN:VEVENT
UID:34383866-3934-4836-b536-643739306330
DTSTAMP:20260421T101132Z
DESCRIPTION:
DTSTART:20230112T090000Z
DTEND:20230112T110000Z
LOCATION:HS 003\, E 1 3
SUMMARY:Soccomp2223: Social Computing - 11 - Methods and Techniques - Exper
 imental Design\, Methodology\, and Analysis
END:VEVENT
BEGIN:VEVENT
UID:35646231-6533-4734-b633-643633656662
DTSTAMP:20260421T101132Z
DESCRIPTION:
DTSTART:20230119T090000Z
DTEND:20230119T110000Z
LOCATION:HS 003\, E 1 3
SUMMARY:Soccomp2223: Social Computing - 12 - Methods and Techniques - Syste
 ms Evaluation
END:VEVENT
BEGIN:VEVENT
UID:34346233-3463-4630-a536-303931363637
DTSTAMP:20260421T101132Z
DESCRIPTION:
DTSTART:20230126T090000Z
DTEND:20230126T110000Z
LOCATION:HS 003\, E 1 3
SUMMARY:Soccomp2223: Social Computing - 13 - Systems of Social Computing I 
 - Overview\, Requirement
END:VEVENT
BEGIN:VEVENT
UID:36633032-3836-4332-b862-323064356334
DTSTAMP:20260421T101132Z
DESCRIPTION:
DTSTART:20230202T090000Z
DTEND:20230202T110000Z
LOCATION:HS 003\, E 1 3
SUMMARY:Soccomp2223: Social Computing - 14 - Systems of Social Computing II
  - Advanced Approaches
END:VEVENT
BEGIN:VEVENT
UID:35353037-3464-4261-b866-376138363632
DTSTAMP:20260421T101132Z
DESCRIPTION:
DTSTART:20230209T090000Z
DTEND:20230209T110000Z
LOCATION:HS 003\, E 1 3
SUMMARY:Soccomp2223: Social Computing - Summary and Rehearsal
END:VEVENT
BEGIN:VEVENT
UID:61313431-3062-4563-a238-383065373638
DTSTAMP:20260421T101132Z
DESCRIPTION:
DTSTART:20230216T090000Z
DTEND:20230216T110000Z
SUMMARY:Soccomp2223: Summary & Rehearsal PART 2 (online)
END:VEVENT
END:VCALENDAR
