BEGIN:VCALENDAR
VERSION:2.0
PRODID:-//134.96.226.213//NONSGML kigkonsult.se iCalcreator 2.41.71//
CALSCALE:GREGORIAN
METHOD:PUBLISH
UID:34636130-3635-4563-a262-373737636530
X-WR-CALNAME:Social Computing Calendar
X-WR-CALDESC:Events of the lecture Social Computing
X-WR-TIMEZONE:Europe/Berlin
BEGIN:VEVENT
UID:65356531-3666-4939-a165-643935613631
DTSTAMP:20260421T100840Z
DESCRIPTION:Organisation and Structure\nGoals
DTSTART:20221027T080000Z
DTEND:20221027T100000Z
LOCATION:HS 003\, E 1 3
SUMMARY:Social Computing - 1 - Introduction and Overview
END:VEVENT
BEGIN:VEVENT
UID:35353065-3538-4534-a230-356234393130
DTSTAMP:20260421T100840Z
DESCRIPTION:
DTSTART:20221103T090000Z
DTEND:20221103T110000Z
LOCATION:HS 003\, E 1 3
SUMMARY:Social Computing - 2 - Theory of Emotion and Social Behavior I - Ba
 sic Models of Affect
END:VEVENT
BEGIN:VEVENT
UID:63383465-6565-4536-a230-623533616130
DTSTAMP:20260421T100840Z
DESCRIPTION:
DTSTART:20221110T090000Z
DTEND:20221110T110000Z
LOCATION:HS 003\, E 1 3
SUMMARY:Social Computing - 3 - Theory of Emotion and Social Behavior II - E
 motion as Information
END:VEVENT
BEGIN:VEVENT
UID:64343962-6131-4430-b834-383339663033
DTSTAMP:20260421T100840Z
DESCRIPTION:
DTSTART:20221117T090000Z
DTEND:20221117T110000Z
LOCATION:HS 003\, E 1 3
SUMMARY:Social Computing - 4 - Computational Models of Affect
END:VEVENT
BEGIN:VEVENT
UID:39393131-3135-4634-b938-396263626662
DTSTAMP:20260421T100840Z
DESCRIPTION:
DTSTART:20221124T090000Z
DTEND:20221124T110000Z
LOCATION:HS 003\, E 1 3
SUMMARY:Social Computing - 5 - Emotional Social Signals and their Detection
  I
END:VEVENT
BEGIN:VEVENT
UID:61346337-3232-4838-b635-343839383964
DTSTAMP:20260421T100840Z
DESCRIPTION:
DTSTART:20221201T090000Z
DTEND:20221201T110000Z
LOCATION:HS 003\, E 1 3
SUMMARY:Social Computing - 6 - Emotional Social Signals and their Detection
  II
END:VEVENT
BEGIN:VEVENT
UID:66613734-6333-4632-a366-306561393261
DTSTAMP:20260421T100840Z
DESCRIPTION:
DTSTART:20221208T090000Z
DTEND:20221208T110000Z
LOCATION:HS 003\, E 1 3
SUMMARY:Social Computing - 7 - Theory of Emotion and Social Behavior III - 
 Theory of Mind
END:VEVENT
BEGIN:VEVENT
UID:38333465-3036-4266-a164-323838623366
DTSTAMP:20260421T100840Z
DESCRIPTION:
DTSTART:20221215T090000Z
DTEND:20221215T110000Z
LOCATION:HS 003\, E 1 3
SUMMARY:Social Computing - 8 - Computationally Modelling Human Emotions
END:VEVENT
BEGIN:VEVENT
UID:31646561-3563-4830-b132-393266363465
DTSTAMP:20260421T100840Z
DESCRIPTION:
DTSTART:20221222T090000Z
DTEND:20221222T110000Z
LOCATION:HS 003\, E 1 3
SUMMARY:Social Computing - 9 - Socially Interactive Agents I - Overview
END:VEVENT
BEGIN:VEVENT
UID:30613763-6465-4136-b139-373165363932
DTSTAMP:20260421T100840Z
DESCRIPTION:
DTSTART:20230105T090000Z
DTEND:20230105T110000Z
LOCATION:HS 003\, E 1 3
SUMMARY:Social Computing - 10 - Socially Interactive Agents I - Affect Synt
 hesis and Expression
END:VEVENT
BEGIN:VEVENT
UID:35333262-6232-4163-a431-353132646535
DTSTAMP:20260421T100840Z
DESCRIPTION:
DTSTART:20230112T090000Z
DTEND:20230112T110000Z
LOCATION:HS 003\, E 1 3
SUMMARY:Social Computing - 11 - Methods and Techniques - Experimental Desig
 n\, Methodology\, and Analysis
END:VEVENT
BEGIN:VEVENT
UID:61346365-3866-4639-a237-386633616538
DTSTAMP:20260421T100840Z
DESCRIPTION:
DTSTART:20230119T090000Z
DTEND:20230119T110000Z
LOCATION:HS 003\, E 1 3
SUMMARY:Social Computing - 12 - Methods and Techniques - Systems Evaluation
END:VEVENT
BEGIN:VEVENT
UID:34326133-3366-4237-a162-393464366535
DTSTAMP:20260421T100840Z
DESCRIPTION:
DTSTART:20230126T090000Z
DTEND:20230126T110000Z
LOCATION:HS 003\, E 1 3
SUMMARY:Social Computing - 13 - Systems of Social Computing I - Overview\, 
 Requirement
END:VEVENT
BEGIN:VEVENT
UID:61376165-3431-4436-b463-386364393433
DTSTAMP:20260421T100840Z
DESCRIPTION:
DTSTART:20230202T090000Z
DTEND:20230202T110000Z
LOCATION:HS 003\, E 1 3
SUMMARY:Social Computing - 14 - Systems of Social Computing II - Advanced A
 pproaches
END:VEVENT
BEGIN:VEVENT
UID:63663766-6435-4165-b730-383434306466
DTSTAMP:20260421T100840Z
DESCRIPTION:
DTSTART:20230209T090000Z
DTEND:20230209T110000Z
LOCATION:HS 003\, E 1 3
SUMMARY:Social Computing - Summary and Rehearsal
END:VEVENT
BEGIN:VEVENT
UID:66373634-3461-4435-a638-626632323532
DTSTAMP:20260421T100840Z
DESCRIPTION:
DTSTART:20230216T090000Z
DTEND:20230216T110000Z
SUMMARY:Summary & Rehearsal PART 2 (online)
END:VEVENT
BEGIN:VEVENT
UID:38313534-3962-4736-b733-653930306437
DTSTAMP:20260421T100840Z
DESCRIPTION:
DTSTART:20230223T090000Z
DTEND:20230223T120000Z
LOCATION:E1 3 room 001
SUMMARY:Main Exam
END:VEVENT
BEGIN:VEVENT
UID:32653033-3139-4739-b834-633231303532
DTSTAMP:20260421T100840Z
DESCRIPTION:
DTSTART:20230330T080000Z
DTEND:20230330T110000Z
LOCATION:E1 3 room 001
SUMMARY:Re-Exam
END:VEVENT
END:VCALENDAR
