BEGIN:VCALENDAR
VERSION:2.0
PRODID:-//134.96.226.213//NONSGML kigkonsult.se iCalcreator 2.41.92//
CALSCALE:GREGORIAN
METHOD:PUBLISH
UID:64333266-3632-4363-a363-376537336363
X-WR-CALNAME:Hardware Security: Testing and Verification Calendar
X-WR-CALDESC:Events of the lecture Hardware Security: Testing and Verificat
 ion
X-WR-TIMEZONE:Europe/Berlin
BEGIN:VEVENT
UID:65393138-3235-4631-b764-623766326632
DTSTAMP:20260424T045554Z
DESCRIPTION:
DTSTART:20250106T160000Z
DTEND:20250110T180000Z
SUMMARY:Securehardware24: Practice talks for session 1
END:VEVENT
BEGIN:VEVENT
UID:66393637-3336-4134-b135-343964643532
DTSTAMP:20260424T045554Z
DESCRIPTION:
DTSTART:20250113T160000Z
DTEND:20250117T180000Z
SUMMARY:Securehardware24: Practice talks for session 2
END:VEVENT
BEGIN:VEVENT
UID:31626134-3836-4562-b336-363338386664
DTSTAMP:20260424T045554Z
DESCRIPTION:
DTSTART:20250120T160000Z
DTEND:20250124T160000Z
SUMMARY:Securehardware24: Practice talks for session 3
END:VEVENT
BEGIN:VEVENT
UID:38313331-3732-4938-b938-316539376133
DTSTAMP:20260424T045554Z
DESCRIPTION:
DTSTART:20250127T160000Z
DTEND:20250131T150000Z
SUMMARY:Securehardware24: Practice talks for session 4
END:VEVENT
END:VCALENDAR
