BEGIN:VCALENDAR
VERSION:2.0
PRODID:-//134.96.226.213//NONSGML kigkonsult.se iCalcreator 2.41.92//
CALSCALE:GREGORIAN
METHOD:PUBLISH
UID:65343139-3633-4865-b532-316565356630
X-WR-CALNAME:Hardware Security: Testing and Verification Calendar
X-WR-CALDESC:Events of the lecture Hardware Security: Testing and Verificat
 ion
X-WR-TIMEZONE:Europe/Berlin
BEGIN:VEVENT
UID:63636361-6564-4930-a531-323834646438
DTSTAMP:20260424T045545Z
DESCRIPTION:
DTSTART:20241216T160000Z
DTEND:20241216T160000Z
SUMMARY:Securehardware24: Deadline for drafts of presentations of session 1
END:VEVENT
BEGIN:VEVENT
UID:64643732-6239-4331-a635-613361303632
DTSTAMP:20260424T045545Z
DESCRIPTION:
DTSTART:20241223T160000Z
DTEND:20241223T160000Z
SUMMARY:Securehardware24: Deadline for drafts of presentations of session 2
END:VEVENT
BEGIN:VEVENT
UID:63393963-6338-4934-b737-623730383435
DTSTAMP:20260424T045545Z
DESCRIPTION:
DTSTART:20241230T160000Z
DTEND:20241230T160000Z
SUMMARY:Securehardware24: Deadline for drafts of presentations of session 3
END:VEVENT
BEGIN:VEVENT
UID:61646164-3361-4264-b939-353463356239
DTSTAMP:20260424T045545Z
DESCRIPTION:
DTSTART:20250106T160000Z
DTEND:20250106T160000Z
SUMMARY:Securehardware24: Deadline for drafts of presentations of session 4
END:VEVENT
END:VCALENDAR
