BEGIN:VCALENDAR
VERSION:2.0
PRODID:-//134.96.226.213//NONSGML kigkonsult.se iCalcreator 2.41.92//
CALSCALE:GREGORIAN
METHOD:PUBLISH
UID:63623961-3338-4437-a463-643233343864
X-WR-CALNAME:Hardware Security: Testing and Verification Calendar
X-WR-CALDESC:Events of the lecture Hardware Security: Testing and Verificat
 ion
X-WR-TIMEZONE:Europe/Berlin
BEGIN:VEVENT
UID:61383561-3966-4533-b734-313532376265
DTSTAMP:20260424T045547Z
DESCRIPTION:
DTSTART:20241216T160000Z
DTEND:20241216T160000Z
SUMMARY:Deadline for drafts of presentations of session 1
END:VEVENT
BEGIN:VEVENT
UID:64323536-6661-4333-a334-363635663936
DTSTAMP:20260424T045547Z
DESCRIPTION:
DTSTART:20241223T160000Z
DTEND:20241223T160000Z
SUMMARY:Deadline for drafts of presentations of session 2
END:VEVENT
BEGIN:VEVENT
UID:35363066-3532-4061-b430-303036313761
DTSTAMP:20260424T045547Z
DESCRIPTION:
DTSTART:20241230T160000Z
DTEND:20241230T160000Z
SUMMARY:Deadline for drafts of presentations of session 3
END:VEVENT
BEGIN:VEVENT
UID:39626133-6130-4366-b938-353131663833
DTSTAMP:20260424T045547Z
DESCRIPTION:
DTSTART:20250106T160000Z
DTEND:20250106T160000Z
SUMMARY:Deadline for drafts of presentations of session 4
END:VEVENT
END:VCALENDAR
