BEGIN:VCALENDAR
VERSION:2.0
PRODID:-//134.96.226.213//NONSGML kigkonsult.se iCalcreator 2.41.92//
CALSCALE:GREGORIAN
METHOD:PUBLISH
UID:65353262-3135-4965-b561-626262616333
X-WR-CALNAME:Hardware Security: Testing and Verification Calendar
X-WR-CALDESC:Events of the lecture Hardware Security: Testing and Verificat
 ion
X-WR-TIMEZONE:Europe/Berlin
BEGIN:VEVENT
UID:61363039-6161-4462-a263-653666383265
DTSTAMP:20260424T045553Z
DESCRIPTION:
DTSTART:20250116T150000Z
DTEND:20250116T173000Z
SUMMARY:Securehardware24: Session 1: Presentations and discussions
END:VEVENT
BEGIN:VEVENT
UID:63313938-3730-4262-b865-333336333636
DTSTAMP:20260424T045553Z
DESCRIPTION:
DTSTART:20250123T150000Z
DTEND:20250123T173000Z
SUMMARY:Securehardware24: Session 2: Presentations and discussions
END:VEVENT
BEGIN:VEVENT
UID:32323933-3839-4563-b131-306531633166
DTSTAMP:20260424T045553Z
DESCRIPTION:
DTSTART:20250130T150000Z
DTEND:20250130T173000Z
SUMMARY:Securehardware24: Session 3: Presentationsa and Discussions
END:VEVENT
BEGIN:VEVENT
UID:61653466-6336-4261-b737-396562653565
DTSTAMP:20260424T045553Z
DESCRIPTION:
DTSTART:20250206T150000Z
DTEND:20250206T173000Z
SUMMARY:Securehardware24: Session 4: Presentations and Discussions
END:VEVENT
END:VCALENDAR
