BEGIN:VCALENDAR
VERSION:2.0
PRODID:-//134.96.226.213//NONSGML kigkonsult.se iCalcreator 2.41.92//
CALSCALE:GREGORIAN
METHOD:PUBLISH
UID:62303630-3330-4231-b532-383931383933
X-WR-CALNAME:Hardware Security: Testing and Verification Calendar
X-WR-CALDESC:Events of the lecture Hardware Security: Testing and Verificat
 ion
X-WR-TIMEZONE:Europe/Berlin
BEGIN:VEVENT
UID:66626466-3235-4861-a563-646439656539
DTSTAMP:20260424T045545Z
DESCRIPTION:
DTSTART:20250116T150000Z
DTEND:20250116T173000Z
SUMMARY:Session 1: Presentations and discussions
END:VEVENT
BEGIN:VEVENT
UID:63323738-6431-4362-b263-313832383164
DTSTAMP:20260424T045545Z
DESCRIPTION:
DTSTART:20250123T150000Z
DTEND:20250123T173000Z
SUMMARY:Session 2: Presentations and discussions
END:VEVENT
BEGIN:VEVENT
UID:61326365-3736-4939-a132-333130343330
DTSTAMP:20260424T045545Z
DESCRIPTION:
DTSTART:20250130T150000Z
DTEND:20250130T173000Z
SUMMARY:Session 3: Presentationsa and Discussions
END:VEVENT
BEGIN:VEVENT
UID:37636132-3466-4763-b031-656637326265
DTSTAMP:20260424T045545Z
DESCRIPTION:
DTSTART:20250206T150000Z
DTEND:20250206T173000Z
SUMMARY:Session 4: Presentations and Discussions
END:VEVENT
END:VCALENDAR
