BEGIN:VCALENDAR
VERSION:2.0
PRODID:-//134.96.226.213//NONSGML kigkonsult.se iCalcreator 2.41.71//
CALSCALE:GREGORIAN
METHOD:PUBLISH
UID:30313739-6264-4436-b534-663264316130
X-WR-CALNAME:Language Models at the Intersection of Cognitive Science and S
 oftware Engineering Calendar
X-WR-CALDESC:Events of the lecture Language Models at the Intersection of C
 ognitive Science and Software Engineering
X-WR-TIMEZONE:Europe/Berlin
BEGIN:VEVENT
UID:30633333-6464-4439-a136-623064303238
DTSTAMP:20260421T083312Z
DESCRIPTION:
DTSTART:20231130T111500Z
DTEND:20231130T130000Z
SUMMARY:Se: Code-Centric approaches
END:VEVENT
BEGIN:VEVENT
UID:37633632-6664-4533-b861-613137313931
DTSTAMP:20260421T083312Z
DESCRIPTION:
DTSTART:20231207T111500Z
DTEND:20231207T130000Z
SUMMARY:Se: Testing
END:VEVENT
BEGIN:VEVENT
UID:63356134-3332-4435-a637-633364666366
DTSTAMP:20260421T083312Z
DESCRIPTION:
DTSTART:20231214T111500Z
DTEND:20231214T130000Z
SUMMARY:Se: Models and Architecture
END:VEVENT
BEGIN:VEVENT
UID:30316465-6661-4533-b363-643334383763
DTSTAMP:20260421T083312Z
DESCRIPTION:
DTSTART:20240111T111500Z
DTEND:20240111T130000Z
SUMMARY:Se: Cognitive Science and Human Factors
END:VEVENT
END:VCALENDAR
