BEGIN:VCALENDAR
VERSION:2.0
PRODID:-//134.96.226.213//NONSGML kigkonsult.se iCalcreator 2.41.71//
CALSCALE:GREGORIAN
METHOD:PUBLISH
UID:63313461-3861-4037-b865-363062373134
X-WR-CALNAME:Language Models at the Intersection of Cognitive Science and S
 oftware Engineering Calendar
X-WR-CALDESC:Events of the lecture Language Models at the Intersection of C
 ognitive Science and Software Engineering
X-WR-TIMEZONE:Europe/Berlin
BEGIN:VEVENT
UID:30306436-3664-4433-b865-653836346237
DTSTAMP:20260421T083140Z
DESCRIPTION:
DTSTART:20231107T140000Z
DTEND:20231107T140000Z
SUMMARY:Se: Preferences for your topics
END:VEVENT
BEGIN:VEVENT
UID:37336237-3931-4333-b163-343833613066
DTSTAMP:20260421T083140Z
DESCRIPTION:
DTSTART:20231231T225900Z
DTEND:20240331T215900Z
SUMMARY:Se: Report deadline
END:VEVENT
END:VCALENDAR
