BEGIN:VCALENDAR
VERSION:2.0
PRODID:-//134.96.226.213//NONSGML kigkonsult.se iCalcreator 2.41.71//
CALSCALE:GREGORIAN
METHOD:PUBLISH
UID:31613436-3764-4364-a262-303736623461
X-WR-CALNAME:Language Models at the Intersection of Cognitive Science and S
 oftware Engineering Calendar
X-WR-CALDESC:Events of the lecture Language Models at the Intersection of C
 ognitive Science and Software Engineering
X-WR-TIMEZONE:Europe/Berlin
BEGIN:VEVENT
UID:65656233-6437-4266-b931-393863366530
DTSTAMP:20260421T084700Z
DESCRIPTION:
DTSTART:20231107T140000Z
DTEND:20231107T140000Z
SUMMARY:Preferences for your topics
END:VEVENT
BEGIN:VEVENT
UID:62313963-3766-4433-a365-366461313031
DTSTAMP:20260421T084700Z
DESCRIPTION:
DTSTART:20231116T111500Z
DTEND:20231116T130000Z
SUMMARY:How to present
END:VEVENT
BEGIN:VEVENT
UID:36383333-6262-4363-a436-393335313565
DTSTAMP:20260421T084700Z
DESCRIPTION:
DTSTART:20231130T111500Z
DTEND:20231130T130000Z
SUMMARY:Code-Centric approaches
END:VEVENT
BEGIN:VEVENT
UID:30306265-6530-4966-b933-336537373636
DTSTAMP:20260421T084700Z
DESCRIPTION:
DTSTART:20231207T111500Z
DTEND:20231207T130000Z
SUMMARY:Testing
END:VEVENT
BEGIN:VEVENT
UID:62303834-6166-4666-a539-393164393337
DTSTAMP:20260421T084700Z
DESCRIPTION:
DTSTART:20231214T111500Z
DTEND:20231214T130000Z
SUMMARY:Models and Architecture
END:VEVENT
BEGIN:VEVENT
UID:33303966-3134-4639-b730-666561613162
DTSTAMP:20260421T084700Z
DESCRIPTION:
DTSTART:20231231T225900Z
DTEND:20240331T215900Z
SUMMARY:Report deadline
END:VEVENT
BEGIN:VEVENT
UID:33616330-3739-4962-b466-613961343134
DTSTAMP:20260421T084700Z
DESCRIPTION:
DTSTART:20240111T111500Z
DTEND:20240111T130000Z
SUMMARY:Cognitive Science and Human Factors
END:VEVENT
END:VCALENDAR
