BEGIN:VCALENDAR
VERSION:2.0
PRODID:-//134.96.226.213//NONSGML kigkonsult.se iCalcreator 2.41.71//
CALSCALE:GREGORIAN
METHOD:PUBLISH
UID:31653037-3732-4432-b762-323337333332
X-WR-CALNAME:Understanding of Configurable Software Systems Calendar
X-WR-CALDESC:Events of the lecture Understanding of Configurable Software S
 ystems
X-WR-TIMEZONE:Europe/Berlin
BEGIN:VEVENT
UID:31353239-6566-4639-a662-626130353136
DTSTAMP:20260422T013149Z
DESCRIPTION:
DTSTART;VALUE=DATE:20221127
DTEND;VALUE=DATE:20221128
SUMMARY:Se: Presentations and Questions to Static Analyses
END:VEVENT
BEGIN:VEVENT
UID:31373163-3365-4365-a466-386531313930
DTSTAMP:20260422T013149Z
DESCRIPTION:
DTSTART;VALUE=DATE:20221204
DTEND;VALUE=DATE:20221205
SUMMARY:Se: Presentations and Questions to Dynamic Analyses
END:VEVENT
BEGIN:VEVENT
UID:66633761-6337-4532-a435-626332646665
DTSTAMP:20260422T013149Z
DESCRIPTION:
DTSTART;VALUE=DATE:20221211
DTEND;VALUE=DATE:20221212
SUMMARY:Se: Presentations and Questions to Root Causes
END:VEVENT
BEGIN:VEVENT
UID:61623036-6236-4665-a663-663033663331
DTSTAMP:20260422T013149Z
DESCRIPTION:
DTSTART;VALUE=DATE:20230112
DTEND;VALUE=DATE:20230113
SUMMARY:Se: Draft of a Topic Including Questions
END:VEVENT
BEGIN:VEVENT
UID:36663863-3866-4734-b032-306565383337
DTSTAMP:20260422T013149Z
DESCRIPTION:
DTSTART;VALUE=DATE:20230209
DTEND;VALUE=DATE:20230210
SUMMARY:Se: Draft of Topic Including Research Papers
END:VEVENT
BEGIN:VEVENT
UID:63623465-6266-4862-a439-373765376531
DTSTAMP:20260422T013149Z
DESCRIPTION:
DTSTART;VALUE=DATE:20230331
DTEND;VALUE=DATE:20230401
SUMMARY:Se: Final Paper Submission
END:VEVENT
END:VCALENDAR
