BEGIN:VCALENDAR
VERSION:2.0
PRODID:-//134.96.226.213//NONSGML kigkonsult.se iCalcreator 2.41.71//
CALSCALE:GREGORIAN
METHOD:PUBLISH
UID:35343538-6230-4130-b363-343831383432
X-WR-CALNAME:Understanding of Configurable Software Systems Calendar
X-WR-CALDESC:Events of the lecture Understanding of Configurable Software S
 ystems
X-WR-TIMEZONE:Europe/Berlin
BEGIN:VEVENT
UID:39613035-3562-4336-a139-326161353363
DTSTAMP:20260422T024445Z
DESCRIPTION:
DTSTART:20221103T111500Z
DTEND:20221103T130000Z
LOCATION:SR 2.06 (E1.1)
SUMMARY:Se: Kick-Off Meeting and Talk on Presenting
END:VEVENT
BEGIN:VEVENT
UID:31626633-3735-4038-b231-363632316637
DTSTAMP:20260422T024445Z
DESCRIPTION:
DTSTART:20221110T111500Z
DTEND:20221110T130000Z
LOCATION:SR 2.06 (E1.1)
SUMMARY:Se: Talk about Literature Research
END:VEVENT
BEGIN:VEVENT
UID:30626637-3662-4866-b463-373232333430
DTSTAMP:20260422T024445Z
DESCRIPTION:
DTSTART:20221201T111500Z
DTEND:20221201T130000Z
LOCATION:SR 2.06 (E1.1)
SUMMARY:Se: Students' Presentations about Static Analysis
END:VEVENT
BEGIN:VEVENT
UID:64616262-3463-4234-a533-643937353266
DTSTAMP:20260422T024445Z
DESCRIPTION:
DTSTART:20221208T111500Z
DTEND:20221208T130000Z
LOCATION:SR 2.06 (E1.1)
SUMMARY:Se: Students' Presentations about Dynamic Analysis
END:VEVENT
BEGIN:VEVENT
UID:62303066-3766-4566-a235-633435313435
DTSTAMP:20260422T024445Z
DESCRIPTION:
DTSTART:20221215T111500Z
DTEND:20221215T130000Z
LOCATION:SR 2.06 (E1.1)
SUMMARY:Se: Students' Presentations about Root Causes
END:VEVENT
BEGIN:VEVENT
UID:62303235-6561-4263-b139-326535373132
DTSTAMP:20260422T024445Z
DESCRIPTION:
DTSTART:20230126T111500Z
DTEND:20230126T130000Z
LOCATION:SR 2.06 (E1.1)
SUMMARY:Se: Guest Talk by Dr. Clemens Dubslaff
END:VEVENT
END:VCALENDAR
