BEGIN:VCALENDAR
VERSION:2.0
PRODID:-//134.96.226.213//NONSGML kigkonsult.se iCalcreator 2.41.71//
CALSCALE:GREGORIAN
METHOD:PUBLISH
UID:30656137-3466-4938-b731-326364383638
X-WR-CALNAME:Understanding of Configurable Software Systems Calendar
X-WR-CALDESC:Events of the lecture Understanding of Configurable Software S
 ystems
X-WR-TIMEZONE:Europe/Berlin
BEGIN:VEVENT
UID:31626465-6536-4638-b266-323431393933
DTSTAMP:20260422T012639Z
DESCRIPTION:
DTSTART:20221103T111500Z
DTEND:20221103T130000Z
LOCATION:SR 2.06 (E1.1)
SUMMARY:Kick-Off Meeting and Talk on Presenting
END:VEVENT
BEGIN:VEVENT
UID:64663763-3266-4537-a435-636161643730
DTSTAMP:20260422T012639Z
DESCRIPTION:
DTSTART:20221110T111500Z
DTEND:20221110T130000Z
LOCATION:SR 2.06 (E1.1)
SUMMARY:Talk about Literature Research
END:VEVENT
BEGIN:VEVENT
UID:63613738-6439-4365-b735-393036393261
DTSTAMP:20260422T012639Z
DESCRIPTION:
DTSTART;VALUE=DATE:20221127
DTEND;VALUE=DATE:20221128
SUMMARY:Presentations and Questions to Static Analyses
END:VEVENT
BEGIN:VEVENT
UID:35623964-6364-4832-b539-393930666336
DTSTAMP:20260422T012639Z
DESCRIPTION:
DTSTART:20221201T111500Z
DTEND:20221201T130000Z
LOCATION:SR 2.06 (E1.1)
SUMMARY:Students' Presentations about Static Analysis
END:VEVENT
BEGIN:VEVENT
UID:33306533-3965-4030-b031-323765306262
DTSTAMP:20260422T012639Z
DESCRIPTION:
DTSTART;VALUE=DATE:20221204
DTEND;VALUE=DATE:20221205
SUMMARY:Presentations and Questions to Dynamic Analyses
END:VEVENT
BEGIN:VEVENT
UID:33396232-3131-4134-b939-626538343861
DTSTAMP:20260422T012639Z
DESCRIPTION:
DTSTART:20221208T111500Z
DTEND:20221208T130000Z
LOCATION:SR 2.06 (E1.1)
SUMMARY:Students' Presentations about Dynamic Analysis
END:VEVENT
BEGIN:VEVENT
UID:34346236-6165-4065-b236-373763363563
DTSTAMP:20260422T012639Z
DESCRIPTION:
DTSTART;VALUE=DATE:20221211
DTEND;VALUE=DATE:20221212
SUMMARY:Presentations and Questions to Root Causes
END:VEVENT
BEGIN:VEVENT
UID:33643038-3965-4562-a436-643366313934
DTSTAMP:20260422T012639Z
DESCRIPTION:
DTSTART:20221215T111500Z
DTEND:20221215T130000Z
LOCATION:SR 2.06 (E1.1)
SUMMARY:Students' Presentations about Root Causes
END:VEVENT
BEGIN:VEVENT
UID:35636339-3737-4365-b936-663464656536
DTSTAMP:20260422T012639Z
DESCRIPTION:
DTSTART;VALUE=DATE:20230112
DTEND;VALUE=DATE:20230113
SUMMARY:Draft of a Topic Including Questions
END:VEVENT
BEGIN:VEVENT
UID:30303166-3532-4232-b233-663634386632
DTSTAMP:20260422T012639Z
DESCRIPTION:
DTSTART:20230126T111500Z
DTEND:20230126T130000Z
LOCATION:SR 2.06 (E1.1)
SUMMARY:Guest Talk by Dr. Clemens Dubslaff
END:VEVENT
BEGIN:VEVENT
UID:66633637-3666-4461-b030-663062343535
DTSTAMP:20260422T012639Z
DESCRIPTION:
DTSTART;VALUE=DATE:20230209
DTEND;VALUE=DATE:20230210
SUMMARY:Draft of Topic Including Research Papers
END:VEVENT
BEGIN:VEVENT
UID:66623666-3936-4466-a434-666264613136
DTSTAMP:20260422T012639Z
DESCRIPTION:
DTSTART;VALUE=DATE:20230331
DTEND;VALUE=DATE:20230401
SUMMARY:Final Paper Submission
END:VEVENT
END:VCALENDAR
