BEGIN:VCALENDAR
VERSION:2.0
PRODID:-//134.96.226.213//NONSGML kigkonsult.se iCalcreator 2.41.71//
CALSCALE:GREGORIAN
METHOD:PUBLISH
UID:66633864-6230-4662-a432-376662623136
X-WR-CALNAME:Software Engineering at Google\, Microsoft\, Facebook and Co. 
 Calendar
X-WR-CALDESC:Events of the lecture Software Engineering at Google\, Microso
 ft\, Facebook and Co.
X-WR-TIMEZONE:Europe/Berlin
BEGIN:VEVENT
UID:39636232-3339-4436-a464-363230343061
DTSTAMP:20260422T021746Z
DESCRIPTION:
DTSTART:20210331T215900Z
DTEND:20210331T215900Z
SUMMARY:Se: Submission of Seminar Thesis
END:VEVENT
END:VCALENDAR
