BEGIN:VCALENDAR
VERSION:2.0
PRODID:-//134.96.226.213//NONSGML kigkonsult.se iCalcreator 2.41.71//
CALSCALE:GREGORIAN
METHOD:PUBLISH
UID:30613532-3264-4136-a461-313664643637
X-WR-CALNAME:Software Engineering at Google\, Microsoft\, Facebook and Co. 
 Calendar
X-WR-CALDESC:Events of the lecture Software Engineering at Google\, Microso
 ft\, Facebook and Co.
X-WR-TIMEZONE:Europe/Berlin
BEGIN:VEVENT
UID:34646637-3039-4233-b333-666331346461
DTSTAMP:20260422T021746Z
DESCRIPTION:
DTSTART:20210107T111500Z
DTEND:20210107T130000Z
SUMMARY:Se: Students' Presentations
END:VEVENT
BEGIN:VEVENT
UID:30356363-6633-4261-b831-666135323531
DTSTAMP:20260422T021746Z
DESCRIPTION:
DTSTART:20210114T111500Z
DTEND:20210114T130000Z
SUMMARY:Se: Students' Presentations
END:VEVENT
BEGIN:VEVENT
UID:39303166-3535-4131-a263-636564323964
DTSTAMP:20260422T021746Z
DESCRIPTION:
DTSTART:20210128T111500Z
DTEND:20210128T130000Z
SUMMARY:Se: Students' Presentations
END:VEVENT
BEGIN:VEVENT
UID:37393361-3865-4066-b732-666132343637
DTSTAMP:20260422T021746Z
DESCRIPTION:
DTSTART:20210204T111500Z
DTEND:20210204T130000Z
SUMMARY:Se: Students' Presentations
END:VEVENT
END:VCALENDAR
