BEGIN:VCALENDAR
VERSION:2.0
PRODID:-//134.96.226.213//NONSGML kigkonsult.se iCalcreator 2.41.71//
CALSCALE:GREGORIAN
METHOD:PUBLISH
UID:62663538-6636-4565-a164-653337366139
X-WR-CALNAME:Software Engineering at Google\, Microsoft\, Facebook and Co. 
 Calendar
X-WR-CALDESC:Events of the lecture Software Engineering at Google\, Microso
 ft\, Facebook and Co.
X-WR-TIMEZONE:Europe/Berlin
BEGIN:VEVENT
UID:64616533-3430-4537-b236-666132656261
DTSTAMP:20260422T010559Z
DESCRIPTION:
DTSTART:20201203T130000Z
DTEND:20201203T150000Z
SUMMARY:Se: Presentation of Titus Winters
END:VEVENT
END:VCALENDAR
