BEGIN:VCALENDAR
VERSION:2.0
PRODID:-//134.96.226.213//NONSGML kigkonsult.se iCalcreator 2.41.71//
CALSCALE:GREGORIAN
METHOD:PUBLISH
UID:39613466-3636-4536-a263-323336626439
X-WR-CALNAME:Software Engineering at Google\, Microsoft\, Facebook and Co. 
 Calendar
X-WR-CALDESC:Events of the lecture Software Engineering at Google\, Microso
 ft\, Facebook and Co.
X-WR-TIMEZONE:Europe/Berlin
BEGIN:VEVENT
UID:33623236-3337-4865-a463-663466663139
DTSTAMP:20260422T010407Z
DESCRIPTION:https://cs-uni-saarland-de.zoom.us/j/94117457027?pwd=ZWZyNGJKc0
 lic2t4WDdJNjE1WTVFZz09\n\nMeeting-ID: 941 1745 7027\nPassword: 159788
DTSTART:20201105T111500Z
DTEND:20201105T130000Z
LOCATION:Zoom
SUMMARY:Kick-Off Presentation
END:VEVENT
BEGIN:VEVENT
UID:64363331-3962-4439-b864-333961326638
DTSTAMP:20260422T010407Z
DESCRIPTION:
DTSTART:20201203T130000Z
DTEND:20201203T150000Z
SUMMARY:Presentation of Titus Winters
END:VEVENT
BEGIN:VEVENT
UID:31306233-6434-4138-b965-353339396537
DTSTAMP:20260422T010407Z
DESCRIPTION:
DTSTART:20210107T111500Z
DTEND:20210107T130000Z
SUMMARY:Students' Presentations
END:VEVENT
BEGIN:VEVENT
UID:65373638-3333-4866-b062-346463383465
DTSTAMP:20260422T010407Z
DESCRIPTION:
DTSTART:20210114T111500Z
DTEND:20210114T130000Z
SUMMARY:Students' Presentations
END:VEVENT
BEGIN:VEVENT
UID:34646432-3462-4161-a264-343336333431
DTSTAMP:20260422T010407Z
DESCRIPTION:
DTSTART:20210128T111500Z
DTEND:20210128T130000Z
SUMMARY:Students' Presentations
END:VEVENT
BEGIN:VEVENT
UID:37633539-6263-4661-b038-333365646265
DTSTAMP:20260422T010407Z
DESCRIPTION:
DTSTART:20210204T111500Z
DTEND:20210204T130000Z
SUMMARY:Students' Presentations
END:VEVENT
BEGIN:VEVENT
UID:32646237-3463-4430-b834-386335313333
DTSTAMP:20260422T010407Z
DESCRIPTION:
DTSTART:20210331T215900Z
DTEND:20210331T215900Z
SUMMARY:Submission of Seminar Thesis
END:VEVENT
END:VCALENDAR
