BEGIN:VCALENDAR
VERSION:2.0
PRODID:-//134.96.226.213//NONSGML kigkonsult.se iCalcreator 2.41.71//
CALSCALE:GREGORIAN
METHOD:PUBLISH
UID:63353662-3239-4533-b438-393366396534
X-WR-CALNAME:Software Engineering Lab (Software-Praktikum) Calendar
X-WR-CALDESC:Events of the lecture Software Engineering Lab (Software-Prakt
 ikum)
X-WR-TIMEZONE:Europe/Berlin
BEGIN:VEVENT
UID:34626361-6331-4239-b335-323633336636
DTSTAMP:20260421T112034Z
DESCRIPTION:
DTSTART:20240830T110000Z
DTEND:20240830T120000Z
SUMMARY:Se: Entry Exam
END:VEVENT
BEGIN:VEVENT
UID:66626561-3137-4439-a165-303935616530
DTSTAMP:20260421T112034Z
DESCRIPTION:
DTSTART;VALUE=DATE:20240903
DTEND;VALUE=DATE:20240928
SUMMARY:Se: Group Phase
END:VEVENT
END:VCALENDAR
