BEGIN:VCALENDAR
VERSION:2.0
PRODID:-//134.96.226.213//NONSGML kigkonsult.se iCalcreator 2.41.71//
CALSCALE:GREGORIAN
METHOD:PUBLISH
UID:66373866-6666-4261-b166-616261393165
X-WR-CALNAME:Software Engineering Lab (Software-Praktikum) Calendar
X-WR-CALDESC:Events of the lecture Software Engineering Lab (Software-Prakt
 ikum)
X-WR-TIMEZONE:Europe/Berlin
BEGIN:VEVENT
UID:37623436-3632-4731-b435-336563383738
DTSTAMP:20260421T111900Z
DESCRIPTION:
DTSTART:20240830T110000Z
DTEND:20240830T120000Z
SUMMARY:Entry Exam
END:VEVENT
BEGIN:VEVENT
UID:32636633-3538-4661-b832-636264393639
DTSTAMP:20260421T111900Z
DESCRIPTION:
DTSTART;VALUE=DATE:20240903
DTEND;VALUE=DATE:20240928
SUMMARY:Group Phase
END:VEVENT
END:VCALENDAR
