BEGIN:VCALENDAR
VERSION:2.0
PRODID:-//134.96.226.213//NONSGML kigkonsult.se iCalcreator 2.41.71//
CALSCALE:GREGORIAN
METHOD:PUBLISH
UID:36333731-3331-4137-b866-663337663734
X-WR-CALNAME:Software Engineering Lab (Software-Praktikum) Calendar
X-WR-CALDESC:Events of the lecture Software Engineering Lab (Software-Prakt
 ikum)
X-WR-TIMEZONE:Europe/Berlin
BEGIN:VEVENT
UID:39363035-6565-4533-b537-393533336262
DTSTAMP:20260421T111853Z
DESCRIPTION:
DTSTART;VALUE=DATE:20240826
DTEND;VALUE=DATE:20240903
SUMMARY:Exercise Phase
END:VEVENT
BEGIN:VEVENT
UID:61653339-3635-4263-b638-353064623666
DTSTAMP:20260421T111853Z
DESCRIPTION:
DTSTART;VALUE=DATE:20240930
DTEND;VALUE=DATE:20241003
SUMMARY:Individual Phase
END:VEVENT
BEGIN:VEVENT
UID:35373063-3731-4463-b666-653230376430
DTSTAMP:20260421T111853Z
DESCRIPTION:
DTSTART;VALUE=DATE:20241003
DTEND;VALUE=DATE:20241004
SUMMARY:National Holiday (Tag der Deutschen Einheit)
END:VEVENT
BEGIN:VEVENT
UID:38643937-6566-4535-b731-326164336130
DTSTAMP:20260421T111853Z
DESCRIPTION:
DTSTART;VALUE=DATE:20241004
DTEND;VALUE=DATE:20241012
SUMMARY:Individual Phase
END:VEVENT
END:VCALENDAR
