BEGIN:VCALENDAR
VERSION:2.0
PRODID:-//134.96.226.213//NONSGML kigkonsult.se iCalcreator 2.41.71//
CALSCALE:GREGORIAN
METHOD:PUBLISH
UID:65343737-6538-4335-a139-643363346231
X-WR-CALNAME:Software Engineering Lab (Software-Praktikum) Calendar
X-WR-CALDESC:Events of the lecture Software Engineering Lab (Software-Prakt
 ikum)
X-WR-TIMEZONE:Europe/Berlin
BEGIN:VEVENT
UID:37316163-6237-4431-b432-623463343461
DTSTAMP:20260421T112007Z
DESCRIPTION:
DTSTART;VALUE=DATE:20240905
DTEND;VALUE=DATE:20240907
SUMMARY:Se: Design Review
END:VEVENT
BEGIN:VEVENT
UID:61393734-3965-4964-b536-626233656566
DTSTAMP:20260421T112007Z
DESCRIPTION:
DTSTART;VALUE=DATE:20240909
DTEND;VALUE=DATE:20240910
SUMMARY:Se: Design Review
END:VEVENT
BEGIN:VEVENT
UID:37393633-3663-4131-b936-396531383463
DTSTAMP:20260421T112007Z
DESCRIPTION:
DTSTART;VALUE=DATE:20240911
DTEND;VALUE=DATE:20240914
SUMMARY:Se: Design Defense
END:VEVENT
BEGIN:VEVENT
UID:35343233-3637-4534-b463-376239396331
DTSTAMP:20260421T112007Z
DESCRIPTION:
DTSTART;VALUE=DATE:20240919
DTEND;VALUE=DATE:20240921
SUMMARY:Se: Code Review
END:VEVENT
BEGIN:VEVENT
UID:35636664-3731-4666-b937-666334623635
DTSTAMP:20260421T112007Z
DESCRIPTION:
DTSTART;VALUE=DATE:20240923
DTEND;VALUE=DATE:20240924
SUMMARY:Se: Code Review
END:VEVENT
END:VCALENDAR
