BEGIN:VCALENDAR
VERSION:2.0
PRODID:-//134.96.226.213//NONSGML kigkonsult.se iCalcreator 2.41.71//
CALSCALE:GREGORIAN
METHOD:PUBLISH
UID:62316565-6331-4664-a637-363539363763
X-WR-CALNAME:Software Engineering Lab (Software-Praktikum) Calendar
X-WR-CALDESC:Events of the lecture Software Engineering Lab (Software-Prakt
 ikum)
X-WR-TIMEZONE:Europe/Berlin
BEGIN:VEVENT
UID:30616234-6564-4737-a434-613439613665
DTSTAMP:20260421T111838Z
DESCRIPTION:
DTSTART;VALUE=DATE:20240905
DTEND;VALUE=DATE:20240907
SUMMARY:Design Review
END:VEVENT
BEGIN:VEVENT
UID:64313261-3063-4332-b532-633632643031
DTSTAMP:20260421T111838Z
DESCRIPTION:
DTSTART;VALUE=DATE:20240909
DTEND;VALUE=DATE:20240910
SUMMARY:Design Review
END:VEVENT
BEGIN:VEVENT
UID:37613430-3265-4530-b039-633964646163
DTSTAMP:20260421T111838Z
DESCRIPTION:
DTSTART;VALUE=DATE:20240911
DTEND;VALUE=DATE:20240914
SUMMARY:Design Defense
END:VEVENT
BEGIN:VEVENT
UID:38333337-3734-4864-a232-343035316665
DTSTAMP:20260421T111838Z
DESCRIPTION:
DTSTART;VALUE=DATE:20240919
DTEND;VALUE=DATE:20240921
SUMMARY:Code Review
END:VEVENT
BEGIN:VEVENT
UID:38376339-6235-4565-b735-393466356530
DTSTAMP:20260421T111838Z
DESCRIPTION:
DTSTART;VALUE=DATE:20240923
DTEND;VALUE=DATE:20240924
SUMMARY:Code Review
END:VEVENT
END:VCALENDAR
