BEGIN:VCALENDAR
VERSION:2.0
PRODID:-//134.96.226.213//NONSGML kigkonsult.se iCalcreator 2.41.71//
CALSCALE:GREGORIAN
METHOD:PUBLISH
UID:61613431-3166-4531-a132-633030306361
X-WR-CALNAME:Software Engineering Lab (Software-Praktikum) Calendar
X-WR-CALDESC:Events of the lecture Software Engineering Lab (Software-Prakt
 ikum)
X-WR-TIMEZONE:Europe/Berlin
BEGIN:VEVENT
UID:63333362-6566-4163-b539-626664343664
DTSTAMP:20260421T112028Z
DESCRIPTION:
DTSTART:20240902T215900Z
DTEND:20240902T215900Z
SUMMARY:Se: End of the registration/withdrawal deadline in the LSF
END:VEVENT
BEGIN:VEVENT
UID:64623563-3831-4538-b638-396336653337
DTSTAMP:20260421T112028Z
DESCRIPTION:
DTSTART:20240927T160000Z
DTEND:20240927T160000Z
SUMMARY:Se: Code Submission
END:VEVENT
BEGIN:VEVENT
UID:65393964-3662-4738-b938-373565336262
DTSTAMP:20260421T112028Z
DESCRIPTION:
DTSTART:20241007T140000Z
DTEND:20241007T140000Z
SUMMARY:Se: Design Submission of the Individual Phase
END:VEVENT
BEGIN:VEVENT
UID:62306638-6364-4261-b963-663036666366
DTSTAMP:20260421T112028Z
DESCRIPTION:
DTSTART:20241011T160000Z
DTEND:20241011T160000Z
SUMMARY:Se: Final Submission of the Individual Phase
END:VEVENT
END:VCALENDAR
