BEGIN:VCALENDAR
VERSION:2.0
PRODID:-//134.96.226.213//NONSGML kigkonsult.se iCalcreator 2.41.71//
CALSCALE:GREGORIAN
METHOD:PUBLISH
UID:38366139-6464-4434-a638-393664643133
X-WR-CALNAME:Software Engineering Lab (Software-Praktikum) Calendar
X-WR-CALDESC:Events of the lecture Software Engineering Lab (Software-Prakt
 ikum)
X-WR-TIMEZONE:Europe/Berlin
BEGIN:VEVENT
UID:30363735-6336-4963-a335-383532316537
DTSTAMP:20260421T111853Z
DESCRIPTION:
DTSTART:20240902T215900Z
DTEND:20240902T215900Z
SUMMARY:End of the registration/withdrawal deadline in the LSF
END:VEVENT
BEGIN:VEVENT
UID:36653436-6664-4033-b136-323663346434
DTSTAMP:20260421T111853Z
DESCRIPTION:
DTSTART:20240927T160000Z
DTEND:20240927T160000Z
SUMMARY:Code Submission
END:VEVENT
BEGIN:VEVENT
UID:31626131-3533-4233-b563-323339313131
DTSTAMP:20260421T111853Z
DESCRIPTION:
DTSTART:20241007T140000Z
DTEND:20241007T140000Z
SUMMARY:Design Submission of the Individual Phase
END:VEVENT
BEGIN:VEVENT
UID:32363063-3131-4466-b761-346332326335
DTSTAMP:20260421T111853Z
DESCRIPTION:
DTSTART:20241011T160000Z
DTEND:20241011T160000Z
SUMMARY:Final Submission of the Individual Phase
END:VEVENT
END:VCALENDAR
