BEGIN:VCALENDAR
VERSION:2.0
PRODID:-//134.96.226.213//NONSGML kigkonsult.se iCalcreator 2.41.71//
CALSCALE:GREGORIAN
METHOD:PUBLISH
UID:61653363-3337-4730-b633-396532373966
X-WR-CALNAME:Software Engineering Lab (Software-Praktikum) Calendar
X-WR-CALDESC:Events of the lecture Software Engineering Lab (Software-Prakt
 ikum)
X-WR-TIMEZONE:Europe/Berlin
BEGIN:VEVENT
UID:34376663-3334-4334-a236-633465316237
DTSTAMP:20260421T112034Z
DESCRIPTION:
DTSTART:20240826T120000Z
DTEND:20240826T140000Z
SUMMARY:Se: Tutorial
END:VEVENT
BEGIN:VEVENT
UID:33393330-3266-4462-a530-376463363862
DTSTAMP:20260421T112034Z
DESCRIPTION:
DTSTART:20240827T120000Z
DTEND:20240827T140000Z
SUMMARY:Se: Tutorial
END:VEVENT
BEGIN:VEVENT
UID:61376136-3165-4162-b666-343731616438
DTSTAMP:20260421T112034Z
DESCRIPTION:
DTSTART:20240828T120000Z
DTEND:20240828T140000Z
SUMMARY:Se: Tutorial
END:VEVENT
BEGIN:VEVENT
UID:62386365-3333-4934-b136-303366616561
DTSTAMP:20260421T112034Z
DESCRIPTION:
DTSTART:20240829T120000Z
DTEND:20240829T140000Z
SUMMARY:Se: Tutorial
END:VEVENT
BEGIN:VEVENT
UID:30626436-3335-4661-b939-363636643765
DTSTAMP:20260421T112034Z
DESCRIPTION:
DTSTART:20240902T120000Z
DTEND:20240902T140000Z
SUMMARY:Se: Practical Tutorial
END:VEVENT
BEGIN:VEVENT
UID:36653730-3936-4638-b362-623462656331
DTSTAMP:20260421T112034Z
DESCRIPTION:
DTSTART:20240917T080000Z
DTEND:20240917T090000Z
LOCATION:GHH
SUMMARY:Se: Practical Tutorial Testing and Debugging
END:VEVENT
END:VCALENDAR
