BEGIN:VCALENDAR
VERSION:2.0
PRODID:-//134.96.226.213//NONSGML kigkonsult.se iCalcreator 2.41.71//
CALSCALE:GREGORIAN
METHOD:PUBLISH
UID:38363764-3765-4033-b130-383139376336
X-WR-CALNAME:Software Engineering Lab (Software-Praktikum) Calendar
X-WR-CALDESC:Events of the lecture Software Engineering Lab (Software-Prakt
 ikum)
X-WR-TIMEZONE:Europe/Berlin
BEGIN:VEVENT
UID:35326462-3165-4762-b666-313537333961
DTSTAMP:20260421T111854Z
DESCRIPTION:
DTSTART:20240826T120000Z
DTEND:20240826T140000Z
SUMMARY:Tutorial
END:VEVENT
BEGIN:VEVENT
UID:64643136-3737-4139-b334-636638666135
DTSTAMP:20260421T111854Z
DESCRIPTION:
DTSTART:20240827T120000Z
DTEND:20240827T140000Z
SUMMARY:Tutorial
END:VEVENT
BEGIN:VEVENT
UID:61666661-6430-4263-a536-623031326162
DTSTAMP:20260421T111854Z
DESCRIPTION:
DTSTART:20240828T120000Z
DTEND:20240828T140000Z
SUMMARY:Tutorial
END:VEVENT
BEGIN:VEVENT
UID:35646466-6236-4861-b161-636533393637
DTSTAMP:20260421T111854Z
DESCRIPTION:
DTSTART:20240829T120000Z
DTEND:20240829T140000Z
SUMMARY:Tutorial
END:VEVENT
BEGIN:VEVENT
UID:64393634-3064-4833-b335-376466396563
DTSTAMP:20260421T111854Z
DESCRIPTION:
DTSTART:20240902T120000Z
DTEND:20240902T140000Z
SUMMARY:Practical Tutorial
END:VEVENT
BEGIN:VEVENT
UID:35643733-3632-4566-b964-353631363935
DTSTAMP:20260421T111854Z
DESCRIPTION:
DTSTART:20240917T080000Z
DTEND:20240917T090000Z
LOCATION:GHH
SUMMARY:Practical Tutorial Testing and Debugging
END:VEVENT
END:VCALENDAR
