BEGIN:VCALENDAR
VERSION:2.0
PRODID:-//134.96.226.213//NONSGML kigkonsult.se iCalcreator 2.41.71//
CALSCALE:GREGORIAN
METHOD:PUBLISH
UID:61353436-6439-4161-b332-616330663334
X-WR-CALNAME:Software Engineering Lab (Software-Praktikum) Calendar
X-WR-CALDESC:Events of the lecture Software Engineering Lab (Software-Prakt
 ikum)
X-WR-TIMEZONE:Europe/Berlin
BEGIN:VEVENT
UID:65363532-3932-4661-b632-333734303365
DTSTAMP:20260421T124728Z
DESCRIPTION:
DTSTART:20240923T120000Z
DTEND:20240923T140000Z
LOCATION:206 E1 1
SUMMARY:Se: Office Hour
END:VEVENT
BEGIN:VEVENT
UID:35626636-3361-4364-b132-383761383138
DTSTAMP:20260421T124728Z
DESCRIPTION:
DTSTART:20240924T120000Z
DTEND:20240924T140000Z
LOCATION:407 E1 1
SUMMARY:Se: Office Hour
END:VEVENT
BEGIN:VEVENT
UID:63653033-3730-4431-a432-663465353865
DTSTAMP:20260421T124728Z
DESCRIPTION:
DTSTART:20240925T120000Z
DTEND:20240925T140000Z
LOCATION:206 E1 1
SUMMARY:Se: Office Hour
END:VEVENT
BEGIN:VEVENT
UID:38636138-6166-4730-b832-323030303131
DTSTAMP:20260421T124728Z
DESCRIPTION:
DTSTART:20240926T120000Z
DTEND:20240926T140000Z
LOCATION:206 E1 1
SUMMARY:Se: Office Hour
END:VEVENT
BEGIN:VEVENT
UID:38643533-6263-4039-a364-313431666338
DTSTAMP:20260421T124728Z
DESCRIPTION:
DTSTART:20240927T120000Z
DTEND:20240927T160000Z
LOCATION:013 E1 2
SUMMARY:Se: Office Hour
END:VEVENT
BEGIN:VEVENT
UID:61663533-6665-4438-a135-336262373530
DTSTAMP:20260421T124728Z
DESCRIPTION:
DTSTART:20241007T080000Z
DTEND:20241007T100000Z
LOCATION:SR 015 E1 3
SUMMARY:Se: Office Hour
END:VEVENT
BEGIN:VEVENT
UID:66356532-3435-4466-b733-393830336434
DTSTAMP:20260421T124728Z
DESCRIPTION:
DTSTART:20241007T120000Z
DTEND:20241007T140000Z
LOCATION:SR 015 E1 3
SUMMARY:Se: Office Hour
END:VEVENT
BEGIN:VEVENT
UID:38313861-3732-4130-b639-393032643864
DTSTAMP:20260421T124728Z
DESCRIPTION:
DTSTART:20241008T080000Z
DTEND:20241008T100000Z
LOCATION:SR 015 E1 3
SUMMARY:Se: Office Hour
END:VEVENT
BEGIN:VEVENT
UID:30326530-3135-4461-a237-623134303332
DTSTAMP:20260421T124728Z
DESCRIPTION:
DTSTART:20241008T120000Z
DTEND:20241008T140000Z
LOCATION:SR 015 E1 3
SUMMARY:Se: Office Hour
END:VEVENT
BEGIN:VEVENT
UID:39316366-6133-4564-b738-313337653564
DTSTAMP:20260421T124728Z
DESCRIPTION:
DTSTART:20241009T080000Z
DTEND:20241009T100000Z
LOCATION:SR 014 E1 3
SUMMARY:Se: Office Hour
END:VEVENT
BEGIN:VEVENT
UID:34643437-3965-4236-b137-363661626633
DTSTAMP:20260421T124728Z
DESCRIPTION:
DTSTART:20241009T120000Z
DTEND:20241009T140000Z
LOCATION:SR 206 E1 1
SUMMARY:Se: Office Hour
END:VEVENT
BEGIN:VEVENT
UID:36613839-3063-4135-b562-656638363034
DTSTAMP:20260421T124728Z
DESCRIPTION:
DTSTART:20241010T080000Z
DTEND:20241010T100000Z
LOCATION:SR 206 E1 1
SUMMARY:Se: Office Hour
END:VEVENT
BEGIN:VEVENT
UID:66386338-6132-4236-b332-646161613461
DTSTAMP:20260421T124728Z
DESCRIPTION:
DTSTART:20241010T120000Z
DTEND:20241010T140000Z
LOCATION:SR 206 E1 1
SUMMARY:Se: Office Hour
END:VEVENT
BEGIN:VEVENT
UID:63366330-6438-4866-a631-326362653536
DTSTAMP:20260421T124728Z
DESCRIPTION:
DTSTART:20241011T080000Z
DTEND:20241011T100000Z
LOCATION:407 E1 1
SUMMARY:Se: Office Hour
END:VEVENT
BEGIN:VEVENT
UID:66393038-3738-4138-b136-343565303063
DTSTAMP:20260421T124728Z
DESCRIPTION:
DTSTART:20241011T120000Z
DTEND:20241011T160000Z
LOCATION:407 E1 1
SUMMARY:Se: Office Hour
END:VEVENT
END:VCALENDAR
