BEGIN:VCALENDAR
VERSION:2.0
PRODID:-//134.96.226.213//NONSGML kigkonsult.se iCalcreator 2.41.71//
CALSCALE:GREGORIAN
METHOD:PUBLISH
UID:62653632-6430-4830-a565-303035393564
X-WR-CALNAME:Software Engineering Lab (Software-Praktikum) Calendar
X-WR-CALDESC:Events of the lecture Software Engineering Lab (Software-Prakt
 ikum)
X-WR-TIMEZONE:Europe/Berlin
BEGIN:VEVENT
UID:62656661-6133-4532-a565-353765633065
DTSTAMP:20260421T111838Z
DESCRIPTION:
DTSTART:20240923T120000Z
DTEND:20240923T140000Z
LOCATION:206 E1 1
SUMMARY:Office Hour
END:VEVENT
BEGIN:VEVENT
UID:66373837-6137-4664-b237-626532383363
DTSTAMP:20260421T111838Z
DESCRIPTION:
DTSTART:20240924T120000Z
DTEND:20240924T140000Z
LOCATION:407 E1 1
SUMMARY:Office Hour
END:VEVENT
BEGIN:VEVENT
UID:32643134-3239-4965-b834-306564373731
DTSTAMP:20260421T111838Z
DESCRIPTION:
DTSTART:20240925T120000Z
DTEND:20240925T140000Z
LOCATION:206 E1 1
SUMMARY:Office Hour
END:VEVENT
BEGIN:VEVENT
UID:31396436-3037-4835-a263-306465656430
DTSTAMP:20260421T111838Z
DESCRIPTION:
DTSTART:20240926T120000Z
DTEND:20240926T140000Z
LOCATION:206 E1 1
SUMMARY:Office Hour
END:VEVENT
BEGIN:VEVENT
UID:33643761-3935-4736-b832-336538346434
DTSTAMP:20260421T111838Z
DESCRIPTION:
DTSTART:20240927T120000Z
DTEND:20240927T160000Z
LOCATION:013 E1 2
SUMMARY:Office Hour
END:VEVENT
BEGIN:VEVENT
UID:34666534-6431-4333-b533-663562396565
DTSTAMP:20260421T111838Z
DESCRIPTION:
DTSTART:20241007T080000Z
DTEND:20241007T100000Z
LOCATION:SR 015 E1 3
SUMMARY:Office Hour
END:VEVENT
BEGIN:VEVENT
UID:32613036-3663-4737-b134-636534393638
DTSTAMP:20260421T111838Z
DESCRIPTION:
DTSTART:20241007T120000Z
DTEND:20241007T140000Z
LOCATION:SR 015 E1 3
SUMMARY:Office Hour
END:VEVENT
BEGIN:VEVENT
UID:36316234-3562-4665-b464-333839396463
DTSTAMP:20260421T111838Z
DESCRIPTION:
DTSTART:20241008T080000Z
DTEND:20241008T100000Z
LOCATION:SR 015 E1 3
SUMMARY:Office Hour
END:VEVENT
BEGIN:VEVENT
UID:35393562-3735-4566-a530-373763366337
DTSTAMP:20260421T111838Z
DESCRIPTION:
DTSTART:20241008T120000Z
DTEND:20241008T140000Z
LOCATION:SR 015 E1 3
SUMMARY:Office Hour
END:VEVENT
BEGIN:VEVENT
UID:36396634-6463-4435-b236-346165383362
DTSTAMP:20260421T111838Z
DESCRIPTION:
DTSTART:20241009T080000Z
DTEND:20241009T100000Z
LOCATION:SR 014 E1 3
SUMMARY:Office Hour
END:VEVENT
BEGIN:VEVENT
UID:63653330-6437-4161-b033-313661326232
DTSTAMP:20260421T111838Z
DESCRIPTION:
DTSTART:20241009T120000Z
DTEND:20241009T140000Z
LOCATION:SR 206 E1 1
SUMMARY:Office Hour
END:VEVENT
BEGIN:VEVENT
UID:37373033-3331-4939-a137-343330616338
DTSTAMP:20260421T111838Z
DESCRIPTION:
DTSTART:20241010T080000Z
DTEND:20241010T100000Z
LOCATION:SR 206 E1 1
SUMMARY:Office Hour
END:VEVENT
BEGIN:VEVENT
UID:66393962-3761-4731-b535-366365626537
DTSTAMP:20260421T111838Z
DESCRIPTION:
DTSTART:20241010T120000Z
DTEND:20241010T140000Z
LOCATION:SR 206 E1 1
SUMMARY:Office Hour
END:VEVENT
BEGIN:VEVENT
UID:61363766-6232-4531-a165-636533363139
DTSTAMP:20260421T111838Z
DESCRIPTION:
DTSTART:20241011T080000Z
DTEND:20241011T100000Z
LOCATION:407 E1 1
SUMMARY:Office Hour
END:VEVENT
BEGIN:VEVENT
UID:62356261-6435-4839-a364-373033646161
DTSTAMP:20260421T111838Z
DESCRIPTION:
DTSTART:20241011T120000Z
DTEND:20241011T160000Z
LOCATION:407 E1 1
SUMMARY:Office Hour
END:VEVENT
END:VCALENDAR
